BEGIN:VCALENDAR
VERSION:2.0
PRODID:-//Baldwin County Master Gardeners - ECPv6.15.20//NONSGML v1.0//EN
CALSCALE:GREGORIAN
METHOD:PUBLISH
X-WR-CALNAME:Baldwin County Master Gardeners
X-ORIGINAL-URL:https://baldwinmastergardeners.com
X-WR-CALDESC:Events for Baldwin County Master Gardeners
REFRESH-INTERVAL;VALUE=DURATION:PT1H
X-Robots-Tag:noindex
X-PUBLISHED-TTL:PT1H
BEGIN:VTIMEZONE
TZID:America/Chicago
BEGIN:DAYLIGHT
TZOFFSETFROM:-0600
TZOFFSETTO:-0500
TZNAME:CDT
DTSTART:20240310T080000
END:DAYLIGHT
BEGIN:STANDARD
TZOFFSETFROM:-0500
TZOFFSETTO:-0600
TZNAME:CST
DTSTART:20241103T070000
END:STANDARD
BEGIN:DAYLIGHT
TZOFFSETFROM:-0600
TZOFFSETTO:-0500
TZNAME:CDT
DTSTART:20250309T080000
END:DAYLIGHT
BEGIN:STANDARD
TZOFFSETFROM:-0500
TZOFFSETTO:-0600
TZNAME:CST
DTSTART:20251102T070000
END:STANDARD
BEGIN:DAYLIGHT
TZOFFSETFROM:-0600
TZOFFSETTO:-0500
TZNAME:CDT
DTSTART:20260308T080000
END:DAYLIGHT
BEGIN:STANDARD
TZOFFSETFROM:-0500
TZOFFSETTO:-0600
TZNAME:CST
DTSTART:20261101T070000
END:STANDARD
END:VTIMEZONE
BEGIN:VEVENT
DTSTART;TZID=America/Chicago:20250409T090000
DTEND;TZID=America/Chicago:20250409T160000
DTSTAMP:20260424T064725
CREATED:20241031T060551Z
LAST-MODIFIED:20250410T133747Z
UID:5273-1744189200-1744214400@baldwinmastergardeners.com
SUMMARY:BCMG Spring Plant Sale - Setup & Member Pre-sale
DESCRIPTION:9:00 am –  Volunteers continuing organize plants\n11:30 am – Lunch (Pot Luck\, everyone brings a dish)\n12:30 pm – Plant sale begins for Master Gardeners & Interns\n2:30 pm – Organize plants and tables for the plant sale
URL:https://baldwinmastergardeners.com/calendar/bcmg-april-monthly-meeting-930-am-social-1000-am-meeting/
LOCATION:Weeks Bay Foundation (Across from Weeks Bay Reserve)\, 11401 US-98\,\, Fairhope\, AL\, 36532\, United States
CATEGORIES:Events Calendar
ORGANIZER;CN="Baldwin County Master Gardeners":MAILTO:info@baldwinmastergardeners.com
END:VEVENT
BEGIN:VEVENT
DTSTART;TZID=America/Chicago:20250409T093000
DTEND;TZID=America/Chicago:20250409T120000
DTSTAMP:20260424T064725
CREATED:20250410T133537Z
LAST-MODIFIED:20250410T133937Z
UID:5943-1744191000-1744200000@baldwinmastergardeners.com
SUMMARY:BCMG April Monthly Meeting
DESCRIPTION:No Business meeting\, only education portion (1 hour CEU). \nSpeaker: Rita Moore of the Wiregrass Master Gardener\nTopic: Daylilies\n 
URL:https://baldwinmastergardeners.com/calendar/bcmg-april-monthly-meeting/
LOCATION:Auburn Gulf Coast Research and Extension Center\, 8300 State Highway 104\, Fairhope\, AL\, 36532\, United States
CATEGORIES:Events Calendar
ORGANIZER;CN="Baldwin County Master Gardeners":MAILTO:info@baldwinmastergardeners.com
END:VEVENT
END:VCALENDAR