BEGIN:VCALENDAR
VERSION:2.0
PRODID:-//Baldwin County Master Gardeners - ECPv6.15.20//NONSGML v1.0//EN
CALSCALE:GREGORIAN
METHOD:PUBLISH
X-WR-CALNAME:Baldwin County Master Gardeners
X-ORIGINAL-URL:https://baldwinmastergardeners.com
X-WR-CALDESC:Events for Baldwin County Master Gardeners
REFRESH-INTERVAL;VALUE=DURATION:PT1H
X-Robots-Tag:noindex
X-PUBLISHED-TTL:PT1H
BEGIN:VTIMEZONE
TZID:America/Chicago
BEGIN:DAYLIGHT
TZOFFSETFROM:-0600
TZOFFSETTO:-0500
TZNAME:CDT
DTSTART:20250309T080000
END:DAYLIGHT
BEGIN:STANDARD
TZOFFSETFROM:-0500
TZOFFSETTO:-0600
TZNAME:CST
DTSTART:20251102T070000
END:STANDARD
BEGIN:DAYLIGHT
TZOFFSETFROM:-0600
TZOFFSETTO:-0500
TZNAME:CDT
DTSTART:20260308T080000
END:DAYLIGHT
BEGIN:STANDARD
TZOFFSETFROM:-0500
TZOFFSETTO:-0600
TZNAME:CST
DTSTART:20261101T070000
END:STANDARD
BEGIN:DAYLIGHT
TZOFFSETFROM:-0600
TZOFFSETTO:-0500
TZNAME:CDT
DTSTART:20270314T080000
END:DAYLIGHT
BEGIN:STANDARD
TZOFFSETFROM:-0500
TZOFFSETTO:-0600
TZNAME:CST
DTSTART:20271107T070000
END:STANDARD
END:VTIMEZONE
BEGIN:VEVENT
DTSTART;TZID=America/Chicago:20260121T120000
DTEND;TZID=America/Chicago:20260121T130000
DTSTAMP:20260423T153507
CREATED:20260115T062043Z
LAST-MODIFIED:20260115T062043Z
UID:6823-1768996800-1769000400@baldwinmastergardeners.com
SUMMARY:ACES Natural Resources Webinar Series-2026: Year of Alabama Invasive Plant Awareness
DESCRIPTION:Click here to register.\nNon-native\, invasive plants harm ecosystems\, economy\, and human health.  Join to learn what Extension and partners are doing in 2026 to increase public awareness\, strengthen identification skills\, and encourage action for controlling invasive plants.
URL:https://baldwinmastergardeners.com/calendar/aces-natural-resources-webinar-series-2026-year-of-alabama-invasive-plant-awareness/
CATEGORIES:Events Calendar
END:VEVENT
END:VCALENDAR