BEGIN:VCALENDAR
VERSION:2.0
PRODID:-//Baldwin County Master Gardeners - ECPv6.15.20//NONSGML v1.0//EN
CALSCALE:GREGORIAN
METHOD:PUBLISH
X-ORIGINAL-URL:https://baldwinmastergardeners.com
X-WR-CALDESC:Events for Baldwin County Master Gardeners
REFRESH-INTERVAL;VALUE=DURATION:PT1H
X-Robots-Tag:noindex
X-PUBLISHED-TTL:PT1H
BEGIN:VTIMEZONE
TZID:America/Chicago
BEGIN:DAYLIGHT
TZOFFSETFROM:-0600
TZOFFSETTO:-0500
TZNAME:CDT
DTSTART:20240310T080000
END:DAYLIGHT
BEGIN:STANDARD
TZOFFSETFROM:-0500
TZOFFSETTO:-0600
TZNAME:CST
DTSTART:20241103T070000
END:STANDARD
BEGIN:DAYLIGHT
TZOFFSETFROM:-0600
TZOFFSETTO:-0500
TZNAME:CDT
DTSTART:20250309T080000
END:DAYLIGHT
BEGIN:STANDARD
TZOFFSETFROM:-0500
TZOFFSETTO:-0600
TZNAME:CST
DTSTART:20251102T070000
END:STANDARD
BEGIN:DAYLIGHT
TZOFFSETFROM:-0600
TZOFFSETTO:-0500
TZNAME:CDT
DTSTART:20260308T080000
END:DAYLIGHT
BEGIN:STANDARD
TZOFFSETFROM:-0500
TZOFFSETTO:-0600
TZNAME:CST
DTSTART:20261101T070000
END:STANDARD
END:VTIMEZONE
BEGIN:VEVENT
DTSTART;TZID=America/Chicago:20251103T083000
DTEND;TZID=America/Chicago:20251103T103000
DTSTAMP:20260423T155548
CREATED:20251119T060831Z
LAST-MODIFIED:20251119T060933Z
UID:6522-1762158600-1762165800@baldwinmastergardeners.com
SUMMARY:BCMG Greenhouse - CACC
DESCRIPTION:Every Monday and Thursday 8:30am -10:30am.
URL:https://baldwinmastergardeners.com/calendar/bcmg-greenhouse-cacc-42/
LOCATION:Costal Alabama Community College\, 450 Fairhope Ave\, Fairhope\, AL\, 36532\, United States
CATEGORIES:Greenhouse Schedule
END:VEVENT
BEGIN:VEVENT
DTSTART;TZID=America/Chicago:20251106T083000
DTEND;TZID=America/Chicago:20251106T103000
DTSTAMP:20260423T155548
CREATED:20251119T061114Z
LAST-MODIFIED:20251119T061114Z
UID:6528-1762417800-1762425000@baldwinmastergardeners.com
SUMMARY:BCMG Greenhouse - CACC
DESCRIPTION:Every Monday and Thursday 8:30am -10:30am.
URL:https://baldwinmastergardeners.com/calendar/bcmg-greenhouse-cacc-45/
LOCATION:Costal Alabama Community College\, 450 Fairhope Ave\, Fairhope\, AL\, 36532\, United States
CATEGORIES:Greenhouse Schedule
END:VEVENT
BEGIN:VEVENT
DTSTART;TZID=America/Chicago:20251110T083000
DTEND;TZID=America/Chicago:20251110T103000
DTSTAMP:20260423T155548
CREATED:20251119T061009Z
LAST-MODIFIED:20251119T061009Z
UID:6524-1762763400-1762770600@baldwinmastergardeners.com
SUMMARY:BCMG Greenhouse - CACC
DESCRIPTION:Every Monday and Thursday 8:30am -10:30am.
URL:https://baldwinmastergardeners.com/calendar/bcmg-greenhouse-cacc-43/
LOCATION:Costal Alabama Community College\, 450 Fairhope Ave\, Fairhope\, AL\, 36532\, United States
CATEGORIES:Greenhouse Schedule
END:VEVENT
BEGIN:VEVENT
DTSTART;TZID=America/Chicago:20251113T083000
DTEND;TZID=America/Chicago:20251113T103000
DTSTAMP:20260423T155548
CREATED:20251119T061139Z
LAST-MODIFIED:20251119T061139Z
UID:6530-1763022600-1763029800@baldwinmastergardeners.com
SUMMARY:BCMG Greenhouse - CACC
DESCRIPTION:Every Monday and Thursday 8:30am -10:30am.
URL:https://baldwinmastergardeners.com/calendar/bcmg-greenhouse-cacc-46/
LOCATION:Costal Alabama Community College\, 450 Fairhope Ave\, Fairhope\, AL\, 36532\, United States
CATEGORIES:Greenhouse Schedule
END:VEVENT
BEGIN:VEVENT
DTSTART;TZID=America/Chicago:20251117T083000
DTEND;TZID=America/Chicago:20251117T103000
DTSTAMP:20260423T155548
CREATED:20251119T061043Z
LAST-MODIFIED:20251119T061043Z
UID:6526-1763368200-1763375400@baldwinmastergardeners.com
SUMMARY:BCMG Greenhouse - CACC
DESCRIPTION:Every Monday and Thursday 8:30am -10:30am.
URL:https://baldwinmastergardeners.com/calendar/bcmg-greenhouse-cacc-44/
LOCATION:Costal Alabama Community College\, 450 Fairhope Ave\, Fairhope\, AL\, 36532\, United States
CATEGORIES:Greenhouse Schedule
END:VEVENT
BEGIN:VEVENT
DTSTART;TZID=America/Chicago:20251120T083000
DTEND;TZID=America/Chicago:20251120T103000
DTSTAMP:20260423T155548
CREATED:20251119T061202Z
LAST-MODIFIED:20251119T061202Z
UID:6532-1763627400-1763634600@baldwinmastergardeners.com
SUMMARY:BCMG Greenhouse - CACC
DESCRIPTION:Every Monday and Thursday 8:30am -10:30am.
URL:https://baldwinmastergardeners.com/calendar/bcmg-greenhouse-cacc-47/
LOCATION:Costal Alabama Community College\, 450 Fairhope Ave\, Fairhope\, AL\, 36532\, United States
CATEGORIES:Greenhouse Schedule
END:VEVENT
BEGIN:VEVENT
DTSTART;TZID=America/Chicago:20251124T083000
DTEND;TZID=America/Chicago:20251124T103000
DTSTAMP:20260423T155548
CREATED:20251119T061223Z
LAST-MODIFIED:20251119T062252Z
UID:6534-1763973000-1763980200@baldwinmastergardeners.com
SUMMARY:BCMG Greenhouse - CACC
DESCRIPTION:Every Monday and Thursday 8:30am -10:30am.
URL:https://baldwinmastergardeners.com/calendar/bcmg-greenhouse-cacc-48/
LOCATION:Costal Alabama Community College\, 450 Fairhope Ave\, Fairhope\, AL\, 36532\, United States
CATEGORIES:Greenhouse Schedule
END:VEVENT
END:VCALENDAR