BEGIN:VCALENDAR
VERSION:2.0
PRODID:-//Baldwin County Master Gardeners - ECPv6.15.20//NONSGML v1.0//EN
CALSCALE:GREGORIAN
METHOD:PUBLISH
X-WR-CALNAME:Baldwin County Master Gardeners
X-ORIGINAL-URL:https://baldwinmastergardeners.com
X-WR-CALDESC:Events for Baldwin County Master Gardeners
REFRESH-INTERVAL;VALUE=DURATION:PT1H
X-Robots-Tag:noindex
X-PUBLISHED-TTL:PT1H
BEGIN:VTIMEZONE
TZID:America/Chicago
BEGIN:DAYLIGHT
TZOFFSETFROM:-0600
TZOFFSETTO:-0500
TZNAME:CDT
DTSTART:20240310T080000
END:DAYLIGHT
BEGIN:STANDARD
TZOFFSETFROM:-0500
TZOFFSETTO:-0600
TZNAME:CST
DTSTART:20241103T070000
END:STANDARD
BEGIN:DAYLIGHT
TZOFFSETFROM:-0600
TZOFFSETTO:-0500
TZNAME:CDT
DTSTART:20250309T080000
END:DAYLIGHT
BEGIN:STANDARD
TZOFFSETFROM:-0500
TZOFFSETTO:-0600
TZNAME:CST
DTSTART:20251102T070000
END:STANDARD
BEGIN:DAYLIGHT
TZOFFSETFROM:-0600
TZOFFSETTO:-0500
TZNAME:CDT
DTSTART:20260308T080000
END:DAYLIGHT
BEGIN:STANDARD
TZOFFSETFROM:-0500
TZOFFSETTO:-0600
TZNAME:CST
DTSTART:20261101T070000
END:STANDARD
END:VTIMEZONE
BEGIN:VEVENT
DTSTART;TZID=America/Chicago:20251201T083000
DTEND;TZID=America/Chicago:20251201T103000
DTSTAMP:20260423T142522
CREATED:20251119T061301Z
LAST-MODIFIED:20251119T061301Z
UID:6536-1764577800-1764585000@baldwinmastergardeners.com
SUMMARY:BCMG Greenhouse - CACC
DESCRIPTION:Every Monday and Thursday 8:30am -10:30am.
URL:https://baldwinmastergardeners.com/calendar/bcmg-greenhouse-cacc-49/
LOCATION:Costal Alabama Community College\, 450 Fairhope Ave\, Fairhope\, AL\, 36532\, United States
CATEGORIES:Greenhouse Schedule
END:VEVENT
BEGIN:VEVENT
DTSTART;TZID=America/Chicago:20251204T083000
DTEND;TZID=America/Chicago:20251204T103000
DTSTAMP:20260423T142522
CREATED:20251119T061423Z
LAST-MODIFIED:20251119T061423Z
UID:6544-1764837000-1764844200@baldwinmastergardeners.com
SUMMARY:BCMG Greenhouse - CACC
DESCRIPTION:Every Monday and Thursday 8:30am -10:30am.
URL:https://baldwinmastergardeners.com/calendar/bcmg-greenhouse-cacc-53/
LOCATION:Costal Alabama Community College\, 450 Fairhope Ave\, Fairhope\, AL\, 36532\, United States
CATEGORIES:Greenhouse Schedule
END:VEVENT
BEGIN:VEVENT
DTSTART;TZID=America/Chicago:20251208T083000
DTEND;TZID=America/Chicago:20251208T103000
DTSTAMP:20260423T142522
CREATED:20251119T061333Z
LAST-MODIFIED:20251119T061333Z
UID:6538-1765182600-1765189800@baldwinmastergardeners.com
SUMMARY:BCMG Greenhouse - CACC
DESCRIPTION:Every Monday and Thursday 8:30am -10:30am.
URL:https://baldwinmastergardeners.com/calendar/bcmg-greenhouse-cacc-50/
LOCATION:Costal Alabama Community College\, 450 Fairhope Ave\, Fairhope\, AL\, 36532\, United States
CATEGORIES:Greenhouse Schedule
END:VEVENT
BEGIN:VEVENT
DTSTART;TZID=America/Chicago:20251211T083000
DTEND;TZID=America/Chicago:20251211T103000
DTSTAMP:20260423T142522
CREATED:20251119T061439Z
LAST-MODIFIED:20251119T061439Z
UID:6546-1765441800-1765449000@baldwinmastergardeners.com
SUMMARY:BCMG Greenhouse - CACC
DESCRIPTION:Every Monday and Thursday 8:30am -10:30am.
URL:https://baldwinmastergardeners.com/calendar/bcmg-greenhouse-cacc-54/
LOCATION:Costal Alabama Community College\, 450 Fairhope Ave\, Fairhope\, AL\, 36532\, United States
CATEGORIES:Greenhouse Schedule
END:VEVENT
BEGIN:VEVENT
DTSTART;TZID=America/Chicago:20251215T083000
DTEND;TZID=America/Chicago:20251215T103000
DTSTAMP:20260423T142522
CREATED:20251119T061349Z
LAST-MODIFIED:20251119T061349Z
UID:6540-1765787400-1765794600@baldwinmastergardeners.com
SUMMARY:BCMG Greenhouse - CACC
DESCRIPTION:Every Monday and Thursday 8:30am -10:30am.
URL:https://baldwinmastergardeners.com/calendar/bcmg-greenhouse-cacc-51/
LOCATION:Costal Alabama Community College\, 450 Fairhope Ave\, Fairhope\, AL\, 36532\, United States
CATEGORIES:Greenhouse Schedule
END:VEVENT
BEGIN:VEVENT
DTSTART;TZID=America/Chicago:20251218T083000
DTEND;TZID=America/Chicago:20251218T103000
DTSTAMP:20260423T142522
CREATED:20251119T061452Z
LAST-MODIFIED:20251119T061452Z
UID:6548-1766046600-1766053800@baldwinmastergardeners.com
SUMMARY:BCMG Greenhouse - CACC
DESCRIPTION:Every Monday and Thursday 8:30am -10:30am.
URL:https://baldwinmastergardeners.com/calendar/bcmg-greenhouse-cacc-55/
LOCATION:Costal Alabama Community College\, 450 Fairhope Ave\, Fairhope\, AL\, 36532\, United States
CATEGORIES:Greenhouse Schedule
END:VEVENT
BEGIN:VEVENT
DTSTART;TZID=America/Chicago:20251222T083000
DTEND;TZID=America/Chicago:20251222T103000
DTSTAMP:20260423T142522
CREATED:20251119T061406Z
LAST-MODIFIED:20251119T061406Z
UID:6542-1766392200-1766399400@baldwinmastergardeners.com
SUMMARY:BCMG Greenhouse - CACC
DESCRIPTION:Every Monday and Thursday 8:30am -10:30am.
URL:https://baldwinmastergardeners.com/calendar/bcmg-greenhouse-cacc-52/
LOCATION:Costal Alabama Community College\, 450 Fairhope Ave\, Fairhope\, AL\, 36532\, United States
CATEGORIES:Greenhouse Schedule
END:VEVENT
BEGIN:VEVENT
DTSTART;TZID=America/Chicago:20251229T083000
DTEND;TZID=America/Chicago:20251229T103000
DTSTAMP:20260423T142522
CREATED:20251119T061532Z
LAST-MODIFIED:20251119T061532Z
UID:6550-1766997000-1767004200@baldwinmastergardeners.com
SUMMARY:BCMG Greenhouse - CACC
DESCRIPTION:Every Monday and Thursday 8:30am -10:30am.
URL:https://baldwinmastergardeners.com/calendar/bcmg-greenhouse-cacc-56/
LOCATION:Costal Alabama Community College\, 450 Fairhope Ave\, Fairhope\, AL\, 36532\, United States
CATEGORIES:Greenhouse Schedule
END:VEVENT
END:VCALENDAR