BEGIN:VCALENDAR
VERSION:2.0
PRODID:-//Baldwin County Master Gardeners - ECPv6.15.20//NONSGML v1.0//EN
CALSCALE:GREGORIAN
METHOD:PUBLISH
X-ORIGINAL-URL:https://baldwinmastergardeners.com
X-WR-CALDESC:Events for Baldwin County Master Gardeners
REFRESH-INTERVAL;VALUE=DURATION:PT1H
X-Robots-Tag:noindex
X-PUBLISHED-TTL:PT1H
BEGIN:VTIMEZONE
TZID:America/Chicago
BEGIN:DAYLIGHT
TZOFFSETFROM:-0600
TZOFFSETTO:-0500
TZNAME:CDT
DTSTART:20250309T080000
END:DAYLIGHT
BEGIN:STANDARD
TZOFFSETFROM:-0500
TZOFFSETTO:-0600
TZNAME:CST
DTSTART:20251102T070000
END:STANDARD
BEGIN:DAYLIGHT
TZOFFSETFROM:-0600
TZOFFSETTO:-0500
TZNAME:CDT
DTSTART:20260308T080000
END:DAYLIGHT
BEGIN:STANDARD
TZOFFSETFROM:-0500
TZOFFSETTO:-0600
TZNAME:CST
DTSTART:20261101T070000
END:STANDARD
BEGIN:DAYLIGHT
TZOFFSETFROM:-0600
TZOFFSETTO:-0500
TZNAME:CDT
DTSTART:20270314T080000
END:DAYLIGHT
BEGIN:STANDARD
TZOFFSETFROM:-0500
TZOFFSETTO:-0600
TZNAME:CST
DTSTART:20271107T070000
END:STANDARD
END:VTIMEZONE
BEGIN:VEVENT
DTSTART;TZID=America/Chicago:20260817T083000
DTEND;TZID=America/Chicago:20260817T103000
DTSTAMP:20260423T173204
CREATED:20260114T101419Z
LAST-MODIFIED:20260114T101419Z
UID:6790-1786955400-1786962600@baldwinmastergardeners.com
SUMMARY:BCMG Greenhouse - CACC
DESCRIPTION:Summer Weeding at the CACC Pollinator Garden — Every First and Third Monday\, 8:30–10:30 AM
URL:https://baldwinmastergardeners.com/calendar/bcmg-greenhouse-cacc-97/
LOCATION:Costal Alabama Community College\, 450 Fairhope Ave\, Fairhope\, AL\, 36532\, United States
CATEGORIES:Greenhouse Schedule
END:VEVENT
BEGIN:VEVENT
DTSTART;TZID=America/Chicago:20260831T083000
DTEND;TZID=America/Chicago:20260831T103000
DTSTAMP:20260423T173204
CREATED:20260114T101434Z
LAST-MODIFIED:20260114T101434Z
UID:6792-1788165000-1788172200@baldwinmastergardeners.com
SUMMARY:BCMG Greenhouse - CACC
DESCRIPTION:Summer Weeding at the CACC Pollinator Garden — Every First and Third Monday\, 8:30–10:30 AM
URL:https://baldwinmastergardeners.com/calendar/bcmg-greenhouse-cacc-98/
LOCATION:Costal Alabama Community College\, 450 Fairhope Ave\, Fairhope\, AL\, 36532\, United States
CATEGORIES:Greenhouse Schedule
END:VEVENT
END:VCALENDAR