BEGIN:VCALENDAR
VERSION:2.0
PRODID:-//Baldwin County Master Gardeners - ECPv6.15.20//NONSGML v1.0//EN
CALSCALE:GREGORIAN
METHOD:PUBLISH
X-WR-CALNAME:Baldwin County Master Gardeners
X-ORIGINAL-URL:https://baldwinmastergardeners.com
X-WR-CALDESC:Events for Baldwin County Master Gardeners
REFRESH-INTERVAL;VALUE=DURATION:PT1H
X-Robots-Tag:noindex
X-PUBLISHED-TTL:PT1H
BEGIN:VTIMEZONE
TZID:America/Chicago
BEGIN:DAYLIGHT
TZOFFSETFROM:-0600
TZOFFSETTO:-0500
TZNAME:CDT
DTSTART:20240310T080000
END:DAYLIGHT
BEGIN:STANDARD
TZOFFSETFROM:-0500
TZOFFSETTO:-0600
TZNAME:CST
DTSTART:20241103T070000
END:STANDARD
BEGIN:DAYLIGHT
TZOFFSETFROM:-0600
TZOFFSETTO:-0500
TZNAME:CDT
DTSTART:20250309T080000
END:DAYLIGHT
BEGIN:STANDARD
TZOFFSETFROM:-0500
TZOFFSETTO:-0600
TZNAME:CST
DTSTART:20251102T070000
END:STANDARD
BEGIN:DAYLIGHT
TZOFFSETFROM:-0600
TZOFFSETTO:-0500
TZNAME:CDT
DTSTART:20260308T080000
END:DAYLIGHT
BEGIN:STANDARD
TZOFFSETFROM:-0500
TZOFFSETTO:-0600
TZNAME:CST
DTSTART:20261101T070000
END:STANDARD
END:VTIMEZONE
BEGIN:VEVENT
DTSTART;TZID=America/Chicago:20251009T083000
DTEND;TZID=America/Chicago:20251009T103000
DTSTAMP:20260423T190607
CREATED:20251119T061732Z
LAST-MODIFIED:20251119T061732Z
UID:6558-1759998600-1760005800@baldwinmastergardeners.com
SUMMARY:BCMG Greenhouse - CACC
DESCRIPTION:Every Monday and Thursday 8:30am -10:30am.
URL:https://baldwinmastergardeners.com/calendar/bcmg-greenhouse-cacc-60/
LOCATION:Costal Alabama Community College\, 450 Fairhope Ave\, Fairhope\, AL\, 36532\, United States
CATEGORIES:Greenhouse Schedule
END:VEVENT
BEGIN:VEVENT
DTSTART;TZID=America/Chicago:20251006T083000
DTEND;TZID=America/Chicago:20251006T103000
DTSTAMP:20260423T190607
CREATED:20250401T061952Z
LAST-MODIFIED:20250405T040837Z
UID:5844-1759739400-1759746600@baldwinmastergardeners.com
SUMMARY:CACC Greenhouse Open for Fall
DESCRIPTION:Every Monday and Thursday 8:30am -10:30am.
URL:https://baldwinmastergardeners.com/calendar/bcmg-greenhouse-cacc-36/
LOCATION:Costal Alabama Community College\, 450 Fairhope Ave\, Fairhope\, AL\, 36532\, United States
CATEGORIES:Greenhouse Schedule
END:VEVENT
BEGIN:VEVENT
DTSTART;TZID=America/Chicago:20250922T083000
DTEND;TZID=America/Chicago:20250922T103000
DTSTAMP:20260423T190607
CREATED:20250401T061624Z
LAST-MODIFIED:20250405T041746Z
UID:5834-1758529800-1758537000@baldwinmastergardeners.com
SUMMARY:BCMG Greenhouse - CACC
DESCRIPTION:Summer Weeding at the CACC Pollinator Garden — Every First and Third Monday\, 8:30–10:30 AM
URL:https://baldwinmastergardeners.com/calendar/bcmg-greenhouse-cacc-31/
LOCATION:Costal Alabama Community College\, 450 Fairhope Ave\, Fairhope\, AL\, 36532\, United States
CATEGORIES:Greenhouse Schedule
END:VEVENT
BEGIN:VEVENT
DTSTART;TZID=America/Chicago:20250908T083000
DTEND;TZID=America/Chicago:20250908T103000
DTSTAMP:20260423T190607
CREATED:20250401T061917Z
LAST-MODIFIED:20250405T042015Z
UID:5842-1757320200-1757327400@baldwinmastergardeners.com
SUMMARY:BCMG Greenhouse - CACC
DESCRIPTION:Summer Weeding at the CACC Pollinator Garden — Every First and Third Monday\, 8:30–10:30 AM
URL:https://baldwinmastergardeners.com/calendar/bcmg-greenhouse-cacc-35/
LOCATION:Costal Alabama Community College\, 450 Fairhope Ave\, Fairhope\, AL\, 36532\, United States
CATEGORIES:Greenhouse Schedule
END:VEVENT
BEGIN:VEVENT
DTSTART;TZID=America/Chicago:20250818T083000
DTEND;TZID=America/Chicago:20250818T103000
DTSTAMP:20260423T190607
CREATED:20250401T061510Z
LAST-MODIFIED:20250405T042046Z
UID:5830-1755505800-1755513000@baldwinmastergardeners.com
SUMMARY:BCMG Greenhouse - CACC
DESCRIPTION:Summer Weeding at the CACC Pollinator Garden — Every First and Third Monday\, 8:30–10:30 AM
URL:https://baldwinmastergardeners.com/calendar/bcmg-greenhouse-cacc-29/
LOCATION:Costal Alabama Community College\, 450 Fairhope Ave\, Fairhope\, AL\, 36532\, United States
CATEGORIES:Greenhouse Schedule
END:VEVENT
BEGIN:VEVENT
DTSTART;TZID=America/Chicago:20250804T083000
DTEND;TZID=America/Chicago:20250804T103000
DTSTAMP:20260423T190607
CREATED:20250401T061755Z
LAST-MODIFIED:20250405T042118Z
UID:5838-1754296200-1754303400@baldwinmastergardeners.com
SUMMARY:BCMG Greenhouse - CACC
DESCRIPTION:Summer Weeding at the CACC Pollinator Garden — Every First and Third Monday\, 8:30–10:30 AM
URL:https://baldwinmastergardeners.com/calendar/bcmg-greenhouse-cacc-33/
LOCATION:Costal Alabama Community College\, 450 Fairhope Ave\, Fairhope\, AL\, 36532\, United States
CATEGORIES:Greenhouse Schedule
END:VEVENT
BEGIN:VEVENT
DTSTART;TZID=America/Chicago:20250721T083000
DTEND;TZID=America/Chicago:20250721T103000
DTSTAMP:20260423T190607
CREATED:20250401T061424Z
LAST-MODIFIED:20250405T042206Z
UID:5828-1753086600-1753093800@baldwinmastergardeners.com
SUMMARY:BCMG Greenhouse - CACC
DESCRIPTION:Summer Weeding at the CACC Pollinator Garden — Every First and Third Monday\, 8:30–10:30 AM
URL:https://baldwinmastergardeners.com/calendar/bcmg-greenhouse-cacc-28/
LOCATION:Costal Alabama Community College\, 450 Fairhope Ave\, Fairhope\, AL\, 36532\, United States
CATEGORIES:Greenhouse Schedule
END:VEVENT
BEGIN:VEVENT
DTSTART;TZID=America/Chicago:20250707T083000
DTEND;TZID=America/Chicago:20250707T103000
DTSTAMP:20260423T190607
CREATED:20250403T231110Z
LAST-MODIFIED:20250405T042236Z
UID:5862-1751877000-1751884200@baldwinmastergardeners.com
SUMMARY:BCMG Greenhouse - CACC
DESCRIPTION:Summer Weeding at the CACC Pollinator Garden — Every First and Third Monday\, 8:30–10:30 AM
URL:https://baldwinmastergardeners.com/calendar/bcmg-greenhouse-cacc-37/
LOCATION:Costal Alabama Community College\, 450 Fairhope Ave\, Fairhope\, AL\, 36532\, United States
CATEGORIES:Greenhouse Schedule
END:VEVENT
BEGIN:VEVENT
DTSTART;TZID=America/Chicago:20250616T083000
DTEND;TZID=America/Chicago:20250616T103000
DTSTAMP:20260423T190607
CREATED:20250403T231147Z
LAST-MODIFIED:20250405T042307Z
UID:5864-1750062600-1750069800@baldwinmastergardeners.com
SUMMARY:BCMG Greenhouse - CACC
DESCRIPTION:Summer Weeding at the CACC Pollinator Garden — Every First and Third Monday\, 8:30–10:30 AM
URL:https://baldwinmastergardeners.com/calendar/bcmg-greenhouse-cacc-38/
LOCATION:Costal Alabama Community College\, 450 Fairhope Ave\, Fairhope\, AL\, 36532\, United States
CATEGORIES:Greenhouse Schedule
END:VEVENT
BEGIN:VEVENT
DTSTART;TZID=America/Chicago:20250602T083000
DTEND;TZID=America/Chicago:20250602T103000
DTSTAMP:20260423T190607
CREATED:20250403T231219Z
LAST-MODIFIED:20250405T042403Z
UID:5866-1748853000-1748860200@baldwinmastergardeners.com
SUMMARY:BCMG Greenhouse - CACC
DESCRIPTION:Summer Weeding at the CACC Pollinator Garden — Every First and Third Monday\, 8:30–10:30 AM
URL:https://baldwinmastergardeners.com/calendar/bcmg-greenhouse-cacc-39/
LOCATION:Costal Alabama Community College\, 450 Fairhope Ave\, Fairhope\, AL\, 36532\, United States
CATEGORIES:Greenhouse Schedule
END:VEVENT
BEGIN:VEVENT
DTSTART;TZID=America/Chicago:20250519T083000
DTEND;TZID=America/Chicago:20250519T103000
DTSTAMP:20260423T190607
CREATED:20250401T061710Z
LAST-MODIFIED:20250405T041617Z
UID:5836-1747643400-1747650600@baldwinmastergardeners.com
SUMMARY:BCMG Greenhouse - CACC
DESCRIPTION:Summer Weeding at the CACC Pollinator Garden — Every First and Third Monday\, 8:30–10:30 AM
URL:https://baldwinmastergardeners.com/calendar/bcmg-greenhouse-cacc-32/
LOCATION:Costal Alabama Community College\, 450 Fairhope Ave\, Fairhope\, AL\, 36532\, United States
CATEGORIES:Greenhouse Schedule
END:VEVENT
BEGIN:VEVENT
DTSTART;TZID=America/Chicago:20250505T083000
DTEND;TZID=America/Chicago:20250505T103000
DTSTAMP:20260423T190607
CREATED:20250401T061835Z
LAST-MODIFIED:20250405T042516Z
UID:5840-1746433800-1746441000@baldwinmastergardeners.com
SUMMARY:BCMG Greenhouse - CACC
DESCRIPTION:Summer Weeding at the CACC Pollinator Garden — Every First and Third Monday\, 8:30–10:30 AM
URL:https://baldwinmastergardeners.com/calendar/bcmg-greenhouse-cacc-34/
LOCATION:Costal Alabama Community College\, 450 Fairhope Ave\, Fairhope\, AL\, 36532\, United States
CATEGORIES:Greenhouse Schedule
END:VEVENT
BEGIN:VEVENT
DTSTART;TZID=America/Chicago:20250407T083000
DTEND;TZID=America/Chicago:20250407T103000
DTSTAMP:20260423T190607
CREATED:20250403T232249Z
LAST-MODIFIED:20250403T232249Z
UID:5870-1744014600-1744021800@baldwinmastergardeners.com
SUMMARY:BCMG Greenhouse - CACC
DESCRIPTION:Every Monday and Thursday 8:30am -10:30am.
URL:https://baldwinmastergardeners.com/calendar/bcmg-greenhouse-cacc-41/
LOCATION:Costal Alabama Community College\, 450 Fairhope Ave\, Fairhope\, AL\, 36532\, United States
CATEGORIES:Greenhouse Schedule
END:VEVENT
BEGIN:VEVENT
DTSTART;TZID=America/Chicago:20250404T090000
DTEND;TZID=America/Chicago:20250404T110000
DTSTAMP:20260423T190607
CREATED:20250401T060930Z
LAST-MODIFIED:20250401T060930Z
UID:5818-1743757200-1743764400@baldwinmastergardeners.com
SUMMARY:BCMG Greenhouse - Daphne HS
DESCRIPTION:Every Monday and Friday 9:00am -11:00am.
URL:https://baldwinmastergardeners.com/calendar/bcmg-greenhouse-daphne-hs-23/
LOCATION:Costal Alabama Community College\, 450 Fairhope Ave\, Fairhope\, AL\, 36532\, United States
CATEGORIES:Greenhouse Schedule
END:VEVENT
BEGIN:VEVENT
DTSTART;TZID=America/Chicago:20250403T083000
DTEND;TZID=America/Chicago:20250403T103000
DTSTAMP:20260423T190607
CREATED:20250403T232206Z
LAST-MODIFIED:20250403T232206Z
UID:5868-1743669000-1743676200@baldwinmastergardeners.com
SUMMARY:BCMG Greenhouse - CACC
DESCRIPTION:Every Monday and Thursday 8:30am -10:30am.
URL:https://baldwinmastergardeners.com/calendar/bcmg-greenhouse-cacc-40/
LOCATION:Costal Alabama Community College\, 450 Fairhope Ave\, Fairhope\, AL\, 36532\, United States
CATEGORIES:Greenhouse Schedule
END:VEVENT
BEGIN:VEVENT
DTSTART;TZID=America/Chicago:20250331T090000
DTEND;TZID=America/Chicago:20250331T110000
DTSTAMP:20260423T190607
CREATED:20250217T013731Z
LAST-MODIFIED:20250217T013731Z
UID:5674-1743411600-1743418800@baldwinmastergardeners.com
SUMMARY:BCMG Greenhouse - Daphne HS
DESCRIPTION:Every Monday and Friday 9:00am -11:00am.
URL:https://baldwinmastergardeners.com/calendar/bcmg-greenhouse-daphne-hs-18/
LOCATION:Costal Alabama Community College\, 450 Fairhope Ave\, Fairhope\, AL\, 36532\, United States
CATEGORIES:Greenhouse Schedule
END:VEVENT
BEGIN:VEVENT
DTSTART;TZID=America/Chicago:20250331T083000
DTEND;TZID=America/Chicago:20250331T103000
DTSTAMP:20260423T190607
CREATED:20250217T001248Z
LAST-MODIFIED:20250217T001248Z
UID:5656-1743409800-1743417000@baldwinmastergardeners.com
SUMMARY:BCMG Greenhouse - CACC
DESCRIPTION:Every Monday and Thursday 8:30am -10:30am.
URL:https://baldwinmastergardeners.com/calendar/bcmg-greenhouse-cacc-27/
LOCATION:Costal Alabama Community College\, 450 Fairhope Ave\, Fairhope\, AL\, 36532\, United States
CATEGORIES:Greenhouse Schedule
END:VEVENT
BEGIN:VEVENT
DTSTART;TZID=America/Chicago:20250328T090000
DTEND;TZID=America/Chicago:20250328T110000
DTSTAMP:20260423T190607
CREATED:20250217T013703Z
LAST-MODIFIED:20250217T013703Z
UID:5672-1743152400-1743159600@baldwinmastergardeners.com
SUMMARY:BCMG Greenhouse - Daphne HS
DESCRIPTION:Every Monday and Friday 9:00am -11:00am.
URL:https://baldwinmastergardeners.com/calendar/bcmg-greenhouse-daphne-hs-17/
LOCATION:Costal Alabama Community College\, 450 Fairhope Ave\, Fairhope\, AL\, 36532\, United States
CATEGORIES:Greenhouse Schedule
END:VEVENT
BEGIN:VEVENT
DTSTART;TZID=America/Chicago:20250327T083000
DTEND;TZID=America/Chicago:20250327T103000
DTSTAMP:20260423T190607
CREATED:20250217T001223Z
LAST-MODIFIED:20250217T001223Z
UID:5654-1743064200-1743071400@baldwinmastergardeners.com
SUMMARY:BCMG Greenhouse - CACC
DESCRIPTION:Every Monday and Thursday 8:30am -10:30am.
URL:https://baldwinmastergardeners.com/calendar/bcmg-greenhouse-cacc-26/
LOCATION:Costal Alabama Community College\, 450 Fairhope Ave\, Fairhope\, AL\, 36532\, United States
CATEGORIES:Greenhouse Schedule
END:VEVENT
BEGIN:VEVENT
DTSTART;TZID=America/Chicago:20250324T090000
DTEND;TZID=America/Chicago:20250324T110000
DTSTAMP:20260423T190607
CREATED:20250217T013631Z
LAST-MODIFIED:20250217T013631Z
UID:5670-1742806800-1742814000@baldwinmastergardeners.com
SUMMARY:BCMG Greenhouse - Daphne HS
DESCRIPTION:Every Monday and Friday 9:00am -11:00am.
URL:https://baldwinmastergardeners.com/calendar/bcmg-greenhouse-daphne-hs-16/
LOCATION:Costal Alabama Community College\, 450 Fairhope Ave\, Fairhope\, AL\, 36532\, United States
CATEGORIES:Greenhouse Schedule
END:VEVENT
BEGIN:VEVENT
DTSTART;TZID=America/Chicago:20250324T083000
DTEND;TZID=America/Chicago:20250324T103000
DTSTAMP:20260423T190607
CREATED:20250217T001157Z
LAST-MODIFIED:20250217T001157Z
UID:5652-1742805000-1742812200@baldwinmastergardeners.com
SUMMARY:BCMG Greenhouse - CACC
DESCRIPTION:Every Monday and Thursday 8:30am -10:30am.
URL:https://baldwinmastergardeners.com/calendar/bcmg-greenhouse-cacc-25/
LOCATION:Costal Alabama Community College\, 450 Fairhope Ave\, Fairhope\, AL\, 36532\, United States
CATEGORIES:Greenhouse Schedule
END:VEVENT
BEGIN:VEVENT
DTSTART;TZID=America/Chicago:20250321T090000
DTEND;TZID=America/Chicago:20250321T110000
DTSTAMP:20260423T190607
CREATED:20250217T013605Z
LAST-MODIFIED:20250217T013605Z
UID:5668-1742547600-1742554800@baldwinmastergardeners.com
SUMMARY:BCMG Greenhouse - Daphne HS
DESCRIPTION:Every Monday and Friday 9:00am -11:00am.
URL:https://baldwinmastergardeners.com/calendar/bcmg-greenhouse-daphne-hs-15/
LOCATION:Costal Alabama Community College\, 450 Fairhope Ave\, Fairhope\, AL\, 36532\, United States
CATEGORIES:Greenhouse Schedule
END:VEVENT
BEGIN:VEVENT
DTSTART;TZID=America/Chicago:20250320T083000
DTEND;TZID=America/Chicago:20250320T103000
DTSTAMP:20260423T190607
CREATED:20250216T235007Z
LAST-MODIFIED:20250216T235007Z
UID:5650-1742459400-1742466600@baldwinmastergardeners.com
SUMMARY:BCMG Greenhouse - CACC
DESCRIPTION:Every Monday and Thursday 8:30am -10:30am.
URL:https://baldwinmastergardeners.com/calendar/bcmg-greenhouse-cacc-24/
LOCATION:Costal Alabama Community College\, 450 Fairhope Ave\, Fairhope\, AL\, 36532\, United States
CATEGORIES:Greenhouse Schedule
END:VEVENT
BEGIN:VEVENT
DTSTART;TZID=America/Chicago:20250317T090000
DTEND;TZID=America/Chicago:20250317T110000
DTSTAMP:20260423T190607
CREATED:20250217T003131Z
LAST-MODIFIED:20250217T003131Z
UID:5666-1742202000-1742209200@baldwinmastergardeners.com
SUMMARY:BCMG Greenhouse - Daphne HS
DESCRIPTION:Every Monday and Friday 9:00am -11:00am.
URL:https://baldwinmastergardeners.com/calendar/bcmg-greenhouse-daphne-hs-14/
LOCATION:Costal Alabama Community College\, 450 Fairhope Ave\, Fairhope\, AL\, 36532\, United States
CATEGORIES:Greenhouse Schedule
END:VEVENT
BEGIN:VEVENT
DTSTART;TZID=America/Chicago:20250317T083000
DTEND;TZID=America/Chicago:20250317T103000
DTSTAMP:20260423T190607
CREATED:20250216T234909Z
LAST-MODIFIED:20250216T234909Z
UID:5648-1742200200-1742207400@baldwinmastergardeners.com
SUMMARY:BCMG Greenhouse - CACC
DESCRIPTION:Every Monday and Thursday 8:30am -10:30am.
URL:https://baldwinmastergardeners.com/calendar/bcmg-greenhouse-cacc-23/
LOCATION:Costal Alabama Community College\, 450 Fairhope Ave\, Fairhope\, AL\, 36532\, United States
CATEGORIES:Greenhouse Schedule
END:VEVENT
BEGIN:VEVENT
DTSTART;TZID=America/Chicago:20250314T090000
DTEND;TZID=America/Chicago:20250314T110000
DTSTAMP:20260423T190607
CREATED:20250217T001702Z
LAST-MODIFIED:20250217T001702Z
UID:5664-1741942800-1741950000@baldwinmastergardeners.com
SUMMARY:BCMG Greenhouse - Daphne HS
DESCRIPTION:Every Monday and Friday 9:00am -11:00am.
URL:https://baldwinmastergardeners.com/calendar/bcmg-greenhouse-daphne-hs-13/
LOCATION:Costal Alabama Community College\, 450 Fairhope Ave\, Fairhope\, AL\, 36532\, United States
CATEGORIES:Greenhouse Schedule
END:VEVENT
BEGIN:VEVENT
DTSTART;TZID=America/Chicago:20250313T083000
DTEND;TZID=America/Chicago:20250313T103000
DTSTAMP:20260423T190607
CREATED:20250216T234830Z
LAST-MODIFIED:20250216T234830Z
UID:5646-1741854600-1741861800@baldwinmastergardeners.com
SUMMARY:BCMG Greenhouse - CACC
DESCRIPTION:Every Monday and Thursday 8:30am -10:30am.
URL:https://baldwinmastergardeners.com/calendar/bcmg-greenhouse-cacc-22/
LOCATION:Costal Alabama Community College\, 450 Fairhope Ave\, Fairhope\, AL\, 36532\, United States
CATEGORIES:Greenhouse Schedule
END:VEVENT
BEGIN:VEVENT
DTSTART;TZID=America/Chicago:20250310T090000
DTEND;TZID=America/Chicago:20250310T110000
DTSTAMP:20260423T190607
CREATED:20250217T001627Z
LAST-MODIFIED:20250217T001627Z
UID:5662-1741597200-1741604400@baldwinmastergardeners.com
SUMMARY:BCMG Greenhouse - Daphne HS
DESCRIPTION:Every Monday and Friday 9:00am -11:00am.
URL:https://baldwinmastergardeners.com/calendar/bcmg-greenhouse-daphne-hs-12/
LOCATION:Costal Alabama Community College\, 450 Fairhope Ave\, Fairhope\, AL\, 36532\, United States
CATEGORIES:Greenhouse Schedule
END:VEVENT
BEGIN:VEVENT
DTSTART;TZID=America/Chicago:20250310T083000
DTEND;TZID=America/Chicago:20250310T103000
DTSTAMP:20260423T190607
CREATED:20250216T234803Z
LAST-MODIFIED:20250216T234803Z
UID:5644-1741595400-1741602600@baldwinmastergardeners.com
SUMMARY:BCMG Greenhouse - CACC
DESCRIPTION:Every Monday and Thursday 8:30am -10:30am.
URL:https://baldwinmastergardeners.com/calendar/bcmg-greenhouse-cacc-21/
LOCATION:Costal Alabama Community College\, 450 Fairhope Ave\, Fairhope\, AL\, 36532\, United States
CATEGORIES:Greenhouse Schedule
END:VEVENT
BEGIN:VEVENT
DTSTART;TZID=America/Chicago:20250307T090000
DTEND;TZID=America/Chicago:20250307T110000
DTSTAMP:20260423T190607
CREATED:20250217T001557Z
LAST-MODIFIED:20250217T001557Z
UID:5660-1741338000-1741345200@baldwinmastergardeners.com
SUMMARY:BCMG Greenhouse - Daphne HS
DESCRIPTION:Every Monday and Friday 9:00am -11:00am.
URL:https://baldwinmastergardeners.com/calendar/bcmg-greenhouse-daphne-hs-11/
LOCATION:Costal Alabama Community College\, 450 Fairhope Ave\, Fairhope\, AL\, 36532\, United States
CATEGORIES:Greenhouse Schedule
END:VEVENT
END:VCALENDAR