BEGIN:VCALENDAR
VERSION:2.0
PRODID:-//Baldwin County Master Gardeners - ECPv6.15.20//NONSGML v1.0//EN
CALSCALE:GREGORIAN
METHOD:PUBLISH
X-ORIGINAL-URL:https://baldwinmastergardeners.com
X-WR-CALDESC:Events for Baldwin County Master Gardeners
REFRESH-INTERVAL;VALUE=DURATION:PT1H
X-Robots-Tag:noindex
X-PUBLISHED-TTL:PT1H
BEGIN:VTIMEZONE
TZID:America/Chicago
BEGIN:DAYLIGHT
TZOFFSETFROM:-0600
TZOFFSETTO:-0500
TZNAME:CDT
DTSTART:20240310T080000
END:DAYLIGHT
BEGIN:STANDARD
TZOFFSETFROM:-0500
TZOFFSETTO:-0600
TZNAME:CST
DTSTART:20241103T070000
END:STANDARD
BEGIN:DAYLIGHT
TZOFFSETFROM:-0600
TZOFFSETTO:-0500
TZNAME:CDT
DTSTART:20250309T080000
END:DAYLIGHT
BEGIN:STANDARD
TZOFFSETFROM:-0500
TZOFFSETTO:-0600
TZNAME:CST
DTSTART:20251102T070000
END:STANDARD
BEGIN:DAYLIGHT
TZOFFSETFROM:-0600
TZOFFSETTO:-0500
TZNAME:CDT
DTSTART:20260308T080000
END:DAYLIGHT
BEGIN:STANDARD
TZOFFSETFROM:-0500
TZOFFSETTO:-0600
TZNAME:CST
DTSTART:20261101T070000
END:STANDARD
END:VTIMEZONE
BEGIN:VEVENT
DTSTART;VALUE=DATE:20250901
DTEND;VALUE=DATE:20250902
DTSTAMP:20260423T190927
CREATED:20250225T080536Z
LAST-MODIFIED:20250414T045120Z
UID:5711-1756684800-1756771199@baldwinmastergardeners.com
SUMMARY:Labor Day
DESCRIPTION:
URL:https://baldwinmastergardeners.com/calendar/independence-day/
CATEGORIES:Events Calendar
END:VEVENT
BEGIN:VEVENT
DTSTART;TZID=America/Chicago:20250903T093000
DTEND;TZID=America/Chicago:20250903T113000
DTSTAMP:20260423T190927
CREATED:20250414T061554Z
LAST-MODIFIED:20250414T061554Z
UID:5961-1756891800-1756899000@baldwinmastergardeners.com
SUMMARY:BCMG September Board Meeting
DESCRIPTION:
URL:https://baldwinmastergardeners.com/calendar/bcmg-september-board-meeting/
LOCATION:Auburn Gulf Coast Research and Extension Center\, 8300 State Highway 104\, Fairhope\, AL\, 36532\, United States
CATEGORIES:Events Calendar
END:VEVENT
BEGIN:VEVENT
DTSTART;TZID=America/Chicago:20250910T093000
DTEND;TZID=America/Chicago:20250910T120000
DTSTAMP:20260423T190927
CREATED:20250414T062259Z
LAST-MODIFIED:20250906T051807Z
UID:5975-1757496600-1757505600@baldwinmastergardeners.com
SUMMARY:BCMG September Monthly Meeting (9:30 am Social\, 10:00 am Meeting)
DESCRIPTION:Guest Speaker: Elizabeth (Beth) Bolles\, Environmental Horticulture Extension Agent from our neighboring county\, Escambia County\, FL\nTopic: Growing daffodils on the Gulf Coast.
URL:https://baldwinmastergardeners.com/calendar/bcmg-september-monthly-meeting-930-am-social-1000-am-meeting/
LOCATION:Auburn Gulf Coast Research and Extension Center\, 8300 State Highway 104\, Fairhope\, AL\, 36532\, United States
CATEGORIES:Events Calendar
ORGANIZER;CN="Baldwin County Master Gardeners":MAILTO:info@baldwinmastergardeners.com
END:VEVENT
BEGIN:VEVENT
DTSTART;TZID=America/Chicago:20250916T080000
DTEND;TZID=America/Chicago:20250916T170000
DTSTAMP:20260423T190927
CREATED:20250806T053734Z
LAST-MODIFIED:20250807T044442Z
UID:6323-1758009600-1758042000@baldwinmastergardeners.com
SUMMARY:AMGA Fall Seminar - All About Pollinators (click for more info)
DESCRIPTION:For registration information\, visit CCMGA
URL:https://baldwinmastergardeners.com/calendar/amga-fall-seminar-all-about-pollinators-2/
CATEGORIES:Events Calendar
END:VEVENT
BEGIN:VEVENT
DTSTART;VALUE=DATE:20250920
DTEND;VALUE=DATE:20250921
DTSTAMP:20260423T190927
CREATED:20250806T053901Z
LAST-MODIFIED:20250806T053901Z
UID:6325-1758326400-1758412799@baldwinmastergardeners.com
SUMMARY:Wayne de la Rua Nominations are due
DESCRIPTION:
URL:https://baldwinmastergardeners.com/calendar/wayne-de-la-rua-nominations-are-due/
CATEGORIES:Events Calendar
END:VEVENT
BEGIN:VEVENT
DTSTART;TZID=America/Chicago:20250920T140000
DTEND;TZID=America/Chicago:20250920T170000
DTSTAMP:20260423T190927
CREATED:20250911T040447Z
LAST-MODIFIED:20250912T000815Z
UID:6385-1758376800-1758387600@baldwinmastergardeners.com
SUMMARY:Daphne Community Spirit Day (see flyer)
DESCRIPTION:
URL:https://baldwinmastergardeners.com/calendar/daphne-community-spirit-day/
LOCATION:Joe Louis Patrick Park in Daphmont\, 1401 Johnson Road\, Daphne\, AL\, 36526\, United States
CATEGORIES:Events Calendar
END:VEVENT
BEGIN:VEVENT
DTSTART;TZID=America/Chicago:20250922T140000
DTEND;TZID=America/Chicago:20250922T160000
DTSTAMP:20260423T190927
CREATED:20250911T041225Z
LAST-MODIFIED:20250911T041225Z
UID:6388-1758549600-1758556800@baldwinmastergardeners.com
SUMMARY:BCMG Budget Meeting
DESCRIPTION:
URL:https://baldwinmastergardeners.com/calendar/bcmg-budget-meeting/
LOCATION:Auburn Gulf Coast Research and Extension Center\, 8300 State Highway 104\, Fairhope\, AL\, 36532\, United States
CATEGORIES:Events Calendar
END:VEVENT
BEGIN:VEVENT
DTSTART;TZID=America/Chicago:20250924T100000
DTEND;TZID=America/Chicago:20250924T110000
DTSTAMP:20260423T190927
CREATED:20250906T045349Z
LAST-MODIFIED:20250906T045349Z
UID:6373-1758708000-1758711600@baldwinmastergardeners.com
SUMMARY:Back 2 Basics Gardening Series
DESCRIPTION:Elderberry: The Small Berry Crop We’ve Overlooked\, with Extension Specialist Dr. Clement Akotsen- Mensah\nRegister for the Class
URL:https://baldwinmastergardeners.com/calendar/back-2-basics-gardening-series-5/
CATEGORIES:Events Calendar
END:VEVENT
BEGIN:VEVENT
DTSTART;TZID=America/Chicago:20250926T080000
DTEND;TZID=America/Chicago:20250926T160000
DTSTAMP:20260423T190927
CREATED:20250906T045649Z
LAST-MODIFIED:20250906T051521Z
UID:6376-1758873600-1758902400@baldwinmastergardeners.com
SUMMARY:Invasive Exotic Plant ID\, Control\, & Prevention Workshop (see flyer)
DESCRIPTION:
URL:https://baldwinmastergardeners.com/calendar/invasive-exotic-plant-id-control-prevention-workshop-see-flyer/
LOCATION:Weeks Bay Tonsmeire Resource Center\, 11525 US Hwy 98\, Fairhope\, AL\, 36532\, United States
CATEGORIES:Events Calendar
END:VEVENT
BEGIN:VEVENT
DTSTART;TZID=America/Chicago:20250927T100000
DTEND;TZID=America/Chicago:20250927T110000
DTSTAMP:20260423T190927
CREATED:20250806T054217Z
LAST-MODIFIED:20250806T054217Z
UID:6329-1758967200-1758970800@baldwinmastergardeners.com
SUMMARY:Fairhope Plant Swap
DESCRIPTION:
URL:https://baldwinmastergardeners.com/calendar/fairhope-plant-swap/
LOCATION:Fairhope Public Library\, 501 Fairhope Ave\, Fairhope\, AL\, 36532\, United States
CATEGORIES:Events Calendar
END:VEVENT
END:VCALENDAR