BEGIN:VCALENDAR
VERSION:2.0
PRODID:-//Baldwin County Master Gardeners - ECPv6.15.20//NONSGML v1.0//EN
CALSCALE:GREGORIAN
METHOD:PUBLISH
X-ORIGINAL-URL:https://baldwinmastergardeners.com
X-WR-CALDESC:Events for Baldwin County Master Gardeners
REFRESH-INTERVAL;VALUE=DURATION:PT1H
X-Robots-Tag:noindex
X-PUBLISHED-TTL:PT1H
BEGIN:VTIMEZONE
TZID:America/Chicago
BEGIN:DAYLIGHT
TZOFFSETFROM:-0600
TZOFFSETTO:-0500
TZNAME:CDT
DTSTART:20240310T080000
END:DAYLIGHT
BEGIN:STANDARD
TZOFFSETFROM:-0500
TZOFFSETTO:-0600
TZNAME:CST
DTSTART:20241103T070000
END:STANDARD
BEGIN:DAYLIGHT
TZOFFSETFROM:-0600
TZOFFSETTO:-0500
TZNAME:CDT
DTSTART:20250309T080000
END:DAYLIGHT
BEGIN:STANDARD
TZOFFSETFROM:-0500
TZOFFSETTO:-0600
TZNAME:CST
DTSTART:20251102T070000
END:STANDARD
BEGIN:DAYLIGHT
TZOFFSETFROM:-0600
TZOFFSETTO:-0500
TZNAME:CDT
DTSTART:20260308T080000
END:DAYLIGHT
BEGIN:STANDARD
TZOFFSETFROM:-0500
TZOFFSETTO:-0600
TZNAME:CST
DTSTART:20261101T070000
END:STANDARD
END:VTIMEZONE
BEGIN:VEVENT
DTSTART;TZID=America/Chicago:20251204T090000
DTEND;TZID=America/Chicago:20251205T150000
DTSTAMP:20260423T152039
CREATED:20251109T052341Z
LAST-MODIFIED:20251110T201352Z
UID:6478-1764838800-1764946800@baldwinmastergardeners.com
SUMMARY:Mobile County MG\, Holiday Greenery Sale
DESCRIPTION:Preorder: October 19 through November 21\nIn person shopping:  December 4\, 9am-3pm and December 5\, 9am-3pm\n\n\nClick here for detailed information.
URL:https://baldwinmastergardeners.com/calendar/mobile-county-mg-holiday-greenery-sale/
CATEGORIES:Events Calendar
END:VEVENT
END:VCALENDAR