BEGIN:VCALENDAR
VERSION:2.0
PRODID:-//Baldwin County Master Gardeners - ECPv6.15.20//NONSGML v1.0//EN
CALSCALE:GREGORIAN
METHOD:PUBLISH
X-WR-CALNAME:Baldwin County Master Gardeners
X-ORIGINAL-URL:https://baldwinmastergardeners.com
X-WR-CALDESC:Events for Baldwin County Master Gardeners
REFRESH-INTERVAL;VALUE=DURATION:PT1H
X-Robots-Tag:noindex
X-PUBLISHED-TTL:PT1H
BEGIN:VTIMEZONE
TZID:America/Chicago
BEGIN:DAYLIGHT
TZOFFSETFROM:-0600
TZOFFSETTO:-0500
TZNAME:CDT
DTSTART:20250309T080000
END:DAYLIGHT
BEGIN:STANDARD
TZOFFSETFROM:-0500
TZOFFSETTO:-0600
TZNAME:CST
DTSTART:20251102T070000
END:STANDARD
BEGIN:DAYLIGHT
TZOFFSETFROM:-0600
TZOFFSETTO:-0500
TZNAME:CDT
DTSTART:20260308T080000
END:DAYLIGHT
BEGIN:STANDARD
TZOFFSETFROM:-0500
TZOFFSETTO:-0600
TZNAME:CST
DTSTART:20261101T070000
END:STANDARD
BEGIN:DAYLIGHT
TZOFFSETFROM:-0600
TZOFFSETTO:-0500
TZNAME:CDT
DTSTART:20270314T080000
END:DAYLIGHT
BEGIN:STANDARD
TZOFFSETFROM:-0500
TZOFFSETTO:-0600
TZNAME:CST
DTSTART:20271107T070000
END:STANDARD
END:VTIMEZONE
BEGIN:VEVENT
DTSTART;TZID=America/Chicago:20260228T080000
DTEND;TZID=America/Chicago:20260228T090000
DTSTAMP:20260423T111244
CREATED:20250215T233732Z
LAST-MODIFIED:20260123T065016Z
UID:5599-1772265600-1772269200@baldwinmastergardeners.com
SUMMARY:Arbor Day - Bay Minette
DESCRIPTION:Contacts: Laurie Simpson and Jim Faulkner
URL:https://baldwinmastergardeners.com/calendar/arbor-day-bay-minette-3/
LOCATION:Bay Minette City Hall\, 301 D'olive Street\, Bay Minette\, AL\, 36507\, United States
CATEGORIES:Events Calendar
END:VEVENT
BEGIN:VEVENT
DTSTART;TZID=America/Chicago:20260228T100000
DTEND;TZID=America/Chicago:20260228T120000
DTSTAMP:20260423T111244
CREATED:20250216T000853Z
LAST-MODIFIED:20260127T202535Z
UID:5605-1772272800-1772280000@baldwinmastergardeners.com
SUMMARY:Arbor Day - Silverhill
DESCRIPTION:Contacts: Carolyn Koch and Shirley Stephens
URL:https://baldwinmastergardeners.com/calendar/arbor-day-silverhill/
LOCATION:Silverhill Communit Center\, 16111 South Ave\, Silverhill\, AL\, 36576\, United States
CATEGORIES:Events Calendar
END:VEVENT
END:VCALENDAR