BEGIN:VCALENDAR
VERSION:2.0
PRODID:-//Baldwin County Master Gardeners - ECPv6.15.20//NONSGML v1.0//EN
CALSCALE:GREGORIAN
METHOD:PUBLISH
X-WR-CALNAME:Baldwin County Master Gardeners
X-ORIGINAL-URL:https://baldwinmastergardeners.com
X-WR-CALDESC:Events for Baldwin County Master Gardeners
REFRESH-INTERVAL;VALUE=DURATION:PT1H
X-Robots-Tag:noindex
X-PUBLISHED-TTL:PT1H
BEGIN:VTIMEZONE
TZID:America/Chicago
BEGIN:DAYLIGHT
TZOFFSETFROM:-0600
TZOFFSETTO:-0500
TZNAME:CDT
DTSTART:20250309T080000
END:DAYLIGHT
BEGIN:STANDARD
TZOFFSETFROM:-0500
TZOFFSETTO:-0600
TZNAME:CST
DTSTART:20251102T070000
END:STANDARD
BEGIN:DAYLIGHT
TZOFFSETFROM:-0600
TZOFFSETTO:-0500
TZNAME:CDT
DTSTART:20260308T080000
END:DAYLIGHT
BEGIN:STANDARD
TZOFFSETFROM:-0500
TZOFFSETTO:-0600
TZNAME:CST
DTSTART:20261101T070000
END:STANDARD
BEGIN:DAYLIGHT
TZOFFSETFROM:-0600
TZOFFSETTO:-0500
TZNAME:CDT
DTSTART:20270314T080000
END:DAYLIGHT
BEGIN:STANDARD
TZOFFSETFROM:-0500
TZOFFSETTO:-0600
TZNAME:CST
DTSTART:20271107T070000
END:STANDARD
END:VTIMEZONE
BEGIN:VEVENT
DTSTART;VALUE=DATE:20260319
DTEND;VALUE=DATE:20260323
DTSTAMP:20260423T111352
CREATED:20251004T052833Z
LAST-MODIFIED:20260207T045715Z
UID:6428-1773878400-1774223999@baldwinmastergardeners.com
SUMMARY:Home & Garden Show by Providence Foundation (flyer)
DESCRIPTION:Click here for detailed information and schedule of events.
URL:https://baldwinmastergardeners.com/calendar/home-garden-show-by-providence-foundation/
LOCATION:Mobile Convention Center\, 1 S Water St.\, Mobile\, AL\, 36602\, United States
CATEGORIES:Events Calendar
END:VEVENT
BEGIN:VEVENT
DTSTART;TZID=America/Chicago:20260320T100000
DTEND;TZID=America/Chicago:20260322T170000
DTSTAMP:20260423T111352
CREATED:20260211T215809Z
LAST-MODIFIED:20260211T224401Z
UID:6996-1774000800-1774198800@baldwinmastergardeners.com
SUMMARY:Fairhope Arts & Crafts Festival (Fairhope Downtown)
DESCRIPTION:For more information\, visit Fairhope Arts & Craft Festival website.
URL:https://baldwinmastergardeners.com/calendar/fairhope-arts-crafts-festival/
CATEGORIES:Events Calendar
END:VEVENT
BEGIN:VEVENT
DTSTART;TZID=America/Chicago:20260322T130000
DTEND;TZID=America/Chicago:20260322T170000
DTSTAMP:20260423T111352
CREATED:20260213T214837Z
LAST-MODIFIED:20260216T055213Z
UID:7012-1774184400-1774198800@baldwinmastergardeners.com
SUMMARY:Magnolia Springs Tour of Homes
DESCRIPTION:Click here for more information.
URL:https://baldwinmastergardeners.com/calendar/magnolia-springs-tour-of-homes/
CATEGORIES:Events Calendar
END:VEVENT
END:VCALENDAR