BEGIN:VCALENDAR
VERSION:2.0
PRODID:-//Baldwin County Master Gardeners - ECPv6.15.20//NONSGML v1.0//EN
CALSCALE:GREGORIAN
METHOD:PUBLISH
X-WR-CALNAME:Baldwin County Master Gardeners
X-ORIGINAL-URL:https://baldwinmastergardeners.com
X-WR-CALDESC:Events for Baldwin County Master Gardeners
REFRESH-INTERVAL;VALUE=DURATION:PT1H
X-Robots-Tag:noindex
X-PUBLISHED-TTL:PT1H
BEGIN:VTIMEZONE
TZID:America/Chicago
BEGIN:DAYLIGHT
TZOFFSETFROM:-0600
TZOFFSETTO:-0500
TZNAME:CDT
DTSTART:20250309T080000
END:DAYLIGHT
BEGIN:STANDARD
TZOFFSETFROM:-0500
TZOFFSETTO:-0600
TZNAME:CST
DTSTART:20251102T070000
END:STANDARD
BEGIN:DAYLIGHT
TZOFFSETFROM:-0600
TZOFFSETTO:-0500
TZNAME:CDT
DTSTART:20260308T080000
END:DAYLIGHT
BEGIN:STANDARD
TZOFFSETFROM:-0500
TZOFFSETTO:-0600
TZNAME:CST
DTSTART:20261101T070000
END:STANDARD
BEGIN:DAYLIGHT
TZOFFSETFROM:-0600
TZOFFSETTO:-0500
TZNAME:CDT
DTSTART:20270314T080000
END:DAYLIGHT
BEGIN:STANDARD
TZOFFSETFROM:-0500
TZOFFSETTO:-0600
TZNAME:CST
DTSTART:20271107T070000
END:STANDARD
END:VTIMEZONE
BEGIN:VEVENT
DTSTART;VALUE=DATE:20260409
DTEND;VALUE=DATE:20260412
DTSTAMP:20260423T094801
CREATED:20260107T071559Z
LAST-MODIFIED:20260311T223530Z
UID:6732-1775692800-1775951999@baldwinmastergardeners.com
SUMMARY:BCMG Spring Plant Sale (flyer)
DESCRIPTION:
URL:https://baldwinmastergardeners.com/calendar/bcmg-spring-plant-sale-2/
LOCATION:Weeks Bay Foundation (Across from Weeks Bay Reserve)\, 11401 US-98\,\, Fairhope\, AL\, 36532\, United States
CATEGORIES:Events Calendar
END:VEVENT
BEGIN:VEVENT
DTSTART;TZID=America/Chicago:20260409T090000
DTEND;TZID=America/Chicago:20260409T143000
DTSTAMP:20260423T094801
CREATED:20260117T012046Z
LAST-MODIFIED:20260125T003437Z
UID:6857-1775725200-1775745000@baldwinmastergardeners.com
SUMMARY:Intern Class
DESCRIPTION:Meet at Weeks Bay Reserve for Plant Sale.\n(If you use GPS to navigate\, you can set the destination for 11401 US-98\, Fairhope\, AL 36532.  Once you’re in the area\, just follow the sign.)
URL:https://baldwinmastergardeners.com/calendar/intern-class-24/
CATEGORIES:Events Calendar
END:VEVENT
END:VCALENDAR