BEGIN:VCALENDAR
VERSION:2.0
PRODID:-//Baldwin County Master Gardeners - ECPv6.15.20//NONSGML v1.0//EN
CALSCALE:GREGORIAN
METHOD:PUBLISH
X-WR-CALNAME:Baldwin County Master Gardeners
X-ORIGINAL-URL:https://baldwinmastergardeners.com
X-WR-CALDESC:Events for Baldwin County Master Gardeners
REFRESH-INTERVAL;VALUE=DURATION:PT1H
X-Robots-Tag:noindex
X-PUBLISHED-TTL:PT1H
BEGIN:VTIMEZONE
TZID:America/Chicago
BEGIN:DAYLIGHT
TZOFFSETFROM:-0600
TZOFFSETTO:-0500
TZNAME:CDT
DTSTART:20230312T080000
END:DAYLIGHT
BEGIN:STANDARD
TZOFFSETFROM:-0500
TZOFFSETTO:-0600
TZNAME:CST
DTSTART:20231105T070000
END:STANDARD
BEGIN:DAYLIGHT
TZOFFSETFROM:-0600
TZOFFSETTO:-0500
TZNAME:CDT
DTSTART:20240310T080000
END:DAYLIGHT
BEGIN:STANDARD
TZOFFSETFROM:-0500
TZOFFSETTO:-0600
TZNAME:CST
DTSTART:20241103T070000
END:STANDARD
BEGIN:DAYLIGHT
TZOFFSETFROM:-0600
TZOFFSETTO:-0500
TZNAME:CDT
DTSTART:20250309T080000
END:DAYLIGHT
BEGIN:STANDARD
TZOFFSETFROM:-0500
TZOFFSETTO:-0600
TZNAME:CST
DTSTART:20251102T070000
END:STANDARD
BEGIN:DAYLIGHT
TZOFFSETFROM:-0600
TZOFFSETTO:-0500
TZNAME:CDT
DTSTART:20260308T080000
END:DAYLIGHT
BEGIN:STANDARD
TZOFFSETFROM:-0500
TZOFFSETTO:-0600
TZNAME:CST
DTSTART:20261101T070000
END:STANDARD
END:VTIMEZONE
BEGIN:VEVENT
DTSTART;TZID=America/Chicago:20250327T090000
DTEND;TZID=America/Chicago:20250327T140000
DTSTAMP:20260424T051507
CREATED:20250103T051326Z
LAST-MODIFIED:20250107T233634Z
UID:5443-1743066000-1743084000@baldwinmastergardeners.com
SUMMARY:Intern Class
DESCRIPTION:
URL:https://baldwinmastergardeners.com/calendar/intern-class-9/
LOCATION:Auburn Gulf Coast Research and Extension Center\, 8300 State Highway 104\, Fairhope\, AL\, 36532\, United States
CATEGORIES:Events Calendar
END:VEVENT
BEGIN:VEVENT
DTSTART;TZID=America/Chicago:20250325T180000
DTEND;TZID=America/Chicago:20250325T193000
DTSTAMP:20260424T051507
CREATED:20250215T225630Z
LAST-MODIFIED:20250226T153803Z
UID:5588-1742925600-1742931000@baldwinmastergardeners.com
SUMMARY:BCMG 2025 Spring Workshops
DESCRIPTION:Tuesdays with Master Gardeners\nTopic – The Importance of Using Native Plants in Your Landscape:  \nWe will discuss the need of native plants in our gardens and landscapes for the support of our ecosystems on which local wildlife depends. Examples of the best southern garden native plants will be presented with a discussion of their benefits to local pollinators and other wildlife. Discussion also will include\nsome the worst invasive exotic plants and their negative impact on local habitats and wildlife. \nSpeaker Gena Todia – Certified Wildlife Biologist\, Botanist\, and Wetlands Specialist.
URL:https://baldwinmastergardeners.com/calendar/tuesdays-with-master-gardeners-workshop-3/
LOCATION:Auburn Gulf Coast Research and Extension Center\, 8300 State Highway 104\, Fairhope\, AL\, 36532\, United States
CATEGORIES:Events Calendar
END:VEVENT
BEGIN:VEVENT
DTSTART;TZID=America/Chicago:20250320T090000
DTEND;TZID=America/Chicago:20250320T140000
DTSTAMP:20260424T051507
CREATED:20250103T051256Z
LAST-MODIFIED:20250107T233637Z
UID:5441-1742461200-1742479200@baldwinmastergardeners.com
SUMMARY:Intern Class
DESCRIPTION:
URL:https://baldwinmastergardeners.com/calendar/intern-class-8/
LOCATION:Auburn Gulf Coast Research and Extension Center\, 8300 State Highway 104\, Fairhope\, AL\, 36532\, United States
CATEGORIES:Events Calendar
END:VEVENT
BEGIN:VEVENT
DTSTART;TZID=America/Chicago:20250318T180000
DTEND;TZID=America/Chicago:20250318T193000
DTSTAMP:20260424T051507
CREATED:20250215T225558Z
LAST-MODIFIED:20250226T153846Z
UID:5586-1742320800-1742326200@baldwinmastergardeners.com
SUMMARY:BCMG 2025 Spring Workshops
DESCRIPTION:Tuesdays with Master Gardeners\nTopic – Nature Based Solutions In The Home Landscape:\n\nLearn how to maximize your home landscape as a living system that supports biodiversity\, filters storm water\, provides food\, creates shade\, and brings a hosts of other benefits. Then a participatory design activity will cover guidelines and methods for laying out planting beds\, walkways\, water elements\, and integrating native plants in residential landscapes. \nSpeaker – Rebecca Dunn Bryant\, local Architect with a specialty in Permaculture Design for the innovation of landscapes certified as wildlife habitats.
URL:https://baldwinmastergardeners.com/calendar/tuesdays-with-master-gardeners-workshop-2/
LOCATION:Auburn Gulf Coast Research and Extension Center\, 8300 State Highway 104\, Fairhope\, AL\, 36532\, United States
CATEGORIES:Events Calendar
END:VEVENT
BEGIN:VEVENT
DTSTART;TZID=America/Chicago:20250314T100000
DTEND;TZID=America/Chicago:20250316T170000
DTSTAMP:20260424T051507
CREATED:20250104T030402Z
LAST-MODIFIED:20250107T233643Z
UID:5505-1741946400-1742144400@baldwinmastergardeners.com
SUMMARY:Fairhope Arts and Crafts festival
DESCRIPTION:
URL:https://baldwinmastergardeners.com/calendar/fairhope-arts-and-crafts-festival/
LOCATION:AL
CATEGORIES:Events Calendar
END:VEVENT
BEGIN:VEVENT
DTSTART;TZID=America/Chicago:20250314T090000
DTEND;TZID=America/Chicago:20250315T150000
DTSTAMP:20260424T051507
CREATED:20250305T071501Z
LAST-MODIFIED:20250305T071835Z
UID:5747-1741942800-1742050800@baldwinmastergardeners.com
SUMMARY:Mobile Botanical Gardens Spring Plant Sale
DESCRIPTION:
URL:https://baldwinmastergardeners.com/calendar/mobile-botanical-gardens-spring-plant-sale/
LOCATION:AL
CATEGORIES:Events Calendar
END:VEVENT
BEGIN:VEVENT
DTSTART;TZID=America/Chicago:20250313T090000
DTEND;TZID=America/Chicago:20250313T140000
DTSTAMP:20260424T051507
CREATED:20250103T051224Z
LAST-MODIFIED:20250107T233647Z
UID:5439-1741856400-1741874400@baldwinmastergardeners.com
SUMMARY:Intern Class
DESCRIPTION:
URL:https://baldwinmastergardeners.com/calendar/intern-class-7/
LOCATION:Auburn Gulf Coast Research and Extension Center\, 8300 State Highway 104\, Fairhope\, AL\, 36532\, United States
CATEGORIES:Events Calendar
END:VEVENT
BEGIN:VEVENT
DTSTART;TZID=America/Chicago:20250312T093000
DTEND;TZID=America/Chicago:20250312T120000
DTSTAMP:20260424T051507
CREATED:20241031T060311Z
LAST-MODIFIED:20250107T233650Z
UID:5271-1741771800-1741780800@baldwinmastergardeners.com
SUMMARY:BCMG March Monthly Meeting (9:30 am Social\, 10:00 am Meeting)
DESCRIPTION:
URL:https://baldwinmastergardeners.com/calendar/bcmg-march-monthly-meeting-930-am-social-1000-am-meeting/
LOCATION:Auburn Gulf Coast Research and Extension Center\, 8300 State Highway 104\, Fairhope\, AL\, 36532\, United States
CATEGORIES:Events Calendar
ORGANIZER;CN="Baldwin County Master Gardeners":MAILTO:info@baldwinmastergardeners.com
END:VEVENT
BEGIN:VEVENT
DTSTART;TZID=America/Chicago:20250311T180000
DTEND;TZID=America/Chicago:20250311T193000
DTSTAMP:20260424T051507
CREATED:20250215T225518Z
LAST-MODIFIED:20250226T154407Z
UID:5584-1741716000-1741721400@baldwinmastergardeners.com
SUMMARY:BCMG 2025 Spring Workshops
DESCRIPTION:Tuesdays with Master Gardeners\nTopic – How to Multiply Your Plants through Propagation: \nGet your hands dirty while learning different techniques of propagation with seeds\, cuttings\, succulents and others. \nSpeaker – Karon Pennington\, Baldwin Co. Extension Master Gardeners & Extension Professionals
URL:https://baldwinmastergardeners.com/calendar/tuesdays-with-master-gardeners-workshop/
LOCATION:Auburn Gulf Coast Research and Extension Center\, 8300 State Highway 104\, Fairhope\, AL\, 36532\, United States
CATEGORIES:Events Calendar
END:VEVENT
BEGIN:VEVENT
DTSTART;TZID=America/Chicago:20250306T090000
DTEND;TZID=America/Chicago:20250306T140000
DTSTAMP:20260424T051507
CREATED:20250103T051138Z
LAST-MODIFIED:20250107T233655Z
UID:5437-1741251600-1741269600@baldwinmastergardeners.com
SUMMARY:Intern Class
DESCRIPTION:
URL:https://baldwinmastergardeners.com/calendar/intern-class-6/
LOCATION:Auburn Gulf Coast Research and Extension Center\, 8300 State Highway 104\, Fairhope\, AL\, 36532\, United States
CATEGORIES:Events Calendar
END:VEVENT
BEGIN:VEVENT
DTSTART;TZID=America/Chicago:20250305T093000
DTEND;TZID=America/Chicago:20250305T113000
DTSTAMP:20260424T051507
CREATED:20241031T055703Z
LAST-MODIFIED:20250107T233707Z
UID:5263-1741167000-1741174200@baldwinmastergardeners.com
SUMMARY:BCMG March Board Meeting
DESCRIPTION:
URL:https://baldwinmastergardeners.com/calendar/bcmg-march-board-meeting/
LOCATION:Auburn Gulf Coast Research and Extension Center\, 8300 State Highway 104\, Fairhope\, AL\, 36532\, United States
CATEGORIES:Events Calendar
END:VEVENT
BEGIN:VEVENT
DTSTART;TZID=America/Chicago:20250304T180000
DTEND;TZID=America/Chicago:20250304T193000
DTSTAMP:20260424T051507
CREATED:20250215T225055Z
LAST-MODIFIED:20250304T190424Z
UID:5580-1741111200-1741116600@baldwinmastergardeners.com
SUMMARY:2025 BCMG Spring Workshops -Rescheduled to April 1st 2025
DESCRIPTION:Tuesdays with Master Gardeners\n \n\n    \n        Rescheduled\n    \n\nTopic – How to Prepare Your Garden for Success: \nThis event has been rescheduled for Tuesday\, April 1\, 2025. \nLearn how to prepare your soil for this coming season: how to improve your soil’s fertility; and about the different soil-less media options and the selection of which will be the best fit for your garden. This session will include hands-on activities. \nSpeaker – Carmen Flammini\, Auburn University Extension Agent
URL:https://baldwinmastergardeners.com/calendar/bcmg-spring-workshop-tuesdays-with-master-gardeners/
LOCATION:Auburn Gulf Coast Research and Extension Center\, 8300 State Highway 104\, Fairhope\, AL\, 36532\, United States
CATEGORIES:Events Calendar
ORGANIZER;CN="Baldwin County Master Gardeners":MAILTO:info@baldwinmastergardeners.com
END:VEVENT
BEGIN:VEVENT
DTSTART;TZID=America/Chicago:20250227T090000
DTEND;TZID=America/Chicago:20250227T140000
DTSTAMP:20260424T051507
CREATED:20250103T051107Z
LAST-MODIFIED:20250107T233710Z
UID:5435-1740646800-1740664800@baldwinmastergardeners.com
SUMMARY:Intern Class
DESCRIPTION:
URL:https://baldwinmastergardeners.com/calendar/intern-class-5/
LOCATION:Auburn Gulf Coast Research and Extension Center\, 8300 State Highway 104\, Fairhope\, AL\, 36532\, United States
CATEGORIES:Events Calendar
END:VEVENT
BEGIN:VEVENT
DTSTART;TZID=America/Chicago:20250221T140000
DTEND;TZID=America/Chicago:20250221T203000
DTSTAMP:20260424T051507
CREATED:20250103T053004Z
LAST-MODIFIED:20250107T233433Z
UID:5457-1740146400-1740169800@baldwinmastergardeners.com
SUMMARY:Mardi Gras starts (Eastern Shore)
DESCRIPTION:
URL:https://baldwinmastergardeners.com/calendar/mardi-gras-starts-eastern-shore/
LOCATION:AL
CATEGORIES:Events Calendar
END:VEVENT
BEGIN:VEVENT
DTSTART;TZID=America/Chicago:20250220T090000
DTEND;TZID=America/Chicago:20250220T140000
DTSTAMP:20260424T051507
CREATED:20250103T051007Z
LAST-MODIFIED:20250107T233436Z
UID:5433-1740042000-1740060000@baldwinmastergardeners.com
SUMMARY:Intern Class
DESCRIPTION:
URL:https://baldwinmastergardeners.com/calendar/intern-class-4/
LOCATION:Auburn Gulf Coast Research and Extension Center\, 8300 State Highway 104\, Fairhope\, AL\, 36532\, United States
CATEGORIES:Events Calendar
END:VEVENT
BEGIN:VEVENT
DTSTART;TZID=America/Chicago:20250215T100000
DTEND;TZID=America/Chicago:20250215T120000
DTSTAMP:20260424T051507
CREATED:20250103T071856Z
LAST-MODIFIED:20260125T022839Z
UID:5472-1739613600-1739620800@baldwinmastergardeners.com
SUMMARY:Arbor Day - Fairhope
DESCRIPTION:
URL:https://baldwinmastergardeners.com/calendar/arbor-day-fairhope-2/
LOCATION:Coastal Alabama Community College Fairhope Campus\, 450 Fairhope Ave\, Fairhope\, 36532\, United States
CATEGORIES:Events Calendar
END:VEVENT
BEGIN:VEVENT
DTSTART;VALUE=DATE:20250214
DTEND;VALUE=DATE:20250215
DTSTAMP:20260424T051507
CREATED:20250103T052341Z
LAST-MODIFIED:20250107T233439Z
UID:5455-1739491200-1739577599@baldwinmastergardeners.com
SUMMARY:Valentine's Day
DESCRIPTION:
URL:https://baldwinmastergardeners.com/calendar/valentines-day/
LOCATION:AL
CATEGORIES:Events Calendar
END:VEVENT
BEGIN:VEVENT
DTSTART;TZID=America/Chicago:20250213T090000
DTEND;TZID=America/Chicago:20250213T140000
DTSTAMP:20260424T051507
CREATED:20250103T050416Z
LAST-MODIFIED:20250107T233441Z
UID:5431-1739437200-1739455200@baldwinmastergardeners.com
SUMMARY:Intern Class
DESCRIPTION:
URL:https://baldwinmastergardeners.com/calendar/intern-class-3/
LOCATION:Auburn Gulf Coast Research and Extension Center\, 8300 State Highway 104\, Fairhope\, AL\, 36532\, United States
CATEGORIES:Events Calendar
END:VEVENT
BEGIN:VEVENT
DTSTART;TZID=America/Chicago:20250212T093000
DTEND;TZID=America/Chicago:20250212T120000
DTSTAMP:20260424T051507
CREATED:20241031T060221Z
LAST-MODIFIED:20250107T233444Z
UID:5269-1739352600-1739361600@baldwinmastergardeners.com
SUMMARY:BCMG February Monthly Meeting (9:30 am Social\, 10:00 am Meeting)
DESCRIPTION:Volunteer Fair
URL:https://baldwinmastergardeners.com/calendar/bcmg-february-monthly-meeting-930-am-social-1000-am-meeting/
LOCATION:Auburn Gulf Coast Research and Extension Center\, 8300 State Highway 104\, Fairhope\, AL\, 36532\, United States
CATEGORIES:Events Calendar
ORGANIZER;CN="Baldwin County Master Gardeners":MAILTO:info@baldwinmastergardeners.com
END:VEVENT
BEGIN:VEVENT
DTSTART;TZID=America/Chicago:20250206T090000
DTEND;TZID=America/Chicago:20250206T140000
DTSTAMP:20260424T051507
CREATED:20250103T050346Z
LAST-MODIFIED:20250107T233454Z
UID:5429-1738832400-1738850400@baldwinmastergardeners.com
SUMMARY:Intern Class
DESCRIPTION:
URL:https://baldwinmastergardeners.com/calendar/intern-class-2/
LOCATION:Auburn Gulf Coast Research and Extension Center\, 8300 State Highway 104\, Fairhope\, AL\, 36532\, United States
CATEGORIES:Events Calendar
END:VEVENT
BEGIN:VEVENT
DTSTART;TZID=America/Chicago:20250205T093000
DTEND;TZID=America/Chicago:20250205T113000
DTSTAMP:20260424T051507
CREATED:20241029T222005Z
LAST-MODIFIED:20250107T233456Z
UID:5231-1738747800-1738755000@baldwinmastergardeners.com
SUMMARY:BCMG February Board Meeting
DESCRIPTION:
URL:https://baldwinmastergardeners.com/calendar/bcmg-january-board-meeting/
LOCATION:Auburn Gulf Coast Research and Extension Center\, 8300 State Highway 104\, Fairhope\, AL\, 36532\, United States
CATEGORIES:Events Calendar
ORGANIZER;CN="Baldwin County Master Gardeners":MAILTO:info@baldwinmastergardeners.com
END:VEVENT
BEGIN:VEVENT
DTSTART;TZID=America/Chicago:20250130T090000
DTEND;TZID=America/Chicago:20250130T140000
DTSTAMP:20260424T051507
CREATED:20250103T050305Z
LAST-MODIFIED:20250107T233458Z
UID:5427-1738227600-1738245600@baldwinmastergardeners.com
SUMMARY:Intern Class
DESCRIPTION:
URL:https://baldwinmastergardeners.com/calendar/intern-class/
LOCATION:Auburn Gulf Coast Research and Extension Center\, 8300 State Highway 104\, Fairhope\, AL\, 36532\, United States
CATEGORIES:Events Calendar
END:VEVENT
BEGIN:VEVENT
DTSTART;TZID=America/Chicago:20250125T090000
DTEND;TZID=America/Chicago:20250125T140000
DTSTAMP:20260424T051507
CREATED:20250105T165106Z
LAST-MODIFIED:20250107T233501Z
UID:5518-1737795600-1737813600@baldwinmastergardeners.com
SUMMARY:Seed & Plant Swap at Alabama Gulf Coast Zoo (flyer attached)
DESCRIPTION:Share and explore a world of seeds\, plants\, and gardening knowledge! \nAll event activities are included with paid zoo admission or zoo membership. Children under two are free.  For more information\, contact 251-256-7008.
URL:https://baldwinmastergardeners.com/calendar/seed-plant-swap-at-alabama-gulf-coast-zoo/
LOCATION:The Alabama Gulf Coast Zoo\, 20499 Oak Road East\, Gulf Shores\, AL\, 36542\, United States
CATEGORIES:Events Calendar
END:VEVENT
BEGIN:VEVENT
DTSTART;TZID=America/Chicago:20250123T090000
DTEND;TZID=America/Chicago:20250123T140000
DTSTAMP:20260424T051507
CREATED:20250103T050152Z
LAST-MODIFIED:20250107T233503Z
UID:5425-1737622800-1737640800@baldwinmastergardeners.com
SUMMARY:Intern Class starts
DESCRIPTION:
URL:https://baldwinmastergardeners.com/calendar/intern-class-starts/
LOCATION:Auburn Gulf Coast Research and Extension Center\, 8300 State Highway 104\, Fairhope\, AL\, 36532\, United States
CATEGORIES:Events Calendar
END:VEVENT
BEGIN:VEVENT
DTSTART;TZID=America/Chicago:20250116T090000
DTEND;TZID=America/Chicago:20250116T120000
DTSTAMP:20260424T051507
CREATED:20250102T060827Z
LAST-MODIFIED:20250107T233842Z
UID:5423-1737018000-1737028800@baldwinmastergardeners.com
SUMMARY:Intern/Mentor Breakfast
DESCRIPTION:
URL:https://baldwinmastergardeners.com/calendar/intern-mentor-breakfast/
LOCATION:Auburn Gulf Coast Research and Extension Center\, 8300 State Highway 104\, Fairhope\, AL\, 36532\, United States
CATEGORIES:Events Calendar
END:VEVENT
BEGIN:VEVENT
DTSTART;TZID=America/Chicago:20250115T093000
DTEND;TZID=America/Chicago:20250115T120000
DTSTAMP:20260424T051507
CREATED:20241031T060124Z
LAST-MODIFIED:20250107T233854Z
UID:5267-1736933400-1736942400@baldwinmastergardeners.com
SUMMARY:BCMG January Monthly Meeting (9:30 am Social\, 10:00 am Meeting)
DESCRIPTION:Guest Speaker: Dr. Jeremy Pickens\,  Assistant Extension Professor of Horticulture\, Specialized in Commercial Greenhouse and Nursery with Alabama Cooperative Extension System (ACES).\nTopic: Plant Propagation and Plant Patent Laws.
URL:https://baldwinmastergardeners.com/calendar/bcmg-january-monthly-meeting-930-am-social-1000-am-meeting/
LOCATION:Auburn Gulf Coast Research and Extension Center\, 8300 State Highway 104\, Fairhope\, AL\, 36532\, United States
CATEGORIES:Events Calendar
ORGANIZER;CN="Baldwin County Master Gardeners":MAILTO:info@baldwinmastergardeners.com
END:VEVENT
BEGIN:VEVENT
DTSTART;TZID=America/Chicago:20250108T093000
DTEND;TZID=America/Chicago:20250108T113000
DTSTAMP:20260424T051507
CREATED:20241204T051941Z
LAST-MODIFIED:20250107T233900Z
UID:5397-1736328600-1736335800@baldwinmastergardeners.com
SUMMARY:BCMG January Board Meeting
DESCRIPTION:
URL:https://baldwinmastergardeners.com/calendar/bcmg-january-board-meeting-2/
LOCATION:Auburn Gulf Coast Research and Extension Center\, 8300 State Highway 104\, Fairhope\, AL\, 36532\, United States
CATEGORIES:Events Calendar
ORGANIZER;CN="Baldwin County Master Gardeners":MAILTO:info@baldwinmastergardeners.com
END:VEVENT
BEGIN:VEVENT
DTSTART;TZID=America/Chicago:20250105T020000
DTEND;TZID=America/Chicago:20250105T160000
DTSTAMP:20260424T051507
CREATED:20250105T172155Z
LAST-MODIFIED:20250107T233903Z
UID:5525-1736042400-1736092800@baldwinmastergardeners.com
SUMMARY:K. Sawada Camellia Club First Meeting
DESCRIPTION:Guest Speaker will be Mr. Seth Allen\, MBG Director of Horticulture\, speaking on the K. Sawada Winter Camellia Garden.
URL:https://baldwinmastergardeners.com/calendar/k-sawada-camellia-club-first-meeting/
LOCATION:Mobile Botanical Garden\, 5151 Museum Dr\, Mobile\, AL\, 36608\, United States
CATEGORIES:Events Calendar
END:VEVENT
BEGIN:VEVENT
DTSTART;VALUE=DATE:20241231
DTEND;VALUE=DATE:20250101
DTSTAMP:20260424T051507
CREATED:20241204T051231Z
LAST-MODIFIED:20250107T233906Z
UID:5393-1735603200-1735689599@baldwinmastergardeners.com
SUMMARY:Deadline to Record Volunteer and CEU Hours for 2024
DESCRIPTION:
URL:https://baldwinmastergardeners.com/calendar/deadline-to-record-volunteer-and-ceu-hours-for-2024/
LOCATION:AL
CATEGORIES:Events Calendar
END:VEVENT
BEGIN:VEVENT
DTSTART;TZID=America/Chicago:20241211T103000
DTEND;TZID=America/Chicago:20241211T133000
DTSTAMP:20260424T051507
CREATED:20241031T054930Z
LAST-MODIFIED:20250107T233909Z
UID:5256-1733913000-1733923800@baldwinmastergardeners.com
SUMMARY:BCMG Award Luncheon and December Meeting
DESCRIPTION:December Award Luncheon is for BCMG members and invited guests only. (flyer attached)
URL:https://baldwinmastergardeners.com/calendar/bcmg-award-luncheon-and-december-meeting/
LOCATION:Foley Civic Center\, 407 E Laurel Ave\, Foley\, AL\, 36535\, United States
CATEGORIES:Events Calendar
END:VEVENT
END:VCALENDAR