BEGIN:VCALENDAR
VERSION:2.0
PRODID:-//Baldwin County Master Gardeners - ECPv6.15.20//NONSGML v1.0//EN
CALSCALE:GREGORIAN
METHOD:PUBLISH
X-WR-CALNAME:Baldwin County Master Gardeners
X-ORIGINAL-URL:https://baldwinmastergardeners.com
X-WR-CALDESC:Events for Baldwin County Master Gardeners
REFRESH-INTERVAL;VALUE=DURATION:PT1H
X-Robots-Tag:noindex
X-PUBLISHED-TTL:PT1H
BEGIN:VTIMEZONE
TZID:America/Chicago
BEGIN:DAYLIGHT
TZOFFSETFROM:-0600
TZOFFSETTO:-0500
TZNAME:CDT
DTSTART:20250309T080000
END:DAYLIGHT
BEGIN:STANDARD
TZOFFSETFROM:-0500
TZOFFSETTO:-0600
TZNAME:CST
DTSTART:20251102T070000
END:STANDARD
BEGIN:DAYLIGHT
TZOFFSETFROM:-0600
TZOFFSETTO:-0500
TZNAME:CDT
DTSTART:20260308T080000
END:DAYLIGHT
BEGIN:STANDARD
TZOFFSETFROM:-0500
TZOFFSETTO:-0600
TZNAME:CST
DTSTART:20261101T070000
END:STANDARD
BEGIN:DAYLIGHT
TZOFFSETFROM:-0600
TZOFFSETTO:-0500
TZNAME:CDT
DTSTART:20270314T080000
END:DAYLIGHT
BEGIN:STANDARD
TZOFFSETFROM:-0500
TZOFFSETTO:-0600
TZNAME:CST
DTSTART:20271107T070000
END:STANDARD
END:VTIMEZONE
BEGIN:VEVENT
DTSTART;VALUE=DATE:20260317
DTEND;VALUE=DATE:20260318
DTSTAMP:20260423T143111
CREATED:20260302T183313Z
LAST-MODIFIED:20260302T183313Z
UID:7024-1773705600-1773791999@baldwinmastergardeners.com
SUMMARY:St. Patrick's Day
DESCRIPTION:
URL:https://baldwinmastergardeners.com/calendar/st-patricks-day/
CATEGORIES:Events Calendar
END:VEVENT
BEGIN:VEVENT
DTSTART;TZID=America/Chicago:20260317T180000
DTEND;TZID=America/Chicago:20260317T193000
DTSTAMP:20260423T143111
CREATED:20260111T213018Z
LAST-MODIFIED:20260216T054526Z
UID:6753-1773770400-1773775800@baldwinmastergardeners.com
SUMMARY:Tuesday with Master Gardeners
DESCRIPTION:Topic: Surprising Camellias – Rediscovering Alabama’s State Flower;\nSpeaker: Forrest Latta\, Attorney from Mobile\, AL\, member of  Camellia Society;
URL:https://baldwinmastergardeners.com/calendar/tuesday-with-master-gardeners-3/
LOCATION:Auburn Gulf Coast Research and Extension Center\, 8300 State Highway 104\, Fairhope\, AL\, 36532\, United States
CATEGORIES:Events Calendar
END:VEVENT
BEGIN:VEVENT
DTSTART;VALUE=DATE:20260319
DTEND;VALUE=DATE:20260323
DTSTAMP:20260423T143111
CREATED:20251004T052833Z
LAST-MODIFIED:20260207T045715Z
UID:6428-1773878400-1774223999@baldwinmastergardeners.com
SUMMARY:Home & Garden Show by Providence Foundation (flyer)
DESCRIPTION:Click here for detailed information and schedule of events.
URL:https://baldwinmastergardeners.com/calendar/home-garden-show-by-providence-foundation/
LOCATION:Mobile Convention Center\, 1 S Water St.\, Mobile\, AL\, 36602\, United States
CATEGORIES:Events Calendar
END:VEVENT
BEGIN:VEVENT
DTSTART;TZID=America/Chicago:20260319T090000
DTEND;TZID=America/Chicago:20260319T143000
DTSTAMP:20260423T143111
CREATED:20260117T011904Z
LAST-MODIFIED:20260127T064248Z
UID:6851-1773910800-1773930600@baldwinmastergardeners.com
SUMMARY:Intern Class
DESCRIPTION:Meet at Auburn Gulf Coast Research and Extension Center (8300 State Hwy 104\, Fairhope\, AL 36532).
URL:https://baldwinmastergardeners.com/calendar/intern-class-21/
CATEGORIES:Events Calendar
END:VEVENT
BEGIN:VEVENT
DTSTART;TZID=America/Chicago:20260320T100000
DTEND;TZID=America/Chicago:20260322T170000
DTSTAMP:20260423T143111
CREATED:20260211T215809Z
LAST-MODIFIED:20260211T224401Z
UID:6996-1774000800-1774198800@baldwinmastergardeners.com
SUMMARY:Fairhope Arts & Crafts Festival (Fairhope Downtown)
DESCRIPTION:For more information\, visit Fairhope Arts & Craft Festival website.
URL:https://baldwinmastergardeners.com/calendar/fairhope-arts-crafts-festival/
CATEGORIES:Events Calendar
END:VEVENT
BEGIN:VEVENT
DTSTART;TZID=America/Chicago:20260322T130000
DTEND;TZID=America/Chicago:20260322T170000
DTSTAMP:20260423T143111
CREATED:20260213T214837Z
LAST-MODIFIED:20260216T055213Z
UID:7012-1774184400-1774198800@baldwinmastergardeners.com
SUMMARY:Magnolia Springs Tour of Homes
DESCRIPTION:Click here for more information.
URL:https://baldwinmastergardeners.com/calendar/magnolia-springs-tour-of-homes/
CATEGORIES:Events Calendar
END:VEVENT
BEGIN:VEVENT
DTSTART;TZID=America/Chicago:20260324T083000
DTEND;TZID=America/Chicago:20260324T150000
DTSTAMP:20260423T143111
CREATED:20260111T213528Z
LAST-MODIFIED:20260207T044655Z
UID:6755-1774341000-1774364400@baldwinmastergardeners.com
SUMMARY:Tuesday with Master Gardeners at Baldwin County Coliseum - Pre-registration Required (see flyer)
DESCRIPTION:Time: 8:30AM – 3:00PM;\nLocation: Baldwin County Coliseum\, 19477 Fairground Rd\, Robertsdale\, AL 36567;\nTopic: Azalea 101\n * This will be an all day symposium.  Various presenters From the Alabama Azalea Society will discuss azaleas for our area.\nLunch will be provided.
URL:https://baldwinmastergardeners.com/calendar/tuesday-with-master-gardeners-at-baldwin-county-coliseum/
CATEGORIES:Events Calendar
END:VEVENT
BEGIN:VEVENT
DTSTART;TZID=America/Chicago:20260326T090000
DTEND;TZID=America/Chicago:20260326T143000
DTSTAMP:20260423T143111
CREATED:20260117T011921Z
LAST-MODIFIED:20260124T042436Z
UID:6853-1774515600-1774535400@baldwinmastergardeners.com
SUMMARY:Intern Class
DESCRIPTION:
URL:https://baldwinmastergardeners.com/calendar/intern-class-22/
LOCATION:Auburn Gulf Coast Research and Extension Center\, 8300 State Highway 104\, Fairhope\, AL\, 36532\, United States
CATEGORIES:Events Calendar
END:VEVENT
BEGIN:VEVENT
DTSTART;TZID=America/Chicago:20260328T080000
DTEND;TZID=America/Chicago:20260328T090000
DTSTAMP:20260423T143111
CREATED:20250103T070932Z
LAST-MODIFIED:20260123T065631Z
UID:5461-1774684800-1774688400@baldwinmastergardeners.com
SUMMARY:Arbor Day - Daphne
DESCRIPTION:Contacts: Anita O’Conner and Mary Meyer
URL:https://baldwinmastergardeners.com/calendar/arbor-day-daphne/
LOCATION:Daphne civic Center\, 2603 US Hwy 98\, Daphne\, 36526\, United States
CATEGORIES:Events Calendar
END:VEVENT
BEGIN:VEVENT
DTSTART;TZID=America/Chicago:20260401T093000
DTEND;TZID=America/Chicago:20260401T113000
DTSTAMP:20260423T143111
CREATED:20260102T055523Z
LAST-MODIFIED:20260102T063153Z
UID:6595-1775035800-1775043000@baldwinmastergardeners.com
SUMMARY:BCMG April Board Meeting
DESCRIPTION:
URL:https://baldwinmastergardeners.com/calendar/bcmg-november-board-meeting-6/
LOCATION:Auburn Gulf Coast Research and Extension Center\, 8300 State Highway 104\, Fairhope\, AL\, 36532\, United States
CATEGORIES:Events Calendar
END:VEVENT
BEGIN:VEVENT
DTSTART;TZID=America/Chicago:20260402T090000
DTEND;TZID=America/Chicago:20260402T143000
DTSTAMP:20260423T143111
CREATED:20260117T012032Z
LAST-MODIFIED:20260125T002033Z
UID:6855-1775120400-1775140200@baldwinmastergardeners.com
SUMMARY:Intern Class
DESCRIPTION:The class will be held in the ACES Bay Minette Office at 302 Byrne St. Suite A\, Bay Minette\, AL 36507.
URL:https://baldwinmastergardeners.com/calendar/intern-class-23/
CATEGORIES:Events Calendar
END:VEVENT
BEGIN:VEVENT
DTSTART;VALUE=DATE:20260405
DTEND;VALUE=DATE:20260406
DTSTAMP:20260423T143111
CREATED:20260302T183403Z
LAST-MODIFIED:20260302T183403Z
UID:7026-1775347200-1775433599@baldwinmastergardeners.com
SUMMARY:Easter Sunday
DESCRIPTION:
URL:https://baldwinmastergardeners.com/calendar/easter-sunday-2/
CATEGORIES:Events Calendar
END:VEVENT
BEGIN:VEVENT
DTSTART;VALUE=DATE:20260406
DTEND;VALUE=DATE:20260409
DTSTAMP:20260423T143111
CREATED:20260114T184238Z
LAST-MODIFIED:20260115T062617Z
UID:6810-1775433600-1775692799@baldwinmastergardeners.com
SUMMARY:BCMG Spring Plant Sale Setup (04/08 Pre-sale)
DESCRIPTION:Presale event starts at 12:30pm with a potluck.
URL:https://baldwinmastergardeners.com/calendar/bcmg-spring-plant-sale-setup-2/
LOCATION:Weeks Bay Foundation (Across from Weeks Bay Reserve)\, 11401 US-98\,\, Fairhope\, AL\, 36532\, United States
CATEGORIES:Events Calendar
END:VEVENT
BEGIN:VEVENT
DTSTART;TZID=America/Chicago:20260408T093000
DTEND;TZID=America/Chicago:20260408T120000
DTSTAMP:20260423T143111
CREATED:20260102T060546Z
LAST-MODIFIED:20260407T040821Z
UID:6619-1775640600-1775649600@baldwinmastergardeners.com
SUMMARY:BCMG April Monthly Meeting - at 104 (9:30 am Social\, 10:00 am Meeting)
DESCRIPTION:Guest Speaker:  Kim Marsh\nTopic: The Legacy of Baldwin County Agriculture
URL:https://baldwinmastergardeners.com/calendar/bcmg-november-monthly-meeting-930-am-social-1000-am-meeting-5/
LOCATION:Auburn Gulf Coast Research and Extension Center\, 8300 State Highway 104\, Fairhope\, AL\, 36532\, United States
CATEGORIES:Events Calendar
ORGANIZER;CN="Baldwin County Master Gardeners":MAILTO:info@baldwinmastergardeners.com
END:VEVENT
BEGIN:VEVENT
DTSTART;VALUE=DATE:20260409
DTEND;VALUE=DATE:20260412
DTSTAMP:20260423T143111
CREATED:20260107T071559Z
LAST-MODIFIED:20260311T223530Z
UID:6732-1775692800-1775951999@baldwinmastergardeners.com
SUMMARY:BCMG Spring Plant Sale (flyer)
DESCRIPTION:
URL:https://baldwinmastergardeners.com/calendar/bcmg-spring-plant-sale-2/
LOCATION:Weeks Bay Foundation (Across from Weeks Bay Reserve)\, 11401 US-98\,\, Fairhope\, AL\, 36532\, United States
CATEGORIES:Events Calendar
END:VEVENT
BEGIN:VEVENT
DTSTART;TZID=America/Chicago:20260409T090000
DTEND;TZID=America/Chicago:20260409T143000
DTSTAMP:20260423T143111
CREATED:20260117T012046Z
LAST-MODIFIED:20260125T003437Z
UID:6857-1775725200-1775745000@baldwinmastergardeners.com
SUMMARY:Intern Class
DESCRIPTION:Meet at Weeks Bay Reserve for Plant Sale.\n(If you use GPS to navigate\, you can set the destination for 11401 US-98\, Fairhope\, AL 36532.  Once you’re in the area\, just follow the sign.)
URL:https://baldwinmastergardeners.com/calendar/intern-class-24/
CATEGORIES:Events Calendar
END:VEVENT
BEGIN:VEVENT
DTSTART;VALUE=DATE:20260415
DTEND;VALUE=DATE:20260416
DTSTAMP:20260423T143111
CREATED:20260311T222740Z
LAST-MODIFIED:20260403T125229Z
UID:7098-1776211200-1776297599@baldwinmastergardeners.com
SUMMARY:Jim S Garden Tour
DESCRIPTION:Contact Charlotte Hamm for more information.
URL:https://baldwinmastergardeners.com/calendar/jim-s-garden-tour/
CATEGORIES:Events Calendar
END:VEVENT
BEGIN:VEVENT
DTSTART;TZID=America/Chicago:20260416T090000
DTEND;TZID=America/Chicago:20260416T143000
DTSTAMP:20260423T143111
CREATED:20260117T012100Z
LAST-MODIFIED:20260125T004126Z
UID:6859-1776330000-1776349800@baldwinmastergardeners.com
SUMMARY:Intern Class
DESCRIPTION:Meet at Riviera Utility in Foley (413 E Laurel Ave\, Foley\, AL 36535)
URL:https://baldwinmastergardeners.com/calendar/intern-class-25/
CATEGORIES:Events Calendar
END:VEVENT
BEGIN:VEVENT
DTSTART;TZID=America/Chicago:20260418T100000
DTEND;TZID=America/Chicago:20260418T180000
DTSTAMP:20260423T143111
CREATED:20260213T214423Z
LAST-MODIFIED:20260407T040245Z
UID:7010-1776506400-1776535200@baldwinmastergardeners.com
SUMMARY:Earth Day - Fairhope Pier
DESCRIPTION:
URL:https://baldwinmastergardeners.com/calendar/earth-day-fairhope-pier/
CATEGORIES:Events Calendar
END:VEVENT
BEGIN:VEVENT
DTSTART;VALUE=DATE:20260422
DTEND;VALUE=DATE:20260423
DTSTAMP:20260423T143111
CREATED:20260407T042137Z
LAST-MODIFIED:20260407T043147Z
UID:7139-1776816000-1776902399@baldwinmastergardeners.com
SUMMARY:Earth Day - Gulf Shore
DESCRIPTION:Location: Mo’s Landing at 18068 Fort Morgan Road\, Gulf Shores\, AL 36542\nFor detailed activity schedule\, click here.
URL:https://baldwinmastergardeners.com/calendar/earth-day-fest-at-mos-landing/
CATEGORIES:Events Calendar
END:VEVENT
BEGIN:VEVENT
DTSTART;TZID=America/Chicago:20260423T090000
DTEND;TZID=America/Chicago:20260423T143000
DTSTAMP:20260423T143111
CREATED:20260117T012114Z
LAST-MODIFIED:20260125T004759Z
UID:6861-1776934800-1776954600@baldwinmastergardeners.com
SUMMARY:Intern Class
DESCRIPTION:
URL:https://baldwinmastergardeners.com/calendar/intern-class-26/
LOCATION:Auburn Gulf Coast Research and Extension Center\, 8300 State Highway 104\, Fairhope\, AL\, 36532\, United States
CATEGORIES:Events Calendar
END:VEVENT
BEGIN:VEVENT
DTSTART;TZID=America/Chicago:20260425T090000
DTEND;TZID=America/Chicago:20260425T150000
DTSTAMP:20260423T143111
CREATED:20260212T042528Z
LAST-MODIFIED:20260407T041353Z
UID:7003-1777107600-1777129200@baldwinmastergardeners.com
SUMMARY:Delta Woods & Waters Expo
DESCRIPTION:For more information\, click here.
URL:https://baldwinmastergardeners.com/calendar/delta-woods-waters-expo/
LOCATION:AWF Delta & Bay Conservation Center\, 30945 5 Rivers Boulevard\, Spanish Fort\, AL\, 36527\, United States
CATEGORIES:Events Calendar
END:VEVENT
BEGIN:VEVENT
DTSTART;TZID=America/Chicago:20260425T160000
DTEND;TZID=America/Chicago:20260425T190000
DTSTAMP:20260423T143111
CREATED:20260407T043345Z
LAST-MODIFIED:20260407T043345Z
UID:7144-1777132800-1777143600@baldwinmastergardeners.com
SUMMARY:SALT Bald Eagle Bash
DESCRIPTION:\, 4:00 pm – 7:00 pm at Tonsmeire Weeks Bay Resource Center
URL:https://baldwinmastergardeners.com/calendar/salt-bald-eagle-bash/
LOCATION:Weeks Bay Tonsmeire Resource Center\, 11525 US Hwy 98\, Fairhope\, AL\, 36532\, United States
CATEGORIES:Events Calendar
END:VEVENT
BEGIN:VEVENT
DTSTART;TZID=America/Chicago:20260429T093000
DTEND;TZID=America/Chicago:20260429T113000
DTSTAMP:20260423T143111
CREATED:20260107T072959Z
LAST-MODIFIED:20260107T072959Z
UID:6734-1777455000-1777462200@baldwinmastergardeners.com
SUMMARY:BCMG May Board Meeting
DESCRIPTION:
URL:https://baldwinmastergardeners.com/calendar/bcmg-may-board-meeting-2/
LOCATION:Auburn Gulf Coast Research and Extension Center\, 8300 State Highway 104\, Fairhope\, AL\, 36532\, United States
CATEGORIES:Events Calendar
END:VEVENT
BEGIN:VEVENT
DTSTART;TZID=America/Chicago:20260430T090000
DTEND;TZID=America/Chicago:20260430T130000
DTSTAMP:20260423T143111
CREATED:20260117T012202Z
LAST-MODIFIED:20260407T043820Z
UID:6863-1777539600-1777554000@baldwinmastergardeners.com
SUMMARY:Intern Presentation
DESCRIPTION:Arrive 8:30 am\nBegins 9:00 am
URL:https://baldwinmastergardeners.com/calendar/intern-presentation/
LOCATION:Auburn Gulf Coast Research and Extension Center\, 8300 State Highway 104\, Fairhope\, AL\, 36532\, United States
CATEGORIES:Events Calendar
END:VEVENT
BEGIN:VEVENT
DTSTART;TZID=America/Chicago:20260506T080000
DTEND;TZID=America/Chicago:20260508T170000
DTSTAMP:20260423T143111
CREATED:20250806T055127Z
LAST-MODIFIED:20260309T045044Z
UID:6333-1778054400-1778259600@baldwinmastergardeners.com
SUMMARY:AMGA 2026 Annual State Conference - Gardening to the Moon and Back
DESCRIPTION:Click here for more information.
URL:https://baldwinmastergardeners.com/calendar/amga-2026-annual-state-conference-gardening-to-the-moon-and-back/
CATEGORIES:Events Calendar
END:VEVENT
BEGIN:VEVENT
DTSTART;TZID=America/Chicago:20260509T090000
DTEND;TZID=America/Chicago:20260509T100000
DTSTAMP:20260423T143111
CREATED:20260311T223337Z
LAST-MODIFIED:20260311T224030Z
UID:7100-1778317200-1778320800@baldwinmastergardeners.com
SUMMARY:Welcome Back Monarchs (see flyer)
DESCRIPTION:
URL:https://baldwinmastergardeners.com/calendar/welcome-back-monarchs/
LOCATION:Foley Civic Center\, 407 E Laurel Ave\, Foley\, AL\, 36535\, United States
CATEGORIES:Events Calendar
END:VEVENT
BEGIN:VEVENT
DTSTART;TZID=America/Chicago:20260509T090000
DTEND;TZID=America/Chicago:20260509T100000
DTSTAMP:20260423T143111
CREATED:20260407T044552Z
LAST-MODIFIED:20260407T130919Z
UID:7149-1778317200-1778320800@baldwinmastergardeners.com
SUMMARY:Welcome Back Monarchs (flyer)
DESCRIPTION:
URL:https://baldwinmastergardeners.com/calendar/welcome-back-monarchs-flyer/
CATEGORIES:Events Calendar
END:VEVENT
BEGIN:VEVENT
DTSTART;VALUE=DATE:20260510
DTEND;VALUE=DATE:20260511
DTSTAMP:20260423T143111
CREATED:20260302T183824Z
LAST-MODIFIED:20260302T183824Z
UID:7030-1778371200-1778457599@baldwinmastergardeners.com
SUMMARY:Mother's Day
DESCRIPTION:
URL:https://baldwinmastergardeners.com/calendar/mothers-day-3/
CATEGORIES:Events Calendar
END:VEVENT
BEGIN:VEVENT
DTSTART;TZID=America/Chicago:20260513T093000
DTEND;TZID=America/Chicago:20260513T120000
DTSTAMP:20260423T143111
CREATED:20260102T060606Z
LAST-MODIFIED:20260102T062314Z
UID:6621-1778664600-1778673600@baldwinmastergardeners.com
SUMMARY:BCMG May Monthly Meeting (9:30 am Social\, 10:00 am Meeting)
DESCRIPTION:
URL:https://baldwinmastergardeners.com/calendar/bcmg-november-monthly-meeting-930-am-social-1000-am-meeting-6/
LOCATION:Auburn Gulf Coast Research and Extension Center\, 8300 State Highway 104\, Fairhope\, AL\, 36532\, United States
CATEGORIES:Events Calendar
ORGANIZER;CN="Baldwin County Master Gardeners":MAILTO:info@baldwinmastergardeners.com
END:VEVENT
END:VCALENDAR