BEGIN:VCALENDAR
VERSION:2.0
PRODID:-//Baldwin County Master Gardeners - ECPv6.15.20//NONSGML v1.0//EN
CALSCALE:GREGORIAN
METHOD:PUBLISH
X-WR-CALNAME:Baldwin County Master Gardeners
X-ORIGINAL-URL:https://baldwinmastergardeners.com
X-WR-CALDESC:Events for Baldwin County Master Gardeners
REFRESH-INTERVAL;VALUE=DURATION:PT1H
X-Robots-Tag:noindex
X-PUBLISHED-TTL:PT1H
BEGIN:VTIMEZONE
TZID:America/Chicago
BEGIN:DAYLIGHT
TZOFFSETFROM:-0600
TZOFFSETTO:-0500
TZNAME:CDT
DTSTART:20250309T080000
END:DAYLIGHT
BEGIN:STANDARD
TZOFFSETFROM:-0500
TZOFFSETTO:-0600
TZNAME:CST
DTSTART:20251102T070000
END:STANDARD
BEGIN:DAYLIGHT
TZOFFSETFROM:-0600
TZOFFSETTO:-0500
TZNAME:CDT
DTSTART:20260308T080000
END:DAYLIGHT
BEGIN:STANDARD
TZOFFSETFROM:-0500
TZOFFSETTO:-0600
TZNAME:CST
DTSTART:20261101T070000
END:STANDARD
BEGIN:DAYLIGHT
TZOFFSETFROM:-0600
TZOFFSETTO:-0500
TZNAME:CDT
DTSTART:20270314T080000
END:DAYLIGHT
BEGIN:STANDARD
TZOFFSETFROM:-0500
TZOFFSETTO:-0600
TZNAME:CST
DTSTART:20271107T070000
END:STANDARD
BEGIN:DAYLIGHT
TZOFFSETFROM:-0600
TZOFFSETTO:-0500
TZNAME:CDT
DTSTART:20280312T080000
END:DAYLIGHT
BEGIN:STANDARD
TZOFFSETFROM:-0500
TZOFFSETTO:-0600
TZNAME:CST
DTSTART:20281105T070000
END:STANDARD
END:VTIMEZONE
BEGIN:VEVENT
DTSTART;TZID=America/Chicago:20260610T093000
DTEND;TZID=America/Chicago:20260610T120000
DTSTAMP:20260423T191233
CREATED:20260102T060650Z
LAST-MODIFIED:20260102T061953Z
UID:6623-1781083800-1781092800@baldwinmastergardeners.com
SUMMARY:BCMG June Monthly Meeting (9:30 am Social\, 10:00 am Meeting)
DESCRIPTION:
URL:https://baldwinmastergardeners.com/calendar/bcmg-november-monthly-meeting-930-am-social-1000-am-meeting-7/
LOCATION:Auburn Gulf Coast Research and Extension Center\, 8300 State Highway 104\, Fairhope\, AL\, 36532\, United States
CATEGORIES:Events Calendar
ORGANIZER;CN="Baldwin County Master Gardeners":MAILTO:info@baldwinmastergardeners.com
END:VEVENT
BEGIN:VEVENT
DTSTART;VALUE=DATE:20260623
DTEND;VALUE=DATE:20260624
DTSTAMP:20260423T191233
CREATED:20260309T055416Z
LAST-MODIFIED:20260309T055433Z
UID:7066-1782172800-1782259199@baldwinmastergardeners.com
SUMMARY:Kids Nature Day
DESCRIPTION:Location: Bay Minette Holly Hills Country Club\n 
URL:https://baldwinmastergardeners.com/calendar/kids-nature-day-2/
CATEGORIES:Events Calendar
END:VEVENT
BEGIN:VEVENT
DTSTART;TZID=America/Chicago:20260624T090000
DTEND;TZID=America/Chicago:20260624T150000
DTSTAMP:20260423T191233
CREATED:20260311T222532Z
LAST-MODIFIED:20260311T222532Z
UID:7096-1782291600-1782313200@baldwinmastergardeners.com
SUMMARY:The Great Southeast Pollinator Census Training
DESCRIPTION:
URL:https://baldwinmastergardeners.com/calendar/the-great-southeast-pollinator-census-training/
CATEGORIES:Events Calendar
END:VEVENT
BEGIN:VEVENT
DTSTART;TZID=America/Chicago:20260701T093000
DTEND;TZID=America/Chicago:20260701T113000
DTSTAMP:20260423T191233
CREATED:20260102T055620Z
LAST-MODIFIED:20260102T062949Z
UID:6601-1782898200-1782905400@baldwinmastergardeners.com
SUMMARY:BCMG July Board Meeting
DESCRIPTION:
URL:https://baldwinmastergardeners.com/calendar/bcmg-november-board-meeting-9/
LOCATION:Auburn Gulf Coast Research and Extension Center\, 8300 State Highway 104\, Fairhope\, AL\, 36532\, United States
CATEGORIES:Events Calendar
END:VEVENT
BEGIN:VEVENT
DTSTART;VALUE=DATE:20260704
DTEND;VALUE=DATE:20260705
DTSTAMP:20260423T191233
CREATED:20260302T183929Z
LAST-MODIFIED:20260302T183929Z
UID:7032-1783123200-1783209599@baldwinmastergardeners.com
SUMMARY:Independence Day
DESCRIPTION:
URL:https://baldwinmastergardeners.com/calendar/independence-day-2/
CATEGORIES:Events Calendar
END:VEVENT
BEGIN:VEVENT
DTSTART;TZID=America/Chicago:20260708T093000
DTEND;TZID=America/Chicago:20260708T120000
DTSTAMP:20260423T191233
CREATED:20260102T060710Z
LAST-MODIFIED:20260102T061559Z
UID:6625-1783503000-1783512000@baldwinmastergardeners.com
SUMMARY:BCMG Award Luncheon
DESCRIPTION:This meeting is for members only.\nPlease bring a dish of your favorite recipe to the potluck luncheon.
URL:https://baldwinmastergardeners.com/calendar/bcmg-november-monthly-meeting-930-am-social-1000-am-meeting-8/
LOCATION:Auburn Gulf Coast Research and Extension Center\, 8300 State Highway 104\, Fairhope\, AL\, 36532\, United States
CATEGORIES:Events Calendar
ORGANIZER;CN="Baldwin County Master Gardeners":MAILTO:info@baldwinmastergardeners.com
END:VEVENT
BEGIN:VEVENT
DTSTART;TZID=America/Chicago:20260805T093000
DTEND;TZID=America/Chicago:20260805T113000
DTSTAMP:20260423T191233
CREATED:20260102T055651Z
LAST-MODIFIED:20260102T062928Z
UID:6603-1785922200-1785929400@baldwinmastergardeners.com
SUMMARY:BCMG August Board Meeting
DESCRIPTION:
URL:https://baldwinmastergardeners.com/calendar/bcmg-november-board-meeting-10/
LOCATION:Auburn Gulf Coast Research and Extension Center\, 8300 State Highway 104\, Fairhope\, AL\, 36532\, United States
CATEGORIES:Events Calendar
END:VEVENT
BEGIN:VEVENT
DTSTART;TZID=America/Chicago:20260812T093000
DTEND;TZID=America/Chicago:20260812T120000
DTSTAMP:20260423T191233
CREATED:20260102T060736Z
LAST-MODIFIED:20260102T062241Z
UID:6627-1786527000-1786536000@baldwinmastergardeners.com
SUMMARY:BCMG August Monthly Meeting (9:30 am Social\, 10:00 am Meeting)
DESCRIPTION:
URL:https://baldwinmastergardeners.com/calendar/bcmg-november-monthly-meeting-930-am-social-1000-am-meeting-9/
LOCATION:Auburn Gulf Coast Research and Extension Center\, 8300 State Highway 104\, Fairhope\, AL\, 36532\, United States
CATEGORIES:Events Calendar
ORGANIZER;CN="Baldwin County Master Gardeners":MAILTO:info@baldwinmastergardeners.com
END:VEVENT
BEGIN:VEVENT
DTSTART;VALUE=DATE:20260821
DTEND;VALUE=DATE:20260822
DTSTAMP:20260423T191233
CREATED:20260407T045534Z
LAST-MODIFIED:20260407T045534Z
UID:7156-1787270400-1787356799@baldwinmastergardeners.com
SUMMARY:The Great Southeast Pollinator Census Count
DESCRIPTION:
URL:https://baldwinmastergardeners.com/calendar/the-great-southeast-pollinator-census-count/
CATEGORIES:Events Calendar
END:VEVENT
BEGIN:VEVENT
DTSTART;TZID=America/Chicago:20260902T093000
DTEND;TZID=America/Chicago:20260902T113000
DTSTAMP:20260423T191233
CREATED:20260102T055709Z
LAST-MODIFIED:20260102T062901Z
UID:6605-1788341400-1788348600@baldwinmastergardeners.com
SUMMARY:BCMG September Board Meeting
DESCRIPTION:
URL:https://baldwinmastergardeners.com/calendar/bcmg-november-board-meeting-11/
LOCATION:Auburn Gulf Coast Research and Extension Center\, 8300 State Highway 104\, Fairhope\, AL\, 36532\, United States
CATEGORIES:Events Calendar
END:VEVENT
BEGIN:VEVENT
DTSTART;VALUE=DATE:20260907
DTEND;VALUE=DATE:20260908
DTSTAMP:20260423T191233
CREATED:20260302T184014Z
LAST-MODIFIED:20260302T184014Z
UID:7034-1788739200-1788825599@baldwinmastergardeners.com
SUMMARY:Labor Day
DESCRIPTION:
URL:https://baldwinmastergardeners.com/calendar/labor-day/
CATEGORIES:Events Calendar
END:VEVENT
BEGIN:VEVENT
DTSTART;TZID=America/Chicago:20261007T093000
DTEND;TZID=America/Chicago:20261007T113000
DTSTAMP:20260423T191233
CREATED:20260102T055726Z
LAST-MODIFIED:20260102T062832Z
UID:6607-1791365400-1791372600@baldwinmastergardeners.com
SUMMARY:BCMG October Board Meeting
DESCRIPTION:
URL:https://baldwinmastergardeners.com/calendar/bcmg-november-board-meeting-12/
LOCATION:Auburn Gulf Coast Research and Extension Center\, 8300 State Highway 104\, Fairhope\, AL\, 36532\, United States
CATEGORIES:Events Calendar
END:VEVENT
BEGIN:VEVENT
DTSTART;VALUE=DATE:20261012
DTEND;VALUE=DATE:20261013
DTSTAMP:20260423T191233
CREATED:20260302T184127Z
LAST-MODIFIED:20260302T184127Z
UID:7036-1791763200-1791849599@baldwinmastergardeners.com
SUMMARY:Columbus Day
DESCRIPTION:
URL:https://baldwinmastergardeners.com/calendar/columbus-day/
CATEGORIES:Events Calendar
END:VEVENT
BEGIN:VEVENT
DTSTART;TZID=America/Chicago:20261014T093000
DTEND;TZID=America/Chicago:20261014T120000
DTSTAMP:20260423T191233
CREATED:20260102T060813Z
LAST-MODIFIED:20260102T061708Z
UID:6631-1791970200-1791979200@baldwinmastergardeners.com
SUMMARY:BCMG October Monthly Meeting (9:30 am Social\, 10:00 am Meeting)
DESCRIPTION:
URL:https://baldwinmastergardeners.com/calendar/bcmg-november-monthly-meeting-930-am-social-1000-am-meeting-11/
LOCATION:Auburn Gulf Coast Research and Extension Center\, 8300 State Highway 104\, Fairhope\, AL\, 36532\, United States
CATEGORIES:Events Calendar
ORGANIZER;CN="Baldwin County Master Gardeners":MAILTO:info@baldwinmastergardeners.com
END:VEVENT
BEGIN:VEVENT
DTSTART;TZID=America/Chicago:20261104T093000
DTEND;TZID=America/Chicago:20261104T113000
DTSTAMP:20260423T191233
CREATED:20260102T055744Z
LAST-MODIFIED:20260102T055744Z
UID:6609-1793784600-1793791800@baldwinmastergardeners.com
SUMMARY:BCMG November Board Meeting
DESCRIPTION:
URL:https://baldwinmastergardeners.com/calendar/bcmg-november-board-meeting-13/
LOCATION:Auburn Gulf Coast Research and Extension Center\, 8300 State Highway 104\, Fairhope\, AL\, 36532\, United States
CATEGORIES:Events Calendar
END:VEVENT
BEGIN:VEVENT
DTSTART;TZID=America/Chicago:20261111T093000
DTEND;TZID=America/Chicago:20261111T120000
DTSTAMP:20260423T191233
CREATED:20260102T060836Z
LAST-MODIFIED:20260102T060836Z
UID:6633-1794389400-1794398400@baldwinmastergardeners.com
SUMMARY:BCMG November Monthly Meeting (9:30 am Social\, 10:00 am Meeting)
DESCRIPTION:
URL:https://baldwinmastergardeners.com/calendar/bcmg-november-monthly-meeting-930-am-social-1000-am-meeting-12/
LOCATION:Auburn Gulf Coast Research and Extension Center\, 8300 State Highway 104\, Fairhope\, AL\, 36532\, United States
CATEGORIES:Events Calendar
ORGANIZER;CN="Baldwin County Master Gardeners":MAILTO:info@baldwinmastergardeners.com
END:VEVENT
BEGIN:VEVENT
DTSTART;VALUE=DATE:20261126
DTEND;VALUE=DATE:20261127
DTSTAMP:20260423T191233
CREATED:20260302T184246Z
LAST-MODIFIED:20260302T184246Z
UID:7038-1795651200-1795737599@baldwinmastergardeners.com
SUMMARY:Thanksgiving
DESCRIPTION:
URL:https://baldwinmastergardeners.com/calendar/thanksgiving/
CATEGORIES:Events Calendar
END:VEVENT
BEGIN:VEVENT
DTSTART;TZID=America/Chicago:20261202T093000
DTEND;TZID=America/Chicago:20261202T113000
DTSTAMP:20260423T191233
CREATED:20260102T055801Z
LAST-MODIFIED:20260102T062751Z
UID:6611-1796203800-1796211000@baldwinmastergardeners.com
SUMMARY:BCMG December Board Meeting
DESCRIPTION:
URL:https://baldwinmastergardeners.com/calendar/bcmg-november-board-meeting-14/
LOCATION:Auburn Gulf Coast Research and Extension Center\, 8300 State Highway 104\, Fairhope\, AL\, 36532\, United States
CATEGORIES:Events Calendar
END:VEVENT
BEGIN:VEVENT
DTSTART;TZID=America/Chicago:20261209T100000
DTEND;TZID=America/Chicago:20261209T130000
DTSTAMP:20260423T191233
CREATED:20260102T061059Z
LAST-MODIFIED:20260102T152606Z
UID:6635-1796810400-1796821200@baldwinmastergardeners.com
SUMMARY:BCMG Christmas Awards Luncheon
DESCRIPTION:10:00 am  Social\n10:30 am  Business meeting\n11:00 am   Lunch\, followed by the awards ceremony
URL:https://baldwinmastergardeners.com/calendar/bcmg-christmas-awards-luncheon/
LOCATION:Auburn Gulf Coast Research and Extension Center\, 8300 State Highway 104\, Fairhope\, AL\, 36532\, United States
CATEGORIES:Events Calendar
ORGANIZER;CN="Baldwin County Master Gardeners":MAILTO:info@baldwinmastergardeners.com
END:VEVENT
BEGIN:VEVENT
DTSTART;VALUE=DATE:20261224
DTEND;VALUE=DATE:20261225
DTSTAMP:20260423T191233
CREATED:20260302T184405Z
LAST-MODIFIED:20260302T184405Z
UID:7040-1798070400-1798156799@baldwinmastergardeners.com
SUMMARY:Christmas Eve
DESCRIPTION:
URL:https://baldwinmastergardeners.com/calendar/christmas-eve/
CATEGORIES:Events Calendar
END:VEVENT
BEGIN:VEVENT
DTSTART;VALUE=DATE:20261225
DTEND;VALUE=DATE:20261226
DTSTAMP:20260423T191233
CREATED:20260302T184428Z
LAST-MODIFIED:20260302T184428Z
UID:7042-1798156800-1798243199@baldwinmastergardeners.com
SUMMARY:Christmas Day
DESCRIPTION:
URL:https://baldwinmastergardeners.com/calendar/christmas-day/
CATEGORIES:Events Calendar
END:VEVENT
BEGIN:VEVENT
DTSTART;VALUE=DATE:20261231
DTEND;VALUE=DATE:20270101
DTSTAMP:20260423T191233
CREATED:20260302T184501Z
LAST-MODIFIED:20260302T184501Z
UID:7044-1798675200-1798761599@baldwinmastergardeners.com
SUMMARY:New Year's Eve
DESCRIPTION:
URL:https://baldwinmastergardeners.com/calendar/new-years-eve/
CATEGORIES:Events Calendar
END:VEVENT
BEGIN:VEVENT
DTSTART;VALUE=DATE:20270101
DTEND;VALUE=DATE:20270102
DTSTAMP:20260423T191233
CREATED:20260302T184524Z
LAST-MODIFIED:20260302T184524Z
UID:7046-1798761600-1798847999@baldwinmastergardeners.com
SUMMARY:New Year's Day
DESCRIPTION:
URL:https://baldwinmastergardeners.com/calendar/new-years-day/
CATEGORIES:Events Calendar
END:VEVENT
END:VCALENDAR