BEGIN:VCALENDAR
VERSION:2.0
PRODID:-//Baldwin County Master Gardeners - ECPv6.15.20//NONSGML v1.0//EN
CALSCALE:GREGORIAN
METHOD:PUBLISH
X-WR-CALNAME:Baldwin County Master Gardeners
X-ORIGINAL-URL:https://baldwinmastergardeners.com
X-WR-CALDESC:Events for Baldwin County Master Gardeners
REFRESH-INTERVAL;VALUE=DURATION:PT1H
X-Robots-Tag:noindex
X-PUBLISHED-TTL:PT1H
BEGIN:VTIMEZONE
TZID:America/Chicago
BEGIN:DAYLIGHT
TZOFFSETFROM:-0600
TZOFFSETTO:-0500
TZNAME:CDT
DTSTART:20230312T080000
END:DAYLIGHT
BEGIN:STANDARD
TZOFFSETFROM:-0500
TZOFFSETTO:-0600
TZNAME:CST
DTSTART:20231105T070000
END:STANDARD
BEGIN:DAYLIGHT
TZOFFSETFROM:-0600
TZOFFSETTO:-0500
TZNAME:CDT
DTSTART:20240310T080000
END:DAYLIGHT
BEGIN:STANDARD
TZOFFSETFROM:-0500
TZOFFSETTO:-0600
TZNAME:CST
DTSTART:20241103T070000
END:STANDARD
BEGIN:DAYLIGHT
TZOFFSETFROM:-0600
TZOFFSETTO:-0500
TZNAME:CDT
DTSTART:20250309T080000
END:DAYLIGHT
BEGIN:STANDARD
TZOFFSETFROM:-0500
TZOFFSETTO:-0600
TZNAME:CST
DTSTART:20251102T070000
END:STANDARD
END:VTIMEZONE
BEGIN:VEVENT
DTSTART;TZID=America/Chicago:20241018T090000
DTEND;TZID=America/Chicago:20241019T160000
DTSTAMP:20260425T075656
CREATED:20241029T223134Z
LAST-MODIFIED:20250107T234119Z
UID:5235-1729242000-1729353600@baldwinmastergardeners.com
SUMMARY:BCMG Fall Plant Sale
DESCRIPTION:
URL:https://baldwinmastergardeners.com/calendar/bcmg-fall-plant-sale/
LOCATION:Weeks Bay Reserve
CATEGORIES:Events Calendar
END:VEVENT
BEGIN:VEVENT
DTSTART;TZID=America/Chicago:20241017T113000
DTEND;TZID=America/Chicago:20241017T133000
DTSTAMP:20260425T075656
CREATED:20241031T061907Z
LAST-MODIFIED:20250107T234121Z
UID:5282-1729164600-1729171800@baldwinmastergardeners.com
SUMMARY:BCMG Fall Plant Pre-Sale (Member Only)
DESCRIPTION:
URL:https://baldwinmastergardeners.com/calendar/bcmg-fall-plant-pre-sale-member-only/
LOCATION:Weeks Bay Reserve
CATEGORIES:Events Calendar
END:VEVENT
BEGIN:VEVENT
DTSTART;VALUE=DATE:20241015
DTEND;VALUE=DATE:20241018
DTSTAMP:20260425T075656
CREATED:20241031T061157Z
LAST-MODIFIED:20250107T234123Z
UID:5275-1728950400-1729209599@baldwinmastergardeners.com
SUMMARY:BCMG Fall Plant Sale Set Up Days
DESCRIPTION:
URL:https://baldwinmastergardeners.com/calendar/bcmg-fall-plant-sale-set-up-days/
LOCATION:Weeks Bay Reserve
CATEGORIES:Events Calendar
END:VEVENT
BEGIN:VEVENT
DTSTART;TZID=America/Chicago:20241012T090000
DTEND;TZID=America/Chicago:20241012T120000
DTSTAMP:20260425T075656
CREATED:20241031T061621Z
LAST-MODIFIED:20250107T234126Z
UID:5277-1728723600-1728734400@baldwinmastergardeners.com
SUMMARY:BCMG Fall Seminar
DESCRIPTION:
URL:https://baldwinmastergardeners.com/calendar/bcmg-fall-seminar/
LOCATION:Auburn Gulf Coast Research and Extension Center\, 8300 State Highway 104\, Fairhope\, AL\, 36532\, United States
CATEGORIES:Events Calendar
END:VEVENT
END:VCALENDAR