BEGIN:VCALENDAR
VERSION:2.0
PRODID:-//Baldwin County Master Gardeners - ECPv6.15.20//NONSGML v1.0//EN
CALSCALE:GREGORIAN
METHOD:PUBLISH
X-WR-CALNAME:Baldwin County Master Gardeners
X-ORIGINAL-URL:https://baldwinmastergardeners.com
X-WR-CALDESC:Events for Baldwin County Master Gardeners
REFRESH-INTERVAL;VALUE=DURATION:PT1H
X-Robots-Tag:noindex
X-PUBLISHED-TTL:PT1H
BEGIN:VTIMEZONE
TZID:America/Chicago
BEGIN:DAYLIGHT
TZOFFSETFROM:-0600
TZOFFSETTO:-0500
TZNAME:CDT
DTSTART:20240310T080000
END:DAYLIGHT
BEGIN:STANDARD
TZOFFSETFROM:-0500
TZOFFSETTO:-0600
TZNAME:CST
DTSTART:20241103T070000
END:STANDARD
BEGIN:DAYLIGHT
TZOFFSETFROM:-0600
TZOFFSETTO:-0500
TZNAME:CDT
DTSTART:20250309T080000
END:DAYLIGHT
BEGIN:STANDARD
TZOFFSETFROM:-0500
TZOFFSETTO:-0600
TZNAME:CST
DTSTART:20251102T070000
END:STANDARD
BEGIN:DAYLIGHT
TZOFFSETFROM:-0600
TZOFFSETTO:-0500
TZNAME:CDT
DTSTART:20260308T080000
END:DAYLIGHT
BEGIN:STANDARD
TZOFFSETFROM:-0500
TZOFFSETTO:-0600
TZNAME:CST
DTSTART:20261101T070000
END:STANDARD
END:VTIMEZONE
BEGIN:VEVENT
DTSTART;TZID=America/Chicago:20250310T083000
DTEND;TZID=America/Chicago:20250310T103000
DTSTAMP:20260425T094325
CREATED:20250216T234803Z
LAST-MODIFIED:20250216T234803Z
UID:5644-1741595400-1741602600@baldwinmastergardeners.com
SUMMARY:BCMG Greenhouse - CACC
DESCRIPTION:Every Monday and Thursday 8:30am -10:30am.
URL:https://baldwinmastergardeners.com/calendar/bcmg-greenhouse-cacc-21/
LOCATION:Costal Alabama Community College\, 450 Fairhope Ave\, Fairhope\, AL\, 36532\, United States
CATEGORIES:Greenhouse Schedule
END:VEVENT
BEGIN:VEVENT
DTSTART;VALUE=DATE:20250309
DTEND;VALUE=DATE:20250310
DTSTAMP:20260425T094325
CREATED:20250225T080158Z
LAST-MODIFIED:20250225T080158Z
UID:5703-1741478400-1741564799@baldwinmastergardeners.com
SUMMARY:Daylight Saving Time
DESCRIPTION:
URL:https://baldwinmastergardeners.com/calendar/daylight-saving-time/
LOCATION:AL
END:VEVENT
BEGIN:VEVENT
DTSTART;TZID=America/Chicago:20250307T090000
DTEND;TZID=America/Chicago:20250307T110000
DTSTAMP:20260425T094325
CREATED:20250217T001557Z
LAST-MODIFIED:20250217T001557Z
UID:5660-1741338000-1741345200@baldwinmastergardeners.com
SUMMARY:BCMG Greenhouse - Daphne HS
DESCRIPTION:Every Monday and Friday 9:00am -11:00am.
URL:https://baldwinmastergardeners.com/calendar/bcmg-greenhouse-daphne-hs-11/
LOCATION:Costal Alabama Community College\, 450 Fairhope Ave\, Fairhope\, AL\, 36532\, United States
CATEGORIES:Greenhouse Schedule
END:VEVENT
BEGIN:VEVENT
DTSTART;TZID=America/Chicago:20250306T090000
DTEND;TZID=America/Chicago:20250306T140000
DTSTAMP:20260425T094325
CREATED:20250103T051138Z
LAST-MODIFIED:20250107T233655Z
UID:5437-1741251600-1741269600@baldwinmastergardeners.com
SUMMARY:Intern Class
DESCRIPTION:
URL:https://baldwinmastergardeners.com/calendar/intern-class-6/
LOCATION:Auburn Gulf Coast Research and Extension Center\, 8300 State Highway 104\, Fairhope\, AL\, 36532\, United States
CATEGORIES:Events Calendar
END:VEVENT
BEGIN:VEVENT
DTSTART;TZID=America/Chicago:20250306T083000
DTEND;TZID=America/Chicago:20250306T103000
DTSTAMP:20260425T094325
CREATED:20250216T232048Z
LAST-MODIFIED:20250216T232048Z
UID:5626-1741249800-1741257000@baldwinmastergardeners.com
SUMMARY:BCMG Greenhouse - CACC
DESCRIPTION:Every Monday and Thursday 8:30am -10:30am.
URL:https://baldwinmastergardeners.com/calendar/bcmg-greenhouse-cacc-20/
LOCATION:Costal Alabama Community College\, 450 Fairhope Ave\, Fairhope\, AL\, 36532\, United States
CATEGORIES:Greenhouse Schedule
END:VEVENT
BEGIN:VEVENT
DTSTART;TZID=America/Chicago:20250305T093000
DTEND;TZID=America/Chicago:20250305T113000
DTSTAMP:20260425T094325
CREATED:20241031T055703Z
LAST-MODIFIED:20250107T233707Z
UID:5263-1741167000-1741174200@baldwinmastergardeners.com
SUMMARY:BCMG March Board Meeting
DESCRIPTION:
URL:https://baldwinmastergardeners.com/calendar/bcmg-march-board-meeting/
LOCATION:Auburn Gulf Coast Research and Extension Center\, 8300 State Highway 104\, Fairhope\, AL\, 36532\, United States
CATEGORIES:Events Calendar
END:VEVENT
BEGIN:VEVENT
DTSTART;TZID=America/Chicago:20250304T180000
DTEND;TZID=America/Chicago:20250304T193000
DTSTAMP:20260425T094325
CREATED:20250215T225055Z
LAST-MODIFIED:20250304T190424Z
UID:5580-1741111200-1741116600@baldwinmastergardeners.com
SUMMARY:2025 BCMG Spring Workshops -Rescheduled to April 1st 2025
DESCRIPTION:Tuesdays with Master Gardeners\n \n\n    \n        Rescheduled\n    \n\nTopic – How to Prepare Your Garden for Success: \nThis event has been rescheduled for Tuesday\, April 1\, 2025. \nLearn how to prepare your soil for this coming season: how to improve your soil’s fertility; and about the different soil-less media options and the selection of which will be the best fit for your garden. This session will include hands-on activities. \nSpeaker – Carmen Flammini\, Auburn University Extension Agent
URL:https://baldwinmastergardeners.com/calendar/bcmg-spring-workshop-tuesdays-with-master-gardeners/
LOCATION:Auburn Gulf Coast Research and Extension Center\, 8300 State Highway 104\, Fairhope\, AL\, 36532\, United States
CATEGORIES:Events Calendar
ORGANIZER;CN="Baldwin County Master Gardeners":MAILTO:info@baldwinmastergardeners.com
END:VEVENT
BEGIN:VEVENT
DTSTART;TZID=America/Chicago:20250303T090000
DTEND;TZID=America/Chicago:20250303T110000
DTSTAMP:20260425T094325
CREATED:20250217T001419Z
LAST-MODIFIED:20250217T001419Z
UID:5658-1740992400-1740999600@baldwinmastergardeners.com
SUMMARY:BCMG Greenhouse - Daphne HS
DESCRIPTION:Every Monday and Friday 9:00am -11:00am.
URL:https://baldwinmastergardeners.com/calendar/bcmg-greenhouse-daphne-hs-10/
LOCATION:Costal Alabama Community College\, 450 Fairhope Ave\, Fairhope\, AL\, 36532\, United States
CATEGORIES:Greenhouse Schedule
END:VEVENT
BEGIN:VEVENT
DTSTART;TZID=America/Chicago:20250303T083000
DTEND;TZID=America/Chicago:20250303T103000
DTSTAMP:20260425T094325
CREATED:20250216T232023Z
LAST-MODIFIED:20250216T232023Z
UID:5624-1740990600-1740997800@baldwinmastergardeners.com
SUMMARY:BCMG Greenhouse - CACC
DESCRIPTION:Every Monday and Thursday 8:30am -10:30am.
URL:https://baldwinmastergardeners.com/calendar/bcmg-greenhouse-cacc-19/
LOCATION:Costal Alabama Community College\, 450 Fairhope Ave\, Fairhope\, AL\, 36532\, United States
CATEGORIES:Greenhouse Schedule
END:VEVENT
BEGIN:VEVENT
DTSTART;TZID=America/Chicago:20250228T090000
DTEND;TZID=America/Chicago:20250228T110000
DTSTAMP:20260425T094325
CREATED:20250216T232646Z
LAST-MODIFIED:20250216T232646Z
UID:5642-1740733200-1740740400@baldwinmastergardeners.com
SUMMARY:BCMG Greenhouse - Daphne HS
DESCRIPTION:Every Monday and Friday 9:00am -11:00am.
URL:https://baldwinmastergardeners.com/calendar/bcmg-greenhouse-daphne-hs-9/
LOCATION:Costal Alabama Community College\, 450 Fairhope Ave\, Fairhope\, AL\, 36532\, United States
CATEGORIES:Greenhouse Schedule
END:VEVENT
BEGIN:VEVENT
DTSTART;TZID=America/Chicago:20250227T090000
DTEND;TZID=America/Chicago:20250227T140000
DTSTAMP:20260425T094325
CREATED:20250103T051107Z
LAST-MODIFIED:20250107T233710Z
UID:5435-1740646800-1740664800@baldwinmastergardeners.com
SUMMARY:Intern Class
DESCRIPTION:
URL:https://baldwinmastergardeners.com/calendar/intern-class-5/
LOCATION:Auburn Gulf Coast Research and Extension Center\, 8300 State Highway 104\, Fairhope\, AL\, 36532\, United States
CATEGORIES:Events Calendar
END:VEVENT
BEGIN:VEVENT
DTSTART;TZID=America/Chicago:20250227T083000
DTEND;TZID=America/Chicago:20250227T103000
DTSTAMP:20260425T094325
CREATED:20250216T231946Z
LAST-MODIFIED:20250216T231946Z
UID:5622-1740645000-1740652200@baldwinmastergardeners.com
SUMMARY:BCMG Greenhouse - CACC
DESCRIPTION:Every Monday and Thursday 8:30am -10:30am.
URL:https://baldwinmastergardeners.com/calendar/bcmg-greenhouse-cacc-18/
LOCATION:Costal Alabama Community College\, 450 Fairhope Ave\, Fairhope\, AL\, 36532\, United States
CATEGORIES:Greenhouse Schedule
END:VEVENT
BEGIN:VEVENT
DTSTART;TZID=America/Chicago:20250224T090000
DTEND;TZID=America/Chicago:20250224T110000
DTSTAMP:20260425T094325
CREATED:20250216T232618Z
LAST-MODIFIED:20250216T232618Z
UID:5640-1740387600-1740394800@baldwinmastergardeners.com
SUMMARY:BCMG Greenhouse - Daphne HS
DESCRIPTION:Every Monday and Friday 9:00am -11:00am.
URL:https://baldwinmastergardeners.com/calendar/bcmg-greenhouse-daphne-hs-8/
LOCATION:Costal Alabama Community College\, 450 Fairhope Ave\, Fairhope\, AL\, 36532\, United States
CATEGORIES:Greenhouse Schedule
END:VEVENT
BEGIN:VEVENT
DTSTART;TZID=America/Chicago:20250224T083000
DTEND;TZID=America/Chicago:20250224T103000
DTSTAMP:20260425T094325
CREATED:20250216T231916Z
LAST-MODIFIED:20250216T231916Z
UID:5620-1740385800-1740393000@baldwinmastergardeners.com
SUMMARY:BCMG Greenhouse - CACC
DESCRIPTION:Every Monday and Thursday 8:30am -10:30am.
URL:https://baldwinmastergardeners.com/calendar/bcmg-greenhouse-cacc-17/
LOCATION:Costal Alabama Community College\, 450 Fairhope Ave\, Fairhope\, AL\, 36532\, United States
CATEGORIES:Greenhouse Schedule
END:VEVENT
BEGIN:VEVENT
DTSTART;TZID=America/Chicago:20250221T140000
DTEND;TZID=America/Chicago:20250221T203000
DTSTAMP:20260425T094325
CREATED:20250103T053004Z
LAST-MODIFIED:20250107T233433Z
UID:5457-1740146400-1740169800@baldwinmastergardeners.com
SUMMARY:Mardi Gras starts (Eastern Shore)
DESCRIPTION:
URL:https://baldwinmastergardeners.com/calendar/mardi-gras-starts-eastern-shore/
LOCATION:AL
CATEGORIES:Events Calendar
END:VEVENT
BEGIN:VEVENT
DTSTART;TZID=America/Chicago:20250221T090000
DTEND;TZID=America/Chicago:20250221T110000
DTSTAMP:20260425T094325
CREATED:20250216T232553Z
LAST-MODIFIED:20250216T232553Z
UID:5638-1740128400-1740135600@baldwinmastergardeners.com
SUMMARY:BCMG Greenhouse - Daphne HS
DESCRIPTION:Every Monday and Friday 9:00am -11:00am.
URL:https://baldwinmastergardeners.com/calendar/bcmg-greenhouse-daphne-hs-7/
LOCATION:Costal Alabama Community College\, 450 Fairhope Ave\, Fairhope\, AL\, 36532\, United States
CATEGORIES:Greenhouse Schedule
END:VEVENT
BEGIN:VEVENT
DTSTART;TZID=America/Chicago:20250220T090000
DTEND;TZID=America/Chicago:20250220T140000
DTSTAMP:20260425T094325
CREATED:20250103T051007Z
LAST-MODIFIED:20250107T233436Z
UID:5433-1740042000-1740060000@baldwinmastergardeners.com
SUMMARY:Intern Class
DESCRIPTION:
URL:https://baldwinmastergardeners.com/calendar/intern-class-4/
LOCATION:Auburn Gulf Coast Research and Extension Center\, 8300 State Highway 104\, Fairhope\, AL\, 36532\, United States
CATEGORIES:Events Calendar
END:VEVENT
BEGIN:VEVENT
DTSTART;TZID=America/Chicago:20250220T083000
DTEND;TZID=America/Chicago:20250220T103000
DTSTAMP:20260425T094325
CREATED:20250216T231852Z
LAST-MODIFIED:20250216T231852Z
UID:5618-1740040200-1740047400@baldwinmastergardeners.com
SUMMARY:BCMG Greenhouse - CACC
DESCRIPTION:Every Monday and Thursday 8:30am -10:30am.
URL:https://baldwinmastergardeners.com/calendar/bcmg-greenhouse-cacc-16/
LOCATION:Costal Alabama Community College\, 450 Fairhope Ave\, Fairhope\, AL\, 36532\, United States
CATEGORIES:Greenhouse Schedule
END:VEVENT
BEGIN:VEVENT
DTSTART;TZID=America/Chicago:20250217T090000
DTEND;TZID=America/Chicago:20250217T110000
DTSTAMP:20260425T094325
CREATED:20250216T232525Z
LAST-MODIFIED:20250216T232525Z
UID:5636-1739782800-1739790000@baldwinmastergardeners.com
SUMMARY:BCMG Greenhouse - Daphne HS
DESCRIPTION:Every Monday and Friday 9:00am -11:00am.
URL:https://baldwinmastergardeners.com/calendar/bcmg-greenhouse-daphne-hs-6/
LOCATION:Costal Alabama Community College\, 450 Fairhope Ave\, Fairhope\, AL\, 36532\, United States
CATEGORIES:Greenhouse Schedule
END:VEVENT
BEGIN:VEVENT
DTSTART;TZID=America/Chicago:20250217T083000
DTEND;TZID=America/Chicago:20250217T103000
DTSTAMP:20260425T094325
CREATED:20250216T231829Z
LAST-MODIFIED:20250216T231829Z
UID:5616-1739781000-1739788200@baldwinmastergardeners.com
SUMMARY:BCMG Greenhouse - CACC
DESCRIPTION:Every Monday and Thursday 8:30am -10:30am.
URL:https://baldwinmastergardeners.com/calendar/bcmg-greenhouse-cacc-15/
LOCATION:Costal Alabama Community College\, 450 Fairhope Ave\, Fairhope\, AL\, 36532\, United States
CATEGORIES:Greenhouse Schedule
END:VEVENT
BEGIN:VEVENT
DTSTART;TZID=America/Chicago:20250215T100000
DTEND;TZID=America/Chicago:20250215T120000
DTSTAMP:20260425T094325
CREATED:20250103T071856Z
LAST-MODIFIED:20260125T022839Z
UID:5472-1739613600-1739620800@baldwinmastergardeners.com
SUMMARY:Arbor Day - Fairhope
DESCRIPTION:
URL:https://baldwinmastergardeners.com/calendar/arbor-day-fairhope-2/
LOCATION:Coastal Alabama Community College Fairhope Campus\, 450 Fairhope Ave\, Fairhope\, 36532\, United States
CATEGORIES:Events Calendar
END:VEVENT
BEGIN:VEVENT
DTSTART;TZID=America/Chicago:20250214T090000
DTEND;TZID=America/Chicago:20250214T110000
DTSTAMP:20260425T094325
CREATED:20250216T232457Z
LAST-MODIFIED:20250216T232457Z
UID:5634-1739523600-1739530800@baldwinmastergardeners.com
SUMMARY:BCMG Greenhouse - Daphne HS
DESCRIPTION:Every Monday and Friday 9:00am -11:00am.
URL:https://baldwinmastergardeners.com/calendar/bcmg-greenhouse-daphne-hs-5/
LOCATION:Costal Alabama Community College\, 450 Fairhope Ave\, Fairhope\, AL\, 36532\, United States
CATEGORIES:Greenhouse Schedule
END:VEVENT
BEGIN:VEVENT
DTSTART;VALUE=DATE:20250214
DTEND;VALUE=DATE:20250215
DTSTAMP:20260425T094325
CREATED:20250103T052341Z
LAST-MODIFIED:20250107T233439Z
UID:5455-1739491200-1739577599@baldwinmastergardeners.com
SUMMARY:Valentine's Day
DESCRIPTION:
URL:https://baldwinmastergardeners.com/calendar/valentines-day/
LOCATION:AL
CATEGORIES:Events Calendar
END:VEVENT
BEGIN:VEVENT
DTSTART;TZID=America/Chicago:20250213T090000
DTEND;TZID=America/Chicago:20250213T140000
DTSTAMP:20260425T094325
CREATED:20250103T050416Z
LAST-MODIFIED:20250107T233441Z
UID:5431-1739437200-1739455200@baldwinmastergardeners.com
SUMMARY:Intern Class
DESCRIPTION:
URL:https://baldwinmastergardeners.com/calendar/intern-class-3/
LOCATION:Auburn Gulf Coast Research and Extension Center\, 8300 State Highway 104\, Fairhope\, AL\, 36532\, United States
CATEGORIES:Events Calendar
END:VEVENT
BEGIN:VEVENT
DTSTART;TZID=America/Chicago:20250213T083000
DTEND;TZID=America/Chicago:20250213T103000
DTSTAMP:20260425T094325
CREATED:20250216T231801Z
LAST-MODIFIED:20250216T231801Z
UID:5614-1739435400-1739442600@baldwinmastergardeners.com
SUMMARY:BCMG Greenhouse - CACC
DESCRIPTION:Every Monday and Thursday 8:30am -10:30am.
URL:https://baldwinmastergardeners.com/calendar/bcmg-greenhouse-cacc-14/
LOCATION:Costal Alabama Community College\, 450 Fairhope Ave\, Fairhope\, AL\, 36532\, United States
CATEGORIES:Greenhouse Schedule
END:VEVENT
BEGIN:VEVENT
DTSTART;TZID=America/Chicago:20250212T093000
DTEND;TZID=America/Chicago:20250212T120000
DTSTAMP:20260425T094325
CREATED:20241031T060221Z
LAST-MODIFIED:20250107T233444Z
UID:5269-1739352600-1739361600@baldwinmastergardeners.com
SUMMARY:BCMG February Monthly Meeting (9:30 am Social\, 10:00 am Meeting)
DESCRIPTION:Volunteer Fair
URL:https://baldwinmastergardeners.com/calendar/bcmg-february-monthly-meeting-930-am-social-1000-am-meeting/
LOCATION:Auburn Gulf Coast Research and Extension Center\, 8300 State Highway 104\, Fairhope\, AL\, 36532\, United States
CATEGORIES:Events Calendar
ORGANIZER;CN="Baldwin County Master Gardeners":MAILTO:info@baldwinmastergardeners.com
END:VEVENT
BEGIN:VEVENT
DTSTART;TZID=America/Chicago:20250210T090000
DTEND;TZID=America/Chicago:20250210T110000
DTSTAMP:20260425T094325
CREATED:20250216T232433Z
LAST-MODIFIED:20250216T232433Z
UID:5632-1739178000-1739185200@baldwinmastergardeners.com
SUMMARY:BCMG Greenhouse - Daphne HS
DESCRIPTION:Every Monday and Friday 9:00am -11:00am.
URL:https://baldwinmastergardeners.com/calendar/bcmg-greenhouse-daphne-hs-4/
LOCATION:Costal Alabama Community College\, 450 Fairhope Ave\, Fairhope\, AL\, 36532\, United States
CATEGORIES:Greenhouse Schedule
END:VEVENT
BEGIN:VEVENT
DTSTART;TZID=America/Chicago:20250210T083000
DTEND;TZID=America/Chicago:20250210T103000
DTSTAMP:20260425T094325
CREATED:20250216T231731Z
LAST-MODIFIED:20250216T231731Z
UID:5612-1739176200-1739183400@baldwinmastergardeners.com
SUMMARY:BCMG Greenhouse - CACC
DESCRIPTION:Every Monday and Thursday 8:30am -10:30am.
URL:https://baldwinmastergardeners.com/calendar/bcmg-greenhouse-cacc-13/
LOCATION:Costal Alabama Community College\, 450 Fairhope Ave\, Fairhope\, AL\, 36532\, United States
CATEGORIES:Greenhouse Schedule
END:VEVENT
BEGIN:VEVENT
DTSTART;TZID=America/Chicago:20250207T090000
DTEND;TZID=America/Chicago:20250207T110000
DTSTAMP:20260425T094325
CREATED:20250216T232404Z
LAST-MODIFIED:20250216T232404Z
UID:5630-1738918800-1738926000@baldwinmastergardeners.com
SUMMARY:BCMG Greenhouse - Daphne HS
DESCRIPTION:Every Monday and Friday 9:00am -11:00am.
URL:https://baldwinmastergardeners.com/calendar/bcmg-greenhouse-daphne-hs-3/
LOCATION:Costal Alabama Community College\, 450 Fairhope Ave\, Fairhope\, AL\, 36532\, United States
CATEGORIES:Greenhouse Schedule
END:VEVENT
BEGIN:VEVENT
DTSTART;TZID=America/Chicago:20250206T090000
DTEND;TZID=America/Chicago:20250206T140000
DTSTAMP:20260425T094325
CREATED:20250103T050346Z
LAST-MODIFIED:20250107T233454Z
UID:5429-1738832400-1738850400@baldwinmastergardeners.com
SUMMARY:Intern Class
DESCRIPTION:
URL:https://baldwinmastergardeners.com/calendar/intern-class-2/
LOCATION:Auburn Gulf Coast Research and Extension Center\, 8300 State Highway 104\, Fairhope\, AL\, 36532\, United States
CATEGORIES:Events Calendar
END:VEVENT
END:VCALENDAR