BEGIN:VCALENDAR
VERSION:2.0
PRODID:-//Baldwin County Master Gardeners - ECPv6.15.20//NONSGML v1.0//EN
CALSCALE:GREGORIAN
METHOD:PUBLISH
X-WR-CALNAME:Baldwin County Master Gardeners
X-ORIGINAL-URL:https://baldwinmastergardeners.com
X-WR-CALDESC:Events for Baldwin County Master Gardeners
REFRESH-INTERVAL;VALUE=DURATION:PT1H
X-Robots-Tag:noindex
X-PUBLISHED-TTL:PT1H
BEGIN:VTIMEZONE
TZID:America/Chicago
BEGIN:DAYLIGHT
TZOFFSETFROM:-0600
TZOFFSETTO:-0500
TZNAME:CDT
DTSTART:20230312T080000
END:DAYLIGHT
BEGIN:STANDARD
TZOFFSETFROM:-0500
TZOFFSETTO:-0600
TZNAME:CST
DTSTART:20231105T070000
END:STANDARD
BEGIN:DAYLIGHT
TZOFFSETFROM:-0600
TZOFFSETTO:-0500
TZNAME:CDT
DTSTART:20240310T080000
END:DAYLIGHT
BEGIN:STANDARD
TZOFFSETFROM:-0500
TZOFFSETTO:-0600
TZNAME:CST
DTSTART:20241103T070000
END:STANDARD
BEGIN:DAYLIGHT
TZOFFSETFROM:-0600
TZOFFSETTO:-0500
TZNAME:CDT
DTSTART:20250309T080000
END:DAYLIGHT
BEGIN:STANDARD
TZOFFSETFROM:-0500
TZOFFSETTO:-0600
TZNAME:CST
DTSTART:20251102T070000
END:STANDARD
BEGIN:DAYLIGHT
TZOFFSETFROM:-0600
TZOFFSETTO:-0500
TZNAME:CDT
DTSTART:20260308T080000
END:DAYLIGHT
BEGIN:STANDARD
TZOFFSETFROM:-0500
TZOFFSETTO:-0600
TZNAME:CST
DTSTART:20261101T070000
END:STANDARD
END:VTIMEZONE
BEGIN:VEVENT
DTSTART;TZID=America/Chicago:20250130T090000
DTEND;TZID=America/Chicago:20250130T140000
DTSTAMP:20260425T100308
CREATED:20250103T050305Z
LAST-MODIFIED:20250107T233458Z
UID:5427-1738227600-1738245600@baldwinmastergardeners.com
SUMMARY:Intern Class
DESCRIPTION:
URL:https://baldwinmastergardeners.com/calendar/intern-class/
LOCATION:Auburn Gulf Coast Research and Extension Center\, 8300 State Highway 104\, Fairhope\, AL\, 36532\, United States
CATEGORIES:Events Calendar
END:VEVENT
BEGIN:VEVENT
DTSTART;TZID=America/Chicago:20250130T083000
DTEND;TZID=America/Chicago:20250130T103000
DTSTAMP:20260425T100308
CREATED:20250103T072712Z
LAST-MODIFIED:20250103T072712Z
UID:5491-1738225800-1738233000@baldwinmastergardeners.com
SUMMARY:BCMG Greenhouse - CACC
DESCRIPTION:Every Monday and Thursday 8:30am -10:30am.
URL:https://baldwinmastergardeners.com/calendar/bcmg-greenhouse-cacc-11/
LOCATION:Costal Alabama Community College\, 450 Fairhope Ave\, Fairhope\, AL\, 36532\, United States
CATEGORIES:Greenhouse Schedule
END:VEVENT
BEGIN:VEVENT
DTSTART;TZID=America/Chicago:20250127T090000
DTEND;TZID=America/Chicago:20250127T110000
DTSTAMP:20260425T100308
CREATED:20241107T055202Z
LAST-MODIFIED:20250216T232314Z
UID:5332-1737968400-1737975600@baldwinmastergardeners.com
SUMMARY:BCMG Greenhouse - Daphne HS
DESCRIPTION:Every Monday and Friday 9:00am -11:00am.
URL:https://baldwinmastergardeners.com/calendar/bcmg-greenhouse-coastal-alabama-community-college-3/
LOCATION:Costal Alabama Community College\, 450 Fairhope Ave\, Fairhope\, AL\, 36532\, United States
CATEGORIES:Greenhouse Schedule
END:VEVENT
BEGIN:VEVENT
DTSTART;TZID=America/Chicago:20250127T083000
DTEND;TZID=America/Chicago:20250127T103000
DTSTAMP:20260425T100308
CREATED:20250103T072643Z
LAST-MODIFIED:20250103T072643Z
UID:5489-1737966600-1737973800@baldwinmastergardeners.com
SUMMARY:BCMG Greenhouse - CACC
DESCRIPTION:Every Monday and Thursday 8:30am -10:30am.
URL:https://baldwinmastergardeners.com/calendar/bcmg-greenhouse-cacc-10/
LOCATION:Costal Alabama Community College\, 450 Fairhope Ave\, Fairhope\, AL\, 36532\, United States
CATEGORIES:Greenhouse Schedule
END:VEVENT
BEGIN:VEVENT
DTSTART;TZID=America/Chicago:20250125T090000
DTEND;TZID=America/Chicago:20250125T140000
DTSTAMP:20260425T100308
CREATED:20250105T165106Z
LAST-MODIFIED:20250107T233501Z
UID:5518-1737795600-1737813600@baldwinmastergardeners.com
SUMMARY:Seed & Plant Swap at Alabama Gulf Coast Zoo (flyer attached)
DESCRIPTION:Share and explore a world of seeds\, plants\, and gardening knowledge! \nAll event activities are included with paid zoo admission or zoo membership. Children under two are free.  For more information\, contact 251-256-7008.
URL:https://baldwinmastergardeners.com/calendar/seed-plant-swap-at-alabama-gulf-coast-zoo/
LOCATION:The Alabama Gulf Coast Zoo\, 20499 Oak Road East\, Gulf Shores\, AL\, 36542\, United States
CATEGORIES:Events Calendar
END:VEVENT
BEGIN:VEVENT
DTSTART;TZID=America/Chicago:20250124T090000
DTEND;TZID=America/Chicago:20250124T110000
DTSTAMP:20260425T100308
CREATED:20241107T235538Z
LAST-MODIFIED:20250103T074028Z
UID:5357-1737709200-1737716400@baldwinmastergardeners.com
SUMMARY:Greenhouse - Daphne HS
DESCRIPTION:Every Monday and Friday 9:00am -11:00am.
URL:https://baldwinmastergardeners.com/calendar/greenhouse-daphne-hs3/
LOCATION:Daphne High School\, 300 Lawson Rd\, Daphne\, 36526\, United States
CATEGORIES:Greenhouse Schedule
ORGANIZER;CN="Baldwin County Master Gardeners":MAILTO:info@baldwinmastergardeners.com
END:VEVENT
BEGIN:VEVENT
DTSTART;TZID=America/Chicago:20250123T090000
DTEND;TZID=America/Chicago:20250123T140000
DTSTAMP:20260425T100308
CREATED:20250103T050152Z
LAST-MODIFIED:20250107T233503Z
UID:5425-1737622800-1737640800@baldwinmastergardeners.com
SUMMARY:Intern Class starts
DESCRIPTION:
URL:https://baldwinmastergardeners.com/calendar/intern-class-starts/
LOCATION:Auburn Gulf Coast Research and Extension Center\, 8300 State Highway 104\, Fairhope\, AL\, 36532\, United States
CATEGORIES:Events Calendar
END:VEVENT
BEGIN:VEVENT
DTSTART;TZID=America/Chicago:20250123T083000
DTEND;TZID=America/Chicago:20250123T103000
DTSTAMP:20260425T100308
CREATED:20250103T072608Z
LAST-MODIFIED:20250103T072608Z
UID:5486-1737621000-1737628200@baldwinmastergardeners.com
SUMMARY:BCMG Greenhouse - CACC
DESCRIPTION:Every Monday and Thursday 8:30am -10:30am.
URL:https://baldwinmastergardeners.com/calendar/bcmg-greenhouse-cacc-9/
LOCATION:Costal Alabama Community College\, 450 Fairhope Ave\, Fairhope\, AL\, 36532\, United States
CATEGORIES:Greenhouse Schedule
END:VEVENT
BEGIN:VEVENT
DTSTART;TZID=America/Chicago:20250120T090000
DTEND;TZID=America/Chicago:20250120T110000
DTSTAMP:20260425T100308
CREATED:20250103T074807Z
LAST-MODIFIED:20250216T232802Z
UID:5497-1737363600-1737370800@baldwinmastergardeners.com
SUMMARY:BCMG Greenhouse - Daphne HS
DESCRIPTION:Every Monday and Friday 9:00am -11:00am.
URL:https://baldwinmastergardeners.com/calendar/bcmg-greenhouse-daphne-hs/
LOCATION:Costal Alabama Community College\, 450 Fairhope Ave\, Fairhope\, AL\, 36532\, United States
CATEGORIES:Greenhouse Schedule
END:VEVENT
BEGIN:VEVENT
DTSTART;TZID=America/Chicago:20250120T083000
DTEND;TZID=America/Chicago:20250120T103000
DTSTAMP:20260425T100308
CREATED:20250103T072539Z
LAST-MODIFIED:20250103T072539Z
UID:5484-1737361800-1737369000@baldwinmastergardeners.com
SUMMARY:BCMG Greenhouse - CACC
DESCRIPTION:Every Monday and Thursday 8:30am -10:30am.
URL:https://baldwinmastergardeners.com/calendar/bcmg-greenhouse-cacc-8/
LOCATION:Costal Alabama Community College\, 450 Fairhope Ave\, Fairhope\, AL\, 36532\, United States
CATEGORIES:Greenhouse Schedule
END:VEVENT
BEGIN:VEVENT
DTSTART;TZID=America/Chicago:20250117T090000
DTEND;TZID=America/Chicago:20250117T110000
DTSTAMP:20260425T100308
CREATED:20241108T000249Z
LAST-MODIFIED:20250103T073716Z
UID:5363-1737104400-1737111600@baldwinmastergardeners.com
SUMMARY:Greenhouse - Daphne HS
DESCRIPTION:Every Monday and Friday 9:00am -11:00am.
URL:https://baldwinmastergardeners.com/calendar/greenhouse-daphne-hs-3/
LOCATION:Daphne High School\, 300 Lawson Rd\, Daphne\, 36526\, United States
CATEGORIES:Greenhouse Schedule
END:VEVENT
BEGIN:VEVENT
DTSTART;TZID=America/Chicago:20250116T090000
DTEND;TZID=America/Chicago:20250116T120000
DTSTAMP:20260425T100308
CREATED:20250102T060827Z
LAST-MODIFIED:20250107T233842Z
UID:5423-1737018000-1737028800@baldwinmastergardeners.com
SUMMARY:Intern/Mentor Breakfast
DESCRIPTION:
URL:https://baldwinmastergardeners.com/calendar/intern-mentor-breakfast/
LOCATION:Auburn Gulf Coast Research and Extension Center\, 8300 State Highway 104\, Fairhope\, AL\, 36532\, United States
CATEGORIES:Events Calendar
END:VEVENT
BEGIN:VEVENT
DTSTART;TZID=America/Chicago:20250116T083000
DTEND;TZID=America/Chicago:20250116T103000
DTSTAMP:20260425T100308
CREATED:20250103T072504Z
LAST-MODIFIED:20250103T072504Z
UID:5482-1737016200-1737023400@baldwinmastergardeners.com
SUMMARY:BCMG Greenhouse - CACC
DESCRIPTION:Every Monday and Thursday 8:30am -10:30am.
URL:https://baldwinmastergardeners.com/calendar/bcmg-greenhouse-cacc-7/
LOCATION:Costal Alabama Community College\, 450 Fairhope Ave\, Fairhope\, AL\, 36532\, United States
CATEGORIES:Greenhouse Schedule
END:VEVENT
BEGIN:VEVENT
DTSTART;TZID=America/Chicago:20250115T093000
DTEND;TZID=America/Chicago:20250115T120000
DTSTAMP:20260425T100308
CREATED:20241031T060124Z
LAST-MODIFIED:20250107T233854Z
UID:5267-1736933400-1736942400@baldwinmastergardeners.com
SUMMARY:BCMG January Monthly Meeting (9:30 am Social\, 10:00 am Meeting)
DESCRIPTION:Guest Speaker: Dr. Jeremy Pickens\,  Assistant Extension Professor of Horticulture\, Specialized in Commercial Greenhouse and Nursery with Alabama Cooperative Extension System (ACES).\nTopic: Plant Propagation and Plant Patent Laws.
URL:https://baldwinmastergardeners.com/calendar/bcmg-january-monthly-meeting-930-am-social-1000-am-meeting/
LOCATION:Auburn Gulf Coast Research and Extension Center\, 8300 State Highway 104\, Fairhope\, AL\, 36532\, United States
CATEGORIES:Events Calendar
ORGANIZER;CN="Baldwin County Master Gardeners":MAILTO:info@baldwinmastergardeners.com
END:VEVENT
BEGIN:VEVENT
DTSTART;TZID=America/Chicago:20250113T090000
DTEND;TZID=America/Chicago:20250113T110000
DTSTAMP:20260425T100308
CREATED:20241107T233944Z
LAST-MODIFIED:20250103T074503Z
UID:5340-1736758800-1736766000@baldwinmastergardeners.com
SUMMARY:BCMG Greenhouse - Daphne HS
DESCRIPTION:Every Monday and Friday 9:00am -11:00am.
URL:https://baldwinmastergardeners.com/calendar/bcmg-greenhouse-cacc/
LOCATION:Costal Alabama Community College\, 450 Fairhope Ave\, Fairhope\, AL\, 36532\, United States
CATEGORIES:Greenhouse Schedule
END:VEVENT
BEGIN:VEVENT
DTSTART;TZID=America/Chicago:20250113T083000
DTEND;TZID=America/Chicago:20250113T103000
DTSTAMP:20260425T100308
CREATED:20250103T072432Z
LAST-MODIFIED:20250103T072432Z
UID:5480-1736757000-1736764200@baldwinmastergardeners.com
SUMMARY:BCMG Greenhouse - CACC
DESCRIPTION:Every Monday and Thursday 8:30am -10:30am.
URL:https://baldwinmastergardeners.com/calendar/bcmg-greenhouse-cacc-6/
LOCATION:Costal Alabama Community College\, 450 Fairhope Ave\, Fairhope\, AL\, 36532\, United States
CATEGORIES:Greenhouse Schedule
END:VEVENT
BEGIN:VEVENT
DTSTART;TZID=America/Chicago:20250110T090000
DTEND;TZID=America/Chicago:20250110T110000
DTSTAMP:20260425T100308
CREATED:20241108T000144Z
LAST-MODIFIED:20250103T073921Z
UID:5361-1736499600-1736506800@baldwinmastergardeners.com
SUMMARY:Greenhouse - Daphne HS
DESCRIPTION:Every Monday and Friday 9:00am -11:00am.
URL:https://baldwinmastergardeners.com/calendar/greenhouse-daphne-hs-2/
LOCATION:Daphne High School\, 300 Lawson Rd\, Daphne\, 36526\, United States
CATEGORIES:Greenhouse Schedule
END:VEVENT
BEGIN:VEVENT
DTSTART;TZID=America/Chicago:20250109T083000
DTEND;TZID=America/Chicago:20250109T103000
DTSTAMP:20260425T100308
CREATED:20250103T072358Z
LAST-MODIFIED:20250103T072358Z
UID:5478-1736411400-1736418600@baldwinmastergardeners.com
SUMMARY:BCMG Greenhouse - CACC
DESCRIPTION:Every Monday and Thursday 8:30am -10:30am.
URL:https://baldwinmastergardeners.com/calendar/bcmg-greenhouse-cacc-5/
LOCATION:Costal Alabama Community College\, 450 Fairhope Ave\, Fairhope\, AL\, 36532\, United States
CATEGORIES:Greenhouse Schedule
END:VEVENT
BEGIN:VEVENT
DTSTART;TZID=America/Chicago:20250108T093000
DTEND;TZID=America/Chicago:20250108T113000
DTSTAMP:20260425T100308
CREATED:20241204T051941Z
LAST-MODIFIED:20250107T233900Z
UID:5397-1736328600-1736335800@baldwinmastergardeners.com
SUMMARY:BCMG January Board Meeting
DESCRIPTION:
URL:https://baldwinmastergardeners.com/calendar/bcmg-january-board-meeting-2/
LOCATION:Auburn Gulf Coast Research and Extension Center\, 8300 State Highway 104\, Fairhope\, AL\, 36532\, United States
CATEGORIES:Events Calendar
ORGANIZER;CN="Baldwin County Master Gardeners":MAILTO:info@baldwinmastergardeners.com
END:VEVENT
BEGIN:VEVENT
DTSTART;TZID=America/Chicago:20250106T090000
DTEND;TZID=America/Chicago:20250106T110000
DTSTAMP:20260425T100308
CREATED:20241108T000325Z
LAST-MODIFIED:20250103T073333Z
UID:5365-1736154000-1736161200@baldwinmastergardeners.com
SUMMARY:Greenhouse - Daphne HS
DESCRIPTION:Every Monday and Friday 9:00am -11:00am.
URL:https://baldwinmastergardeners.com/calendar/greenhouse-daphne-hs-4/
LOCATION:Daphne High School\, 300 Lawson Rd\, Daphne\, 36526\, United States
CATEGORIES:Greenhouse Schedule
END:VEVENT
BEGIN:VEVENT
DTSTART;TZID=America/Chicago:20250106T083000
DTEND;TZID=America/Chicago:20250106T103000
DTSTAMP:20260425T100308
CREATED:20250103T072220Z
LAST-MODIFIED:20250103T072220Z
UID:5476-1736152200-1736159400@baldwinmastergardeners.com
SUMMARY:BCMG Greenhouse - CACC
DESCRIPTION:Every Monday and Thursday 8:30am -10:30am.
URL:https://baldwinmastergardeners.com/calendar/bcmg-greenhouse-cacc-4/
LOCATION:Costal Alabama Community College\, 450 Fairhope Ave\, Fairhope\, AL\, 36532\, United States
CATEGORIES:Greenhouse Schedule
END:VEVENT
BEGIN:VEVENT
DTSTART;TZID=America/Chicago:20250105T020000
DTEND;TZID=America/Chicago:20250105T160000
DTSTAMP:20260425T100308
CREATED:20250105T172155Z
LAST-MODIFIED:20250107T233903Z
UID:5525-1736042400-1736092800@baldwinmastergardeners.com
SUMMARY:K. Sawada Camellia Club First Meeting
DESCRIPTION:Guest Speaker will be Mr. Seth Allen\, MBG Director of Horticulture\, speaking on the K. Sawada Winter Camellia Garden.
URL:https://baldwinmastergardeners.com/calendar/k-sawada-camellia-club-first-meeting/
LOCATION:Mobile Botanical Garden\, 5151 Museum Dr\, Mobile\, AL\, 36608\, United States
CATEGORIES:Events Calendar
END:VEVENT
BEGIN:VEVENT
DTSTART;TZID=America/Chicago:20250103T090000
DTEND;TZID=America/Chicago:20250103T110000
DTSTAMP:20260425T100308
CREATED:20241107T055354Z
LAST-MODIFIED:20250103T074633Z
UID:5334-1735894800-1735902000@baldwinmastergardeners.com
SUMMARY:BCMG Greenhouse - Daphne HS
DESCRIPTION:Every Monday and Friday 9:00am -11:00am.
URL:https://baldwinmastergardeners.com/calendar/bcmg-greenhouse-coastal-alabama-community-college-4/
LOCATION:Costal Alabama Community College\, 450 Fairhope Ave\, Fairhope\, AL\, 36532\, United States
CATEGORIES:Greenhouse Schedule
END:VEVENT
BEGIN:VEVENT
DTSTART;TZID=America/Chicago:20250102T083000
DTEND;TZID=America/Chicago:20250102T103000
DTSTAMP:20260425T100308
CREATED:20250103T072146Z
LAST-MODIFIED:20250103T072146Z
UID:5474-1735806600-1735813800@baldwinmastergardeners.com
SUMMARY:BCMG Greenhouse - CACC
DESCRIPTION:Every Monday and Thursday 8:30am -10:30am.
URL:https://baldwinmastergardeners.com/calendar/bcmg-greenhouse-cacc-3/
LOCATION:Costal Alabama Community College\, 450 Fairhope Ave\, Fairhope\, AL\, 36532\, United States
CATEGORIES:Greenhouse Schedule
END:VEVENT
BEGIN:VEVENT
DTSTART;VALUE=DATE:20241231
DTEND;VALUE=DATE:20250101
DTSTAMP:20260425T100308
CREATED:20241204T051231Z
LAST-MODIFIED:20250107T233906Z
UID:5393-1735603200-1735689599@baldwinmastergardeners.com
SUMMARY:Deadline to Record Volunteer and CEU Hours for 2024
DESCRIPTION:
URL:https://baldwinmastergardeners.com/calendar/deadline-to-record-volunteer-and-ceu-hours-for-2024/
LOCATION:AL
CATEGORIES:Events Calendar
END:VEVENT
BEGIN:VEVENT
DTSTART;TZID=America/Chicago:20241211T103000
DTEND;TZID=America/Chicago:20241211T133000
DTSTAMP:20260425T100308
CREATED:20241031T054930Z
LAST-MODIFIED:20250107T233909Z
UID:5256-1733913000-1733923800@baldwinmastergardeners.com
SUMMARY:BCMG Award Luncheon and December Meeting
DESCRIPTION:December Award Luncheon is for BCMG members and invited guests only. (flyer attached)
URL:https://baldwinmastergardeners.com/calendar/bcmg-award-luncheon-and-december-meeting/
LOCATION:Foley Civic Center\, 407 E Laurel Ave\, Foley\, AL\, 36535\, United States
CATEGORIES:Events Calendar
END:VEVENT
BEGIN:VEVENT
DTSTART;TZID=America/Chicago:20241211T100000
DTEND;TZID=America/Chicago:20241211T110000
DTSTAMP:20260425T100308
CREATED:20241204T052921Z
LAST-MODIFIED:20250107T233912Z
UID:5402-1733911200-1733914800@baldwinmastergardeners.com
SUMMARY:Back 2 Basics Gardening Series
DESCRIPTION:
URL:https://baldwinmastergardeners.com/calendar/volunteer-fair-during-monthly-meeting/
LOCATION:AL
CATEGORIES:Events Calendar
END:VEVENT
BEGIN:VEVENT
DTSTART;VALUE=DATE:20241205
DTEND;VALUE=DATE:20241208
DTSTAMP:20260425T100308
CREATED:20241204T051551Z
LAST-MODIFIED:20250107T233915Z
UID:5395-1733356800-1733615999@baldwinmastergardeners.com
SUMMARY:Mobile County Master Gardeners Greenery Sale
DESCRIPTION:https://www.mobilecountymastergardeners.org/hgs24
URL:https://baldwinmastergardeners.com/calendar/mobile-county-master-gardeners-greenery-sale/
LOCATION:AL
CATEGORIES:Events Calendar
END:VEVENT
BEGIN:VEVENT
DTSTART;TZID=America/Chicago:20241204T093000
DTEND;TZID=America/Chicago:20241204T113000
DTSTAMP:20260425T100308
CREATED:20241029T221743Z
LAST-MODIFIED:20250107T234054Z
UID:5229-1733304600-1733311800@baldwinmastergardeners.com
SUMMARY:BCMG December Board Meeting
DESCRIPTION:
URL:https://baldwinmastergardeners.com/calendar/bcmg-december-board-meeting/
LOCATION:Auburn Gulf Coast Research and Extension Center\, 8300 State Highway 104\, Fairhope\, AL\, 36532\, United States
CATEGORIES:Events Calendar
ORGANIZER;CN="Baldwin County Master Gardeners":MAILTO:info@baldwinmastergardeners.com
END:VEVENT
BEGIN:VEVENT
DTSTART;TZID=America/Chicago:20241120T090000
DTEND;TZID=America/Chicago:20241120T140000
DTSTAMP:20260425T100308
CREATED:20241031T052724Z
LAST-MODIFIED:20250107T234106Z
UID:5245-1732093200-1732111200@baldwinmastergardeners.com
SUMMARY:ACES Workshop: Hydroponic for Home and School\, South Alabama
DESCRIPTION:Click here to register ($40 registration fee)\n\nIn this hands-on workshop\, participants will explore the fundamental principles of hydroponics\, learn how to start plants at home or school\, and master key concepts of four different types of hydroponic systems\, with an opportunity to construct and take home their own system by the end of the session.
URL:https://baldwinmastergardeners.com/calendar/hydroponic-workshop-for-home-and-school-south-alabama/
LOCATION:AL
CATEGORIES:Events Calendar
END:VEVENT
END:VCALENDAR