BEGIN:VCALENDAR
VERSION:2.0
PRODID:-//Baldwin County Master Gardeners - ECPv6.15.20//NONSGML v1.0//EN
CALSCALE:GREGORIAN
METHOD:PUBLISH
X-WR-CALNAME:Baldwin County Master Gardeners
X-ORIGINAL-URL:https://baldwinmastergardeners.com
X-WR-CALDESC:Events for Baldwin County Master Gardeners
REFRESH-INTERVAL;VALUE=DURATION:PT1H
X-Robots-Tag:noindex
X-PUBLISHED-TTL:PT1H
BEGIN:VTIMEZONE
TZID:America/Chicago
BEGIN:DAYLIGHT
TZOFFSETFROM:-0600
TZOFFSETTO:-0500
TZNAME:CDT
DTSTART:20250309T080000
END:DAYLIGHT
BEGIN:STANDARD
TZOFFSETFROM:-0500
TZOFFSETTO:-0600
TZNAME:CST
DTSTART:20251102T070000
END:STANDARD
BEGIN:DAYLIGHT
TZOFFSETFROM:-0600
TZOFFSETTO:-0500
TZNAME:CDT
DTSTART:20260308T080000
END:DAYLIGHT
BEGIN:STANDARD
TZOFFSETFROM:-0500
TZOFFSETTO:-0600
TZNAME:CST
DTSTART:20261101T070000
END:STANDARD
BEGIN:DAYLIGHT
TZOFFSETFROM:-0600
TZOFFSETTO:-0500
TZNAME:CDT
DTSTART:20270314T080000
END:DAYLIGHT
BEGIN:STANDARD
TZOFFSETFROM:-0500
TZOFFSETTO:-0600
TZNAME:CST
DTSTART:20271107T070000
END:STANDARD
END:VTIMEZONE
BEGIN:VEVENT
DTSTART;TZID=America/Chicago:20260312T090000
DTEND;TZID=America/Chicago:20260312T143000
DTSTAMP:20260423T172516
CREATED:20260117T011847Z
LAST-MODIFIED:20260124T130350Z
UID:6849-1773306000-1773325800@baldwinmastergardeners.com
SUMMARY:Intern Class
DESCRIPTION:
URL:https://baldwinmastergardeners.com/calendar/intern-class-20/
LOCATION:Auburn Gulf Coast Research and Extension Center\, 8300 State Highway 104\, Fairhope\, AL\, 36532\, United States
CATEGORIES:Events Calendar
END:VEVENT
BEGIN:VEVENT
DTSTART;TZID=America/Chicago:20260311T093000
DTEND;TZID=America/Chicago:20260311T120000
DTSTAMP:20260423T172516
CREATED:20260102T060524Z
LAST-MODIFIED:20260102T062412Z
UID:6617-1773221400-1773230400@baldwinmastergardeners.com
SUMMARY:BCMG March Monthly Meeting (9:30 am Social\, 10:00 am Meeting)
DESCRIPTION:
URL:https://baldwinmastergardeners.com/calendar/bcmg-november-monthly-meeting-930-am-social-1000-am-meeting-4/
LOCATION:Auburn Gulf Coast Research and Extension Center\, 8300 State Highway 104\, Fairhope\, AL\, 36532\, United States
CATEGORIES:Events Calendar
ORGANIZER;CN="Baldwin County Master Gardeners":MAILTO:info@baldwinmastergardeners.com
END:VEVENT
BEGIN:VEVENT
DTSTART;TZID=America/Chicago:20260310T180000
DTEND;TZID=America/Chicago:20260310T193000
DTSTAMP:20260423T172516
CREATED:20260111T212927Z
LAST-MODIFIED:20260216T054422Z
UID:6751-1773165600-1773171000@baldwinmastergardeners.com
SUMMARY:Tuesday with Master Gardeners
DESCRIPTION:Topic: All About Hydrangeas;\nSpeaker: Michelle Johns of Corner Copia Gardens in Fairhope;
URL:https://baldwinmastergardeners.com/calendar/tuesday-with-master-gardeners-2/
LOCATION:Auburn Gulf Coast Research and Extension Center\, 8300 State Highway 104\, Fairhope\, AL\, 36532\, United States
CATEGORIES:Events Calendar
END:VEVENT
BEGIN:VEVENT
DTSTART;TZID=America/Chicago:20260309T083000
DTEND;TZID=America/Chicago:20260309T110000
DTSTAMP:20260423T172516
CREATED:20260102T152912Z
LAST-MODIFIED:20260204T033008Z
UID:6709-1773045000-1773054000@baldwinmastergardeners.com
SUMMARY:BCMG Greenhouse - CACC
DESCRIPTION:Every Monday and Thursday 8:30–11:00 AM
URL:https://baldwinmastergardeners.com/calendar/bcmg-greenhouse-cacc-80/
LOCATION:Costal Alabama Community College\, 450 Fairhope Ave\, Fairhope\, AL\, 36532\, United States
CATEGORIES:Greenhouse Schedule
END:VEVENT
BEGIN:VEVENT
DTSTART;VALUE=DATE:20260308
DTEND;VALUE=DATE:20260309
DTSTAMP:20260423T172516
CREATED:20260302T183134Z
LAST-MODIFIED:20260304T161309Z
UID:7021-1772928000-1773014399@baldwinmastergardeners.com
SUMMARY:Daylight Saving Time starts
DESCRIPTION:Remember to spring forward one hour after 2am.
URL:https://baldwinmastergardeners.com/calendar/daylight-saving-time-starts/
CATEGORIES:Events Calendar
END:VEVENT
BEGIN:VEVENT
DTSTART;TZID=America/Chicago:20260306T083000
DTEND;TZID=America/Chicago:20260306T110000
DTSTAMP:20260423T172516
CREATED:20260102T153149Z
LAST-MODIFIED:20260204T031842Z
UID:6717-1772785800-1772794800@baldwinmastergardeners.com
SUMMARY:BCMG Greenhouse - CACC
DESCRIPTION:Every Monday and Thursday 8:30–11:00 AM
URL:https://baldwinmastergardeners.com/calendar/bcmg-greenhouse-cacc-84/
LOCATION:Costal Alabama Community College\, 450 Fairhope Ave\, Fairhope\, AL\, 36532\, United States
CATEGORIES:Greenhouse Schedule
END:VEVENT
BEGIN:VEVENT
DTSTART;TZID=America/Chicago:20260305T090000
DTEND;TZID=America/Chicago:20260305T143000
DTSTAMP:20260423T172516
CREATED:20260117T011833Z
LAST-MODIFIED:20260124T130433Z
UID:6847-1772701200-1772721000@baldwinmastergardeners.com
SUMMARY:Intern Class
DESCRIPTION:
URL:https://baldwinmastergardeners.com/calendar/intern-class-19/
LOCATION:Auburn Gulf Coast Research and Extension Center\, 8300 State Highway 104\, Fairhope\, AL\, 36532\, United States
CATEGORIES:Events Calendar
END:VEVENT
BEGIN:VEVENT
DTSTART;TZID=America/Chicago:20260304T093000
DTEND;TZID=America/Chicago:20260304T113000
DTSTAMP:20260423T172516
CREATED:20260102T055504Z
LAST-MODIFIED:20260102T063223Z
UID:6593-1772616600-1772623800@baldwinmastergardeners.com
SUMMARY:BCMG March Board Meeting
DESCRIPTION:
URL:https://baldwinmastergardeners.com/calendar/bcmg-november-board-meeting-5/
LOCATION:Auburn Gulf Coast Research and Extension Center\, 8300 State Highway 104\, Fairhope\, AL\, 36532\, United States
CATEGORIES:Events Calendar
END:VEVENT
BEGIN:VEVENT
DTSTART;TZID=America/Chicago:20260303T180000
DTEND;TZID=America/Chicago:20260303T193000
DTSTAMP:20260423T172516
CREATED:20260111T212834Z
LAST-MODIFIED:20260207T044754Z
UID:6749-1772560800-1772566200@baldwinmastergardeners.com
SUMMARY:Tuesday with Master Gardeners (see flyer)
DESCRIPTION:Topic: Got Native Milkweed?\nSpeaker: Carmen Flammini\, Extension Agent for Baldwin County;
URL:https://baldwinmastergardeners.com/calendar/tuesday-with-master-gardeners/
LOCATION:Auburn Gulf Coast Research and Extension Center\, 8300 State Highway 104\, Fairhope\, AL\, 36532\, United States
CATEGORIES:Events Calendar
END:VEVENT
BEGIN:VEVENT
DTSTART;TZID=America/Chicago:20260302T083000
DTEND;TZID=America/Chicago:20260302T110000
DTSTAMP:20260423T172516
CREATED:20260102T152851Z
LAST-MODIFIED:20260204T032221Z
UID:6707-1772440200-1772449200@baldwinmastergardeners.com
SUMMARY:BCMG Greenhouse - CACC
DESCRIPTION:Every Monday and Thursday 8:30–11:00 AM
URL:https://baldwinmastergardeners.com/calendar/bcmg-greenhouse-cacc-79/
LOCATION:Costal Alabama Community College\, 450 Fairhope Ave\, Fairhope\, AL\, 36532\, United States
CATEGORIES:Greenhouse Schedule
END:VEVENT
BEGIN:VEVENT
DTSTART;TZID=America/Chicago:20260228T100000
DTEND;TZID=America/Chicago:20260228T120000
DTSTAMP:20260423T172516
CREATED:20250216T000853Z
LAST-MODIFIED:20260127T202535Z
UID:5605-1772272800-1772280000@baldwinmastergardeners.com
SUMMARY:Arbor Day - Silverhill
DESCRIPTION:Contacts: Carolyn Koch and Shirley Stephens
URL:https://baldwinmastergardeners.com/calendar/arbor-day-silverhill/
LOCATION:Silverhill Communit Center\, 16111 South Ave\, Silverhill\, AL\, 36576\, United States
CATEGORIES:Events Calendar
END:VEVENT
BEGIN:VEVENT
DTSTART;TZID=America/Chicago:20260228T080000
DTEND;TZID=America/Chicago:20260228T090000
DTSTAMP:20260423T172516
CREATED:20250215T233732Z
LAST-MODIFIED:20260123T065016Z
UID:5599-1772265600-1772269200@baldwinmastergardeners.com
SUMMARY:Arbor Day - Bay Minette
DESCRIPTION:Contacts: Laurie Simpson and Jim Faulkner
URL:https://baldwinmastergardeners.com/calendar/arbor-day-bay-minette-3/
LOCATION:Bay Minette City Hall\, 301 D'olive Street\, Bay Minette\, AL\, 36507\, United States
CATEGORIES:Events Calendar
END:VEVENT
BEGIN:VEVENT
DTSTART;TZID=America/Chicago:20260228T000000
DTEND;TZID=America/Chicago:20260228T000000
DTSTAMP:20260423T172516
CREATED:20260127T201919Z
LAST-MODIFIED:20260127T201919Z
UID:6937-1772236800-1772236800@baldwinmastergardeners.com
SUMMARY:Arbor Day - Foley
DESCRIPTION:Time: Event starts at 12 noon;\nContacts: Beth Murray and Sue Ann Barnwell
URL:https://baldwinmastergardeners.com/calendar/arbor-day-foley/
LOCATION:Coastal Alabama Farmers and Fishermen’s Market\, 20801 Miflin Road\, Foley\, AL\, 36535\, United States
CATEGORIES:Events Calendar
END:VEVENT
BEGIN:VEVENT
DTSTART;TZID=America/Chicago:20260227T083000
DTEND;TZID=America/Chicago:20260227T110000
DTSTAMP:20260423T172516
CREATED:20260102T152745Z
LAST-MODIFIED:20260204T030416Z
UID:6705-1772181000-1772190000@baldwinmastergardeners.com
SUMMARY:BCMG Greenhouse - CACC
DESCRIPTION:Every Monday and Thursday 8:30–11:00 AM
URL:https://baldwinmastergardeners.com/calendar/bcmg-greenhouse-cacc-78/
LOCATION:Costal Alabama Community College\, 450 Fairhope Ave\, Fairhope\, AL\, 36532\, United States
CATEGORIES:Greenhouse Schedule
END:VEVENT
BEGIN:VEVENT
DTSTART;VALUE=DATE:20260227
DTEND;VALUE=DATE:20260228
DTSTAMP:20260423T172516
CREATED:20250215T233412Z
LAST-MODIFIED:20260127T202429Z
UID:5597-1772150400-1772236799@baldwinmastergardeners.com
SUMMARY:Arbor Day - Loxley
DESCRIPTION:Time: Event starts at 8 am;\nContacts: Sarah Duncan and Lynn Barnes
URL:https://baldwinmastergardeners.com/calendar/arbor-day-magnolia-springs/
LOCATION:Loxley Municipal Park\, N Hickory St.\, Loxley\, 36551\, United States
CATEGORIES:Events Calendar
END:VEVENT
BEGIN:VEVENT
DTSTART;TZID=America/Chicago:20260226T090000
DTEND;TZID=America/Chicago:20260226T143000
DTSTAMP:20260423T172516
CREATED:20260117T011815Z
LAST-MODIFIED:20260124T130526Z
UID:6845-1772096400-1772116200@baldwinmastergardeners.com
SUMMARY:Intern Class
DESCRIPTION:
URL:https://baldwinmastergardeners.com/calendar/intern-class-18/
LOCATION:Auburn Gulf Coast Research and Extension Center\, 8300 State Highway 104\, Fairhope\, AL\, 36532\, United States
CATEGORIES:Events Calendar
END:VEVENT
BEGIN:VEVENT
DTSTART;VALUE=DATE:20260225
DTEND;VALUE=DATE:20260226
DTSTAMP:20260423T172516
CREATED:20260223T020859Z
LAST-MODIFIED:20260223T020859Z
UID:7019-1771977600-1772063999@baldwinmastergardeners.com
SUMMARY:Camellia Garden Trip
DESCRIPTION:Meet at 8300 Hwy 104 at 8:15 am.  We will carpool since parking may be limited.\nBring water\, snack\, sack lunch\, or each car plan to make a late lunch stop on return trip.
URL:https://baldwinmastergardeners.com/calendar/camellia-garden-trip/
CATEGORIES:Events Calendar
END:VEVENT
BEGIN:VEVENT
DTSTART;TZID=America/Chicago:20260223T083000
DTEND;TZID=America/Chicago:20260223T110000
DTSTAMP:20260423T172516
CREATED:20260102T150624Z
LAST-MODIFIED:20260204T032729Z
UID:6683-1771835400-1771844400@baldwinmastergardeners.com
SUMMARY:BCMG Greenhouse - CACC
DESCRIPTION:Every Monday and Thursday 8:30–11:00 AM
URL:https://baldwinmastergardeners.com/calendar/bcmg-greenhouse-cacc-74/
LOCATION:Costal Alabama Community College\, 450 Fairhope Ave\, Fairhope\, AL\, 36532\, United States
CATEGORIES:Greenhouse Schedule
END:VEVENT
BEGIN:VEVENT
DTSTART;TZID=America/Chicago:20260221T100000
DTEND;TZID=America/Chicago:20260221T120000
DTSTAMP:20260423T172516
CREATED:20260123T064042Z
LAST-MODIFIED:20260125T023048Z
UID:6892-1771668000-1771675200@baldwinmastergardeners.com
SUMMARY:Arbor Day - Fairhope
DESCRIPTION:Contacts: Terry Delker and Tom Fortner
URL:https://baldwinmastergardeners.com/calendar/arbor-day-fairhope-3/
LOCATION:Coastal Alabama Community College Fairhope Campus\, 450 Fairhope Ave\, Fairhope\, 36532\, United States
CATEGORIES:Events Calendar
END:VEVENT
BEGIN:VEVENT
DTSTART;TZID=America/Chicago:20260221T083000
DTEND;TZID=America/Chicago:20260221T110000
DTSTAMP:20260423T172516
CREATED:20250215T232652Z
LAST-MODIFIED:20260123T064852Z
UID:5590-1771662600-1771671600@baldwinmastergardeners.com
SUMMARY:Arbor Day - Magnolia Springs
DESCRIPTION:Contacts: Deborah Marriott and Marcie Grace
URL:https://baldwinmastergardeners.com/calendar/arbor-day-bay-minette-2/
LOCATION:Magnolia Springs Volunteer Fire Station\, 14809 Gates Ave\, Magnolia Springs\, 36555\, United States
CATEGORIES:Events Calendar
END:VEVENT
BEGIN:VEVENT
DTSTART;TZID=America/Chicago:20260220T083000
DTEND;TZID=America/Chicago:20260220T110000
DTSTAMP:20260423T172516
CREATED:20260102T152703Z
LAST-MODIFIED:20260204T030518Z
UID:6703-1771576200-1771585200@baldwinmastergardeners.com
SUMMARY:BCMG Greenhouse - CACC
DESCRIPTION:Every Monday and Thursday 8:30–11:00 AM
URL:https://baldwinmastergardeners.com/calendar/bcmg-greenhouse-cacc-77/
LOCATION:Costal Alabama Community College\, 450 Fairhope Ave\, Fairhope\, AL\, 36532\, United States
CATEGORIES:Greenhouse Schedule
END:VEVENT
BEGIN:VEVENT
DTSTART;TZID=America/Chicago:20260219T090000
DTEND;TZID=America/Chicago:20260219T143000
DTSTAMP:20260423T172516
CREATED:20260117T011757Z
LAST-MODIFIED:20260124T130614Z
UID:6843-1771491600-1771511400@baldwinmastergardeners.com
SUMMARY:Intern Class
DESCRIPTION:
URL:https://baldwinmastergardeners.com/calendar/intern-class-17/
LOCATION:Auburn Gulf Coast Research and Extension Center\, 8300 State Highway 104\, Fairhope\, AL\, 36532\, United States
CATEGORIES:Events Calendar
END:VEVENT
BEGIN:VEVENT
DTSTART;TZID=America/Chicago:20260218T100000
DTEND;TZID=America/Chicago:20260218T110000
DTSTAMP:20260423T172516
CREATED:20260115T062341Z
LAST-MODIFIED:20260115T062341Z
UID:6825-1771408800-1771412400@baldwinmastergardeners.com
SUMMARY:ACES Back 2 Basics Gardening Webinar Series
DESCRIPTION:Click here to register.
URL:https://baldwinmastergardeners.com/calendar/aces-back-2-basics-gardening-webinar-series/
CATEGORIES:Events Calendar
END:VEVENT
BEGIN:VEVENT
DTSTART;TZID=America/Chicago:20260216T083000
DTEND;TZID=America/Chicago:20260216T110000
DTSTAMP:20260423T172516
CREATED:20260102T150557Z
LAST-MODIFIED:20260204T032806Z
UID:6681-1771230600-1771239600@baldwinmastergardeners.com
SUMMARY:BCMG Greenhouse - CACC
DESCRIPTION:Every Monday and Thursday 8:30–11:00 AM
URL:https://baldwinmastergardeners.com/calendar/bcmg-greenhouse-cacc-73/
LOCATION:Costal Alabama Community College\, 450 Fairhope Ave\, Fairhope\, AL\, 36532\, United States
CATEGORIES:Greenhouse Schedule
END:VEVENT
BEGIN:VEVENT
DTSTART;TZID=America/Chicago:20260213T083000
DTEND;TZID=America/Chicago:20260213T110000
DTSTAMP:20260423T172516
CREATED:20260102T151113Z
LAST-MODIFIED:20260204T030542Z
UID:6687-1770971400-1770980400@baldwinmastergardeners.com
SUMMARY:BCMG Greenhouse - CACC
DESCRIPTION:Every Monday and Thursday 8:30–11:00 AM
URL:https://baldwinmastergardeners.com/calendar/bcmg-greenhouse-cacc-76/
LOCATION:Costal Alabama Community College\, 450 Fairhope Ave\, Fairhope\, AL\, 36532\, United States
CATEGORIES:Greenhouse Schedule
END:VEVENT
BEGIN:VEVENT
DTSTART;TZID=America/Chicago:20260212T090000
DTEND;TZID=America/Chicago:20260212T143000
DTSTAMP:20260423T172516
CREATED:20260117T011740Z
LAST-MODIFIED:20260124T130638Z
UID:6841-1770886800-1770906600@baldwinmastergardeners.com
SUMMARY:Intern Class
DESCRIPTION:
URL:https://baldwinmastergardeners.com/calendar/intern-class-16/
LOCATION:Auburn Gulf Coast Research and Extension Center\, 8300 State Highway 104\, Fairhope\, AL\, 36532\, United States
CATEGORIES:Events Calendar
END:VEVENT
BEGIN:VEVENT
DTSTART;TZID=America/Chicago:20260211T093000
DTEND;TZID=America/Chicago:20260211T120000
DTSTAMP:20260423T172516
CREATED:20260102T060419Z
LAST-MODIFIED:20260207T050219Z
UID:6615-1770802200-1770811200@baldwinmastergardeners.com
SUMMARY:BCMG February Monthly Meeting and Volunteer Fair (Note: location change)
DESCRIPTION:Meeting Location: Graham Nature Preserve\, 23030 Wolf Bay Dr\, Foley\, AL 36535;\n– A special welcome from a Graham Creek team member who will share their future vision and explain how we’ll be partnering with them.\n– A review of Child Abuse Prevention training.\n– Insights into the different BCMG projects and programs across Baldwin County.
URL:https://baldwinmastergardeners.com/calendar/bcmg-november-monthly-meeting-930-am-social-1000-am-meeting-3/
LOCATION:Graham Nature Preserve\, 23030 Wolf Bay Dr\, Foley\, 36535\, United States
CATEGORIES:Events Calendar
ORGANIZER;CN="Baldwin County Master Gardeners":MAILTO:info@baldwinmastergardeners.com
END:VEVENT
BEGIN:VEVENT
DTSTART;TZID=America/Chicago:20260209T083000
DTEND;TZID=America/Chicago:20260209T103000
DTSTAMP:20260423T172516
CREATED:20260102T150538Z
LAST-MODIFIED:20260102T151052Z
UID:6679-1770625800-1770633000@baldwinmastergardeners.com
SUMMARY:BCMG Greenhouse - CACC
DESCRIPTION:Every Monday and Thursday 8:30–10:30 AM
URL:https://baldwinmastergardeners.com/calendar/bcmg-greenhouse-cacc-72/
LOCATION:Costal Alabama Community College\, 450 Fairhope Ave\, Fairhope\, AL\, 36532\, United States
CATEGORIES:Greenhouse Schedule
END:VEVENT
BEGIN:VEVENT
DTSTART;TZID=America/Chicago:20260205T090000
DTEND;TZID=America/Chicago:20260205T143000
DTSTAMP:20260423T172516
CREATED:20260117T011415Z
LAST-MODIFIED:20260124T130657Z
UID:6835-1770282000-1770301800@baldwinmastergardeners.com
SUMMARY:Intern Class
DESCRIPTION:
URL:https://baldwinmastergardeners.com/calendar/intern-class-15/
LOCATION:Auburn Gulf Coast Research and Extension Center\, 8300 State Highway 104\, Fairhope\, AL\, 36532\, United States
CATEGORIES:Events Calendar
END:VEVENT
BEGIN:VEVENT
DTSTART;TZID=America/Chicago:20260205T083000
DTEND;TZID=America/Chicago:20260205T103000
DTSTAMP:20260423T172516
CREATED:20260102T150644Z
LAST-MODIFIED:20260102T151147Z
UID:6685-1770280200-1770287400@baldwinmastergardeners.com
SUMMARY:BCMG Greenhouse - CACC
DESCRIPTION:Every Monday and Thursday 8:30–10:30 AM
URL:https://baldwinmastergardeners.com/calendar/bcmg-greenhouse-cacc-75/
LOCATION:Costal Alabama Community College\, 450 Fairhope Ave\, Fairhope\, AL\, 36532\, United States
CATEGORIES:Greenhouse Schedule
END:VEVENT
END:VCALENDAR