BEGIN:VCALENDAR
VERSION:2.0
PRODID:-//Baldwin County Master Gardeners - ECPv6.15.20//NONSGML v1.0//EN
CALSCALE:GREGORIAN
METHOD:PUBLISH
X-WR-CALNAME:Baldwin County Master Gardeners
X-ORIGINAL-URL:https://baldwinmastergardeners.com
X-WR-CALDESC:Events for Baldwin County Master Gardeners
REFRESH-INTERVAL;VALUE=DURATION:PT1H
X-Robots-Tag:noindex
X-PUBLISHED-TTL:PT1H
BEGIN:VTIMEZONE
TZID:America/Chicago
BEGIN:DAYLIGHT
TZOFFSETFROM:-0600
TZOFFSETTO:-0500
TZNAME:CDT
DTSTART:20240310T080000
END:DAYLIGHT
BEGIN:STANDARD
TZOFFSETFROM:-0500
TZOFFSETTO:-0600
TZNAME:CST
DTSTART:20241103T070000
END:STANDARD
BEGIN:DAYLIGHT
TZOFFSETFROM:-0600
TZOFFSETTO:-0500
TZNAME:CDT
DTSTART:20250309T080000
END:DAYLIGHT
BEGIN:STANDARD
TZOFFSETFROM:-0500
TZOFFSETTO:-0600
TZNAME:CST
DTSTART:20251102T070000
END:STANDARD
BEGIN:DAYLIGHT
TZOFFSETFROM:-0600
TZOFFSETTO:-0500
TZNAME:CDT
DTSTART:20260308T080000
END:DAYLIGHT
BEGIN:STANDARD
TZOFFSETFROM:-0500
TZOFFSETTO:-0600
TZNAME:CST
DTSTART:20261101T070000
END:STANDARD
END:VTIMEZONE
BEGIN:VEVENT
DTSTART;VALUE=DATE:20250414
DTEND;VALUE=DATE:20250419
DTSTAMP:20260425T074008
CREATED:20250305T073411Z
LAST-MODIFIED:20250305T073441Z
UID:5753-1744588800-1745020799@baldwinmastergardeners.com
SUMMARY:Baldwin County Schools Spring Break
DESCRIPTION:
URL:https://baldwinmastergardeners.com/calendar/baldwin-county-schools-spring-break/
LOCATION:AL
CATEGORIES:Events Calendar
END:VEVENT
BEGIN:VEVENT
DTSTART;TZID=America/Chicago:20250417T090000
DTEND;TZID=America/Chicago:20250417T140000
DTSTAMP:20260425T074008
CREATED:20250103T051534Z
LAST-MODIFIED:20250107T233610Z
UID:5449-1744880400-1744898400@baldwinmastergardeners.com
SUMMARY:Intern Class
DESCRIPTION:
URL:https://baldwinmastergardeners.com/calendar/intern-class-12/
LOCATION:Auburn Gulf Coast Research and Extension Center\, 8300 State Highway 104\, Fairhope\, AL\, 36532\, United States
CATEGORIES:Events Calendar
END:VEVENT
BEGIN:VEVENT
DTSTART;VALUE=DATE:20250420
DTEND;VALUE=DATE:20250421
DTSTAMP:20260425T074008
CREATED:20250225T080244Z
LAST-MODIFIED:20250225T080244Z
UID:5705-1745107200-1745193599@baldwinmastergardeners.com
SUMMARY:Easter Sunday
DESCRIPTION:
URL:https://baldwinmastergardeners.com/calendar/easter-sunday/
LOCATION:AL
END:VEVENT
BEGIN:VEVENT
DTSTART;VALUE=DATE:20250420
DTEND;VALUE=DATE:20250421
DTSTAMP:20260425T074008
CREATED:20250305T073601Z
LAST-MODIFIED:20250305T073601Z
UID:5755-1745107200-1745193599@baldwinmastergardeners.com
SUMMARY:Easter
DESCRIPTION:
URL:https://baldwinmastergardeners.com/calendar/easter/
LOCATION:AL
CATEGORIES:Events Calendar
END:VEVENT
BEGIN:VEVENT
DTSTART;TZID=America/Chicago:20250424T090000
DTEND;TZID=America/Chicago:20250424T140000
DTSTAMP:20260425T074008
CREATED:20250103T051748Z
LAST-MODIFIED:20250107T233607Z
UID:5453-1745485200-1745503200@baldwinmastergardeners.com
SUMMARY:Intern Presentation and Luncheon
DESCRIPTION:
URL:https://baldwinmastergardeners.com/calendar/intern-presentation-and-luncheon/
LOCATION:Auburn Gulf Coast Research and Extension Center\, 8300 State Highway 104\, Fairhope\, AL\, 36532\, United States
CATEGORIES:Events Calendar
END:VEVENT
BEGIN:VEVENT
DTSTART;TZID=America/Chicago:20250426T090000
DTEND;TZID=America/Chicago:20250426T160000
DTSTAMP:20260425T074008
CREATED:20250305T074357Z
LAST-MODIFIED:20250305T074357Z
UID:5759-1745658000-1745683200@baldwinmastergardeners.com
SUMMARY:Delta Woods & Water Expo at 5 Rivers
DESCRIPTION:https://www.deltawoodsandwatersexpo.com/
URL:https://baldwinmastergardeners.com/calendar/delta-woods-water-expo-at-5-rivers/
LOCATION:AWF Delta & Bay Conservation Center\, 30945 5 Rivers Boulevard\, Spanish Fort\, AL\, 36527\, United States
CATEGORIES:Events Calendar
END:VEVENT
BEGIN:VEVENT
DTSTART;TZID=America/Chicago:20250426T100000
DTEND;TZID=America/Chicago:20250426T140000
DTSTAMP:20260425T074008
CREATED:20250305T073641Z
LAST-MODIFIED:20250404T045233Z
UID:5757-1745661600-1745676000@baldwinmastergardeners.com
SUMMARY:Earth Day
DESCRIPTION:
URL:https://baldwinmastergardeners.com/calendar/earth-day/
LOCATION:Chickasabogue Park\, 760 Aldock Rd\,\, Eight Mile\, AL\, 36613\, United States
CATEGORIES:Events Calendar
END:VEVENT
BEGIN:VEVENT
DTSTART;TZID=America/Chicago:20250426T160000
DTEND;TZID=America/Chicago:20250426T190000
DTSTAMP:20260425T074008
CREATED:20250305T074823Z
LAST-MODIFIED:20250305T074823Z
UID:5764-1745683200-1745694000@baldwinmastergardeners.com
SUMMARY:Bald Eagle Bash at Weeks Bay
DESCRIPTION:http://SouthAlabamaLandTrust.org\n\n\nEvent Details: \n\nDate: Saturday\, April 26\, 2025\nTime: 4–7 PM\nLocation: Tonsmeire Weeks Bay Resource Center\n\n\n\n\n\n\n\n\n\n\n\n\nTicket Information: \n\nMarch 3: Early Bird SALT Members – $60\nMarch 10: SALT Members – $65 | General Admission – $75
URL:https://baldwinmastergardeners.com/calendar/bald-eagle-bash-at-weeks-bay/
LOCATION:AL
CATEGORIES:Events Calendar
END:VEVENT
BEGIN:VEVENT
DTSTART;TZID=America/Chicago:20250505T083000
DTEND;TZID=America/Chicago:20250505T103000
DTSTAMP:20260425T074008
CREATED:20250401T061835Z
LAST-MODIFIED:20250405T042516Z
UID:5840-1746433800-1746441000@baldwinmastergardeners.com
SUMMARY:BCMG Greenhouse - CACC
DESCRIPTION:Summer Weeding at the CACC Pollinator Garden — Every First and Third Monday\, 8:30–10:30 AM
URL:https://baldwinmastergardeners.com/calendar/bcmg-greenhouse-cacc-34/
LOCATION:Costal Alabama Community College\, 450 Fairhope Ave\, Fairhope\, AL\, 36532\, United States
CATEGORIES:Greenhouse Schedule
END:VEVENT
BEGIN:VEVENT
DTSTART;TZID=America/Chicago:20250507T093000
DTEND;TZID=America/Chicago:20250507T113000
DTSTAMP:20260425T074008
CREATED:20250414T061242Z
LAST-MODIFIED:20250414T061242Z
UID:5953-1746610200-1746617400@baldwinmastergardeners.com
SUMMARY:BCMG May Board Meeting
DESCRIPTION:
URL:https://baldwinmastergardeners.com/calendar/bcmg-may-board-meeting/
LOCATION:Auburn Gulf Coast Research and Extension Center\, 8300 State Highway 104\, Fairhope\, AL\, 36532\, United States
CATEGORIES:Events Calendar
END:VEVENT
BEGIN:VEVENT
DTSTART;VALUE=DATE:20250511
DTEND;VALUE=DATE:20250512
DTSTAMP:20260425T074008
CREATED:20250225T080328Z
LAST-MODIFIED:20250225T080328Z
UID:5707-1746921600-1747007999@baldwinmastergardeners.com
SUMMARY:Mother's Day
DESCRIPTION:
URL:https://baldwinmastergardeners.com/calendar/mothers-day/
LOCATION:AL
END:VEVENT
BEGIN:VEVENT
DTSTART;VALUE=DATE:20250511
DTEND;VALUE=DATE:20250512
DTSTAMP:20260425T074008
CREATED:20250404T051247Z
LAST-MODIFIED:20250404T051247Z
UID:5900-1746921600-1747007999@baldwinmastergardeners.com
SUMMARY:Mother's Day
DESCRIPTION:
URL:https://baldwinmastergardeners.com/calendar/mothers-day-2/
LOCATION:AL
END:VEVENT
BEGIN:VEVENT
DTSTART;TZID=America/Chicago:20250514T093000
DTEND;TZID=America/Chicago:20250514T120000
DTSTAMP:20260425T074008
CREATED:20250404T052053Z
LAST-MODIFIED:20250414T061117Z
UID:5908-1747215000-1747224000@baldwinmastergardeners.com
SUMMARY:BCMG May Monthly Meeting (9:30 am Social\, 10:00 am Meeting)
DESCRIPTION:
URL:https://baldwinmastergardeners.com/calendar/bcmg-march-monthly-meeting-930-am-social-1000-am-meeting-2/
LOCATION:Auburn Gulf Coast Research and Extension Center\, 8300 State Highway 104\, Fairhope\, AL\, 36532\, United States
CATEGORIES:Events Calendar
ORGANIZER;CN="Baldwin County Master Gardeners":MAILTO:info@baldwinmastergardeners.com
END:VEVENT
BEGIN:VEVENT
DTSTART;TZID=America/Chicago:20250514T100000
DTEND;TZID=America/Chicago:20250514T140000
DTSTAMP:20260425T074008
CREATED:20250428T013624Z
LAST-MODIFIED:20250428T014515Z
UID:6026-1747216800-1747231200@baldwinmastergardeners.com
SUMMARY:Back 2 Basics Gardening Series
DESCRIPTION:Topic: Natural Farming Practices\, with B. Lubresky\nwww.aces.edu/event/back-2-basics-gardening-series-online \nContact:\nAllyson Shabel\nams0137@aces.edu\n256-612-6766
URL:https://baldwinmastergardeners.com/calendar/back-2-basics-gardening-series/
LOCATION:AL
CATEGORIES:Events Calendar
END:VEVENT
BEGIN:VEVENT
DTSTART;TZID=America/Chicago:20250519T083000
DTEND;TZID=America/Chicago:20250519T103000
DTSTAMP:20260425T074008
CREATED:20250401T061710Z
LAST-MODIFIED:20250405T041617Z
UID:5836-1747643400-1747650600@baldwinmastergardeners.com
SUMMARY:BCMG Greenhouse - CACC
DESCRIPTION:Summer Weeding at the CACC Pollinator Garden — Every First and Third Monday\, 8:30–10:30 AM
URL:https://baldwinmastergardeners.com/calendar/bcmg-greenhouse-cacc-32/
LOCATION:Costal Alabama Community College\, 450 Fairhope Ave\, Fairhope\, AL\, 36532\, United States
CATEGORIES:Greenhouse Schedule
END:VEVENT
BEGIN:VEVENT
DTSTART;VALUE=DATE:20250522
DTEND;VALUE=DATE:20250523
DTSTAMP:20260425T074008
CREATED:20250404T051442Z
LAST-MODIFIED:20250414T044941Z
UID:5904-1747872000-1747958399@baldwinmastergardeners.com
SUMMARY:Baldwin County Schools - Last Day of 2024-25 School Year
DESCRIPTION:
URL:https://baldwinmastergardeners.com/calendar/baldwin-county-schools-last-day-of-2024-25-school-year/
LOCATION:AL
CATEGORIES:Events Calendar
END:VEVENT
BEGIN:VEVENT
DTSTART;VALUE=DATE:20250526
DTEND;VALUE=DATE:20250527
DTSTAMP:20260425T074008
CREATED:20250225T080416Z
LAST-MODIFIED:20250225T080416Z
UID:5709-1748217600-1748303999@baldwinmastergardeners.com
SUMMARY:Memorial Day
DESCRIPTION:
URL:https://baldwinmastergardeners.com/calendar/memorial-day/
LOCATION:AL
END:VEVENT
BEGIN:VEVENT
DTSTART;VALUE=DATE:20250526
DTEND;VALUE=DATE:20250527
DTSTAMP:20260425T074008
CREATED:20250404T051327Z
LAST-MODIFIED:20250414T045328Z
UID:5902-1748217600-1748303999@baldwinmastergardeners.com
SUMMARY:Memorial Day
DESCRIPTION:
URL:https://baldwinmastergardeners.com/calendar/memorial-day-2/
LOCATION:AL
CATEGORIES:Events Calendar
END:VEVENT
BEGIN:VEVENT
DTSTART;TZID=America/Chicago:20250528T100000
DTEND;TZID=America/Chicago:20250528T140000
DTSTAMP:20260425T074008
CREATED:20250428T014003Z
LAST-MODIFIED:20250428T014433Z
UID:6028-1748426400-1748440800@baldwinmastergardeners.com
SUMMARY:Back 2 Basics Gardening Series
DESCRIPTION:Topic: TBA\nwww.aces.edu/event/back-2-basics-gardening-series-online \nContact:\nAllyson Shabel\nams0137@aces.edu\n256-612-6766
URL:https://baldwinmastergardeners.com/calendar/back-2-basics-gardening-series-2/
LOCATION:AL
CATEGORIES:Events Calendar
END:VEVENT
BEGIN:VEVENT
DTSTART;TZID=America/Chicago:20250602T083000
DTEND;TZID=America/Chicago:20250602T103000
DTSTAMP:20260425T074008
CREATED:20250403T231219Z
LAST-MODIFIED:20250405T042403Z
UID:5866-1748853000-1748860200@baldwinmastergardeners.com
SUMMARY:BCMG Greenhouse - CACC
DESCRIPTION:Summer Weeding at the CACC Pollinator Garden — Every First and Third Monday\, 8:30–10:30 AM
URL:https://baldwinmastergardeners.com/calendar/bcmg-greenhouse-cacc-39/
LOCATION:Costal Alabama Community College\, 450 Fairhope Ave\, Fairhope\, AL\, 36532\, United States
CATEGORIES:Greenhouse Schedule
END:VEVENT
BEGIN:VEVENT
DTSTART;TZID=America/Chicago:20250603T093000
DTEND;TZID=America/Chicago:20250603T113000
DTSTAMP:20260425T074008
CREATED:20250414T061333Z
LAST-MODIFIED:20250612T001836Z
UID:5955-1748943000-1748950200@baldwinmastergardeners.com
SUMMARY:BCMG June Board Meeting
DESCRIPTION:
URL:https://baldwinmastergardeners.com/calendar/bcmg-june-board-meeting/
LOCATION:Auburn Gulf Coast Research and Extension Center\, 8300 State Highway 104\, Fairhope\, AL\, 36532\, United States
CATEGORIES:Events Calendar
END:VEVENT
BEGIN:VEVENT
DTSTART;TZID=America/Chicago:20250604T080000
DTEND;TZID=America/Chicago:20250604T170000
DTSTAMP:20260425T074008
CREATED:20250604T054908Z
LAST-MODIFIED:20250604T055710Z
UID:6128-1749024000-1749056400@baldwinmastergardeners.com
SUMMARY:Plant Swap at the Fairhope Public Library
DESCRIPTION:
URL:https://baldwinmastergardeners.com/calendar/plant-swap-at-the-fairhope-public-library/
LOCATION:Fairhope Public Library\, 501 Fairhope Ave\, Fairhope\, AL\, 36532\, United States
END:VEVENT
BEGIN:VEVENT
DTSTART;TZID=America/Chicago:20250610T100000
DTEND;TZID=America/Chicago:20250610T120000
DTSTAMP:20260425T074008
CREATED:20250604T053613Z
LAST-MODIFIED:20250604T053613Z
UID:6123-1749549600-1749556800@baldwinmastergardeners.com
SUMMARY:Kid's Nature Day Training/Planning
DESCRIPTION:
URL:https://baldwinmastergardeners.com/calendar/kids-nature-day-training-planning/
LOCATION:Foley Public Library\, 319 E Laurel Ave\, Foley\, AL\, 36535\, United States
END:VEVENT
BEGIN:VEVENT
DTSTART;TZID=America/Chicago:20250611T093000
DTEND;TZID=America/Chicago:20250611T120000
DTSTAMP:20260425T074008
CREATED:20250414T062028Z
LAST-MODIFIED:20250414T062028Z
UID:5969-1749634200-1749643200@baldwinmastergardeners.com
SUMMARY:BCMG June Monthly Meeting (9:30 am Social\, 10:00 am Meeting)
DESCRIPTION:
URL:https://baldwinmastergardeners.com/calendar/bcmg-june-monthly-meeting-930-am-social-1000-am-meeting/
LOCATION:Auburn Gulf Coast Research and Extension Center\, 8300 State Highway 104\, Fairhope\, AL\, 36532\, United States
CATEGORIES:Events Calendar
ORGANIZER;CN="Baldwin County Master Gardeners":MAILTO:info@baldwinmastergardeners.com
END:VEVENT
BEGIN:VEVENT
DTSTART;TZID=America/Chicago:20250611T100000
DTEND;TZID=America/Chicago:20250611T140000
DTSTAMP:20260425T074008
CREATED:20250428T014218Z
LAST-MODIFIED:20250428T014218Z
UID:6030-1749636000-1749650400@baldwinmastergardeners.com
SUMMARY:Back 2 Basics Gardening Series
DESCRIPTION:Topic: I Want It and I Want It Now: Practicing Patience in the Landscape with J. Potter\nwww.aces.edu/event/back-2-basics-gardening-series-online \nContact:\nAllyson Shabel\nams0137@aces.edu\n256-612-6766
URL:https://baldwinmastergardeners.com/calendar/back-2-basics-gardening-series-3/
LOCATION:AL
CATEGORIES:Events Calendar
END:VEVENT
BEGIN:VEVENT
DTSTART;TZID=America/Chicago:20250612T100000
DTEND;TZID=America/Chicago:20250612T120000
DTSTAMP:20260425T074008
CREATED:20250518T084243Z
LAST-MODIFIED:20250612T000555Z
UID:6092-1749722400-1749729600@baldwinmastergardeners.com
SUMMARY:ALABAMA Native Milkweed Project - Pollinator Collector Training
DESCRIPTION:
URL:https://baldwinmastergardeners.com/calendar/alabama-native-milkweed-project-pollinator-collector-training/
LOCATION:Auburn Gulf Coast Research and Extension Center\, 8300 State Highway 104\, Fairhope\, AL\, 36532\, United States
CATEGORIES:Events Calendar
END:VEVENT
BEGIN:VEVENT
DTSTART;VALUE=DATE:20250615
DTEND;VALUE=DATE:20250616
DTSTAMP:20260425T074008
CREATED:20250604T054407Z
LAST-MODIFIED:20250604T054407Z
UID:6126-1749945600-1750031999@baldwinmastergardeners.com
SUMMARY:Registration Deadline for Storm Ready: Hurricane Prep & Recovery Workshop
DESCRIPTION:Cost: $15\nLunch: Provided\nRegistration Link: www.aces.edu/go/stormready1\nFor questions: potterj@aces.edu or (334)-752-0799\nCome learn about safeguarding your home\, trees\, and landscape before the storm hits and recover quickly afterward. We’ll cover preparing your landscape and trees for extreme weather\, building an effective go bag\, planning for evacuation\, and staying safe using chainsaws and generators.\nAdditionally\, we will discuss the issues with insurance on the Gulf Coast\, particularly as it pertains to trees.
URL:https://baldwinmastergardeners.com/calendar/registration-deadline-for-storm-ready-hurricane-prep-recovery-workshop/
LOCATION:Auburn Gulf Coast Research and Extension Center\, 8300 State Highway 104\, Fairhope\, AL\, 36532\, United States
CATEGORIES:Events Calendar
END:VEVENT
BEGIN:VEVENT
DTSTART;VALUE=DATE:20250615
DTEND;VALUE=DATE:20250616
DTSTAMP:20260425T074008
CREATED:20250404T051522Z
LAST-MODIFIED:20250414T045211Z
UID:5906-1749945600-1750031999@baldwinmastergardeners.com
SUMMARY:Father's Day
DESCRIPTION:
URL:https://baldwinmastergardeners.com/calendar/fathers-day/
LOCATION:AL
CATEGORIES:Events Calendar
END:VEVENT
BEGIN:VEVENT
DTSTART;TZID=America/Chicago:20250616T083000
DTEND;TZID=America/Chicago:20250616T103000
DTSTAMP:20260425T074008
CREATED:20250403T231147Z
LAST-MODIFIED:20250405T042307Z
UID:5864-1750062600-1750069800@baldwinmastergardeners.com
SUMMARY:BCMG Greenhouse - CACC
DESCRIPTION:Summer Weeding at the CACC Pollinator Garden — Every First and Third Monday\, 8:30–10:30 AM
URL:https://baldwinmastergardeners.com/calendar/bcmg-greenhouse-cacc-38/
LOCATION:Costal Alabama Community College\, 450 Fairhope Ave\, Fairhope\, AL\, 36532\, United States
CATEGORIES:Greenhouse Schedule
END:VEVENT
BEGIN:VEVENT
DTSTART;TZID=America/Chicago:20250617T080000
DTEND;TZID=America/Chicago:20250617T120000
DTSTAMP:20260425T074008
CREATED:20250505T164732Z
LAST-MODIFIED:20250509T230713Z
UID:6046-1750147200-1750161600@baldwinmastergardeners.com
SUMMARY:Nature Day for Kids (Bay Minette)
DESCRIPTION:Registration required!  Reserve your spot at: https://al.4honline.com/
URL:https://baldwinmastergardeners.com/calendar/nature-day-for-kids-bay-minette/
LOCATION:Holly Hills Municipal Golf Course/Country Club\, 38934 Country Club Drive\, Bay Minette\, AL\, 36507\, United States
CATEGORIES:Events Calendar
END:VEVENT
END:VCALENDAR