BEGIN:VCALENDAR
VERSION:2.0
PRODID:-//Baldwin County Master Gardeners - ECPv6.15.20//NONSGML v1.0//EN
CALSCALE:GREGORIAN
METHOD:PUBLISH
X-ORIGINAL-URL:https://baldwinmastergardeners.com
X-WR-CALDESC:Events for Baldwin County Master Gardeners
REFRESH-INTERVAL;VALUE=DURATION:PT1H
X-Robots-Tag:noindex
X-PUBLISHED-TTL:PT1H
BEGIN:VTIMEZONE
TZID:America/Chicago
BEGIN:DAYLIGHT
TZOFFSETFROM:-0600
TZOFFSETTO:-0500
TZNAME:CDT
DTSTART:20250309T080000
END:DAYLIGHT
BEGIN:STANDARD
TZOFFSETFROM:-0500
TZOFFSETTO:-0600
TZNAME:CST
DTSTART:20251102T070000
END:STANDARD
BEGIN:DAYLIGHT
TZOFFSETFROM:-0600
TZOFFSETTO:-0500
TZNAME:CDT
DTSTART:20260308T080000
END:DAYLIGHT
BEGIN:STANDARD
TZOFFSETFROM:-0500
TZOFFSETTO:-0600
TZNAME:CST
DTSTART:20261101T070000
END:STANDARD
BEGIN:DAYLIGHT
TZOFFSETFROM:-0600
TZOFFSETTO:-0500
TZNAME:CDT
DTSTART:20270314T080000
END:DAYLIGHT
BEGIN:STANDARD
TZOFFSETFROM:-0500
TZOFFSETTO:-0600
TZNAME:CST
DTSTART:20271107T070000
END:STANDARD
END:VTIMEZONE
BEGIN:VEVENT
DTSTART;TZID=America/Chicago:20260513T093000
DTEND;TZID=America/Chicago:20260513T120000
DTSTAMP:20260423T124311
CREATED:20260102T060606Z
LAST-MODIFIED:20260102T062314Z
UID:6621-1778664600-1778673600@baldwinmastergardeners.com
SUMMARY:BCMG May Monthly Meeting (9:30 am Social\, 10:00 am Meeting)
DESCRIPTION:
URL:https://baldwinmastergardeners.com/calendar/bcmg-november-monthly-meeting-930-am-social-1000-am-meeting-6/
LOCATION:Auburn Gulf Coast Research and Extension Center\, 8300 State Highway 104\, Fairhope\, AL\, 36532\, United States
CATEGORIES:Events Calendar
ORGANIZER;CN="Baldwin County Master Gardeners":MAILTO:info@baldwinmastergardeners.com
END:VEVENT
BEGIN:VEVENT
DTSTART;TZID=America/Chicago:20260610T093000
DTEND;TZID=America/Chicago:20260610T120000
DTSTAMP:20260423T124311
CREATED:20260102T060650Z
LAST-MODIFIED:20260102T061953Z
UID:6623-1781083800-1781092800@baldwinmastergardeners.com
SUMMARY:BCMG June Monthly Meeting (9:30 am Social\, 10:00 am Meeting)
DESCRIPTION:
URL:https://baldwinmastergardeners.com/calendar/bcmg-november-monthly-meeting-930-am-social-1000-am-meeting-7/
LOCATION:Auburn Gulf Coast Research and Extension Center\, 8300 State Highway 104\, Fairhope\, AL\, 36532\, United States
CATEGORIES:Events Calendar
ORGANIZER;CN="Baldwin County Master Gardeners":MAILTO:info@baldwinmastergardeners.com
END:VEVENT
BEGIN:VEVENT
DTSTART;TZID=America/Chicago:20260708T093000
DTEND;TZID=America/Chicago:20260708T120000
DTSTAMP:20260423T124311
CREATED:20260102T060710Z
LAST-MODIFIED:20260102T061559Z
UID:6625-1783503000-1783512000@baldwinmastergardeners.com
SUMMARY:BCMG Award Luncheon
DESCRIPTION:This meeting is for members only.\nPlease bring a dish of your favorite recipe to the potluck luncheon.
URL:https://baldwinmastergardeners.com/calendar/bcmg-november-monthly-meeting-930-am-social-1000-am-meeting-8/
LOCATION:Auburn Gulf Coast Research and Extension Center\, 8300 State Highway 104\, Fairhope\, AL\, 36532\, United States
CATEGORIES:Events Calendar
ORGANIZER;CN="Baldwin County Master Gardeners":MAILTO:info@baldwinmastergardeners.com
END:VEVENT
BEGIN:VEVENT
DTSTART;TZID=America/Chicago:20260812T093000
DTEND;TZID=America/Chicago:20260812T120000
DTSTAMP:20260423T124311
CREATED:20260102T060736Z
LAST-MODIFIED:20260102T062241Z
UID:6627-1786527000-1786536000@baldwinmastergardeners.com
SUMMARY:BCMG August Monthly Meeting (9:30 am Social\, 10:00 am Meeting)
DESCRIPTION:
URL:https://baldwinmastergardeners.com/calendar/bcmg-november-monthly-meeting-930-am-social-1000-am-meeting-9/
LOCATION:Auburn Gulf Coast Research and Extension Center\, 8300 State Highway 104\, Fairhope\, AL\, 36532\, United States
CATEGORIES:Events Calendar
ORGANIZER;CN="Baldwin County Master Gardeners":MAILTO:info@baldwinmastergardeners.com
END:VEVENT
BEGIN:VEVENT
DTSTART;TZID=America/Chicago:20261014T093000
DTEND;TZID=America/Chicago:20261014T120000
DTSTAMP:20260423T124311
CREATED:20260102T060813Z
LAST-MODIFIED:20260102T061708Z
UID:6631-1791970200-1791979200@baldwinmastergardeners.com
SUMMARY:BCMG October Monthly Meeting (9:30 am Social\, 10:00 am Meeting)
DESCRIPTION:
URL:https://baldwinmastergardeners.com/calendar/bcmg-november-monthly-meeting-930-am-social-1000-am-meeting-11/
LOCATION:Auburn Gulf Coast Research and Extension Center\, 8300 State Highway 104\, Fairhope\, AL\, 36532\, United States
CATEGORIES:Events Calendar
ORGANIZER;CN="Baldwin County Master Gardeners":MAILTO:info@baldwinmastergardeners.com
END:VEVENT
BEGIN:VEVENT
DTSTART;TZID=America/Chicago:20261111T093000
DTEND;TZID=America/Chicago:20261111T120000
DTSTAMP:20260423T124311
CREATED:20260102T060836Z
LAST-MODIFIED:20260102T060836Z
UID:6633-1794389400-1794398400@baldwinmastergardeners.com
SUMMARY:BCMG November Monthly Meeting (9:30 am Social\, 10:00 am Meeting)
DESCRIPTION:
URL:https://baldwinmastergardeners.com/calendar/bcmg-november-monthly-meeting-930-am-social-1000-am-meeting-12/
LOCATION:Auburn Gulf Coast Research and Extension Center\, 8300 State Highway 104\, Fairhope\, AL\, 36532\, United States
CATEGORIES:Events Calendar
ORGANIZER;CN="Baldwin County Master Gardeners":MAILTO:info@baldwinmastergardeners.com
END:VEVENT
BEGIN:VEVENT
DTSTART;TZID=America/Chicago:20261209T100000
DTEND;TZID=America/Chicago:20261209T130000
DTSTAMP:20260423T124311
CREATED:20260102T061059Z
LAST-MODIFIED:20260102T152606Z
UID:6635-1796810400-1796821200@baldwinmastergardeners.com
SUMMARY:BCMG Christmas Awards Luncheon
DESCRIPTION:10:00 am  Social\n10:30 am  Business meeting\n11:00 am   Lunch\, followed by the awards ceremony
URL:https://baldwinmastergardeners.com/calendar/bcmg-christmas-awards-luncheon/
LOCATION:Auburn Gulf Coast Research and Extension Center\, 8300 State Highway 104\, Fairhope\, AL\, 36532\, United States
CATEGORIES:Events Calendar
ORGANIZER;CN="Baldwin County Master Gardeners":MAILTO:info@baldwinmastergardeners.com
END:VEVENT
END:VCALENDAR